BEGIN:VCALENDAR
VERSION:2.0
PRODID:-//St. Joseph, MO Convention &amp; Visitors Bureau - ECPv6.6.4.2//NONSGML v1.0//EN
CALSCALE:GREGORIAN
METHOD:PUBLISH
X-ORIGINAL-URL:https://stjomo.com
X-WR-CALDESC:Events for St. Joseph, MO Convention &amp; Visitors Bureau
REFRESH-INTERVAL;VALUE=DURATION:PT1H
X-Robots-Tag:noindex
X-PUBLISHED-TTL:PT1H
BEGIN:VTIMEZONE
TZID:America/Chicago
BEGIN:DAYLIGHT
TZOFFSETFROM:-0600
TZOFFSETTO:-0500
TZNAME:CDT
DTSTART:20210314T080000
END:DAYLIGHT
BEGIN:STANDARD
TZOFFSETFROM:-0500
TZOFFSETTO:-0600
TZNAME:CST
DTSTART:20211107T070000
END:STANDARD
BEGIN:DAYLIGHT
TZOFFSETFROM:-0600
TZOFFSETTO:-0500
TZNAME:CDT
DTSTART:20220313T080000
END:DAYLIGHT
BEGIN:STANDARD
TZOFFSETFROM:-0500
TZOFFSETTO:-0600
TZNAME:CST
DTSTART:20221106T070000
END:STANDARD
END:VTIMEZONE
BEGIN:VEVENT
DTSTART;VALUE=DATE:20210609
DTEND;VALUE=DATE:20220516
DTSTAMP:20260423T102003
CREATED:20211004T154838Z
LAST-MODIFIED:20211004T154939Z
UID:88442-1623196800-1652659199@stjomo.com
SUMMARY:St. Joseph Sculpture Walk
DESCRIPTION:The Sculpture Walk is a program of the Allied Arts Council that introduces contemporary outdoor public art and sculptures to our community. The Walk is a year-long exhibit of national\, juried\, outdoor sculptures displayed in Downtown St. Joseph and includes an eclectic mix of sculptures from artists nationwide. In 2021-22 there will be 21 sculptures on display. \nBROCHURE AND MAP HERE \nThe sculptures are owned by the artists and loaned to the Allied Arts Council for one year. Visitors are invited to vote for their favorite sculpture each year to determine the recipient of the People’s Choice Award. Brochures are available at various downtown businesses and in ballot boxes located near 8thand Felix\, 7th and Felix\, Edmond between 7th and 6th\, and the 500 block of Francis. To submit your vote\, simply tear off the voting panel and place it in one of the ballot boxes or bring it to the Allied Arts Council office\, or drop it through the mail slot at 118 S. 8th St.\, St. Joseph\, MO. \nThe program is made possible through a partnership with the City of St. Joseph and financial support from the Downtown Community Improvement District\, business sponsors\, and individual sponsors through the Friends of the Sculpture Walk. \nAll of the artwork on display is available for purchase. For more information\, or to purchase a sculpture\, please call the Allied Arts Council at 816-233-0231.
URL:https://stjomo.com/event/st-joseph-sculpture-walk/
LOCATION:Downtown St. Joseph\, St. Joseph\, MO\, 64501\, United States
ATTACH;FMTTYPE=image/jpeg:https://stjomo.com/wp-content/uploads/2021/10/210609-AAC-Sculpture-Walk-0111-scaled.jpg
END:VEVENT
BEGIN:VEVENT
DTSTART;TZID=America/Chicago:20211128T140000
DTEND;TZID=America/Chicago:20211128T160000
DTSTAMP:20260423T102003
CREATED:20211004T182809Z
LAST-MODIFIED:20211004T182809Z
UID:88600-1638108000-1638115200@stjomo.com
SUMMARY:A Nice Family Christmas
DESCRIPTION:It’s Christmas Eve\, and a young newspaper reporter on the brink of being fired has been assigned a last-chance story about a typical family Christmas – his family’s Christmas. He goes home to his recently widowed mother\, his crazy uncle\, his eccentric grandmother\, and his battling siblings and their neurotic spouses\, who provide no shortage of material. One by one\, we learn each family member’s secrets\, problems\, and dysfunctions\, and when they learn that he’s writing an article with some very personal family information\, the fruitcake hits the fan. The question is\, will the magic of Christmas bring this family back together? \nhttps://rrtstjoe.org/nice-family-christmas
URL:https://stjomo.com/event/a-nice-family-christmas-2/
LOCATION:Ruby Theatre\, 615 S. 10th\, St. Joseph\, MO\, 64501\, United States
ATTACH;FMTTYPE=image/jpeg:https://stjomo.com/wp-content/uploads/2021/10/nice_xmas_web.jpg
END:VEVENT
BEGIN:VEVENT
DTSTART;TZID=America/Chicago:20211128T140000
DTEND;TZID=America/Chicago:20211128T160000
DTSTAMP:20260423T102003
CREATED:20211108T155716Z
LAST-MODIFIED:20211108T155716Z
UID:88936-1638108000-1638115200@stjomo.com
SUMMARY:Lloyd Warner Memorial Dedication
DESCRIPTION:The racial terror lynching that occurred in 1933 is not widely known by the community of St. Joseph. (What does racial terror lynching mean?) The story of Lloyd Warner’s life and death has not been passed on to the following generations\, and it is our mission to make sure that St. Joseph remembers and memorializes his life. It is important to have a public recognition of this time in American history\, and to start the conversations of how far we have come\, and how far we still have to go to achieve racial justice in our nation. \nThe Black Archives Museum is part of the St. Joseph Museums\, Inc.\n\nSoil re-dedication and remembrance service.
URL:https://stjomo.com/event/lloyd-warner-memorial-dedication/
LOCATION:St. Joseph Museums\, 3406 Frederick Ave\, St. Joseph\, MO\, 64506\, United States
ATTACH;FMTTYPE=image/jpeg:https://stjomo.com/wp-content/uploads/2021/11/maxresdefault.jpg
ORGANIZER;CN="St. Joseph Museums":MAILTO:sjm@stjosephmuseum.org
END:VEVENT
END:VCALENDAR