BEGIN:VCALENDAR
VERSION:2.0
PRODID:-//St. Joseph, MO Convention &amp; Visitors Bureau - ECPv6.6.4.2//NONSGML v1.0//EN
CALSCALE:GREGORIAN
METHOD:PUBLISH
X-ORIGINAL-URL:https://stjomo.com
X-WR-CALDESC:Events for St. Joseph, MO Convention &amp; Visitors Bureau
REFRESH-INTERVAL;VALUE=DURATION:PT1H
X-Robots-Tag:noindex
X-PUBLISHED-TTL:PT1H
BEGIN:VTIMEZONE
TZID:America/Chicago
BEGIN:DAYLIGHT
TZOFFSETFROM:-0600
TZOFFSETTO:-0500
TZNAME:CDT
DTSTART:20210314T080000
END:DAYLIGHT
BEGIN:STANDARD
TZOFFSETFROM:-0500
TZOFFSETTO:-0600
TZNAME:CST
DTSTART:20211107T070000
END:STANDARD
BEGIN:DAYLIGHT
TZOFFSETFROM:-0600
TZOFFSETTO:-0500
TZNAME:CDT
DTSTART:20220313T080000
END:DAYLIGHT
BEGIN:STANDARD
TZOFFSETFROM:-0500
TZOFFSETTO:-0600
TZNAME:CST
DTSTART:20221106T070000
END:STANDARD
END:VTIMEZONE
BEGIN:VEVENT
DTSTART;VALUE=DATE:20210609
DTEND;VALUE=DATE:20220516
DTSTAMP:20260421T213209
CREATED:20211004T154838Z
LAST-MODIFIED:20211004T154939Z
UID:88442-1623196800-1652659199@stjomo.com
SUMMARY:St. Joseph Sculpture Walk
DESCRIPTION:The Sculpture Walk is a program of the Allied Arts Council that introduces contemporary outdoor public art and sculptures to our community. The Walk is a year-long exhibit of national\, juried\, outdoor sculptures displayed in Downtown St. Joseph and includes an eclectic mix of sculptures from artists nationwide. In 2021-22 there will be 21 sculptures on display. \nBROCHURE AND MAP HERE \nThe sculptures are owned by the artists and loaned to the Allied Arts Council for one year. Visitors are invited to vote for their favorite sculpture each year to determine the recipient of the People’s Choice Award. Brochures are available at various downtown businesses and in ballot boxes located near 8thand Felix\, 7th and Felix\, Edmond between 7th and 6th\, and the 500 block of Francis. To submit your vote\, simply tear off the voting panel and place it in one of the ballot boxes or bring it to the Allied Arts Council office\, or drop it through the mail slot at 118 S. 8th St.\, St. Joseph\, MO. \nThe program is made possible through a partnership with the City of St. Joseph and financial support from the Downtown Community Improvement District\, business sponsors\, and individual sponsors through the Friends of the Sculpture Walk. \nAll of the artwork on display is available for purchase. For more information\, or to purchase a sculpture\, please call the Allied Arts Council at 816-233-0231.
URL:https://stjomo.com/event/st-joseph-sculpture-walk/
LOCATION:Downtown St. Joseph\, St. Joseph\, MO\, 64501\, United States
ATTACH;FMTTYPE=image/jpeg:https://stjomo.com/wp-content/uploads/2021/10/210609-AAC-Sculpture-Walk-0111-scaled.jpg
END:VEVENT
BEGIN:VEVENT
DTSTART;TZID=America/Chicago:20220227T130000
DTEND;TZID=America/Chicago:20220227T160000
DTSTAMP:20260421T213209
CREATED:20220112T215954Z
LAST-MODIFIED:20220112T215954Z
UID:89206-1645966800-1645977600@stjomo.com
SUMMARY:Opening Reception: Regional High School Exhibition
DESCRIPTION:For 40+ years the AKMA has been showcasing the talent of high school artists in Northwest Missouri and Northeast Kansas. Artists\, peers\, family members\, and the community are invited to celebrate the opening of this annual tradition with an opening reception on Sunday afternoon\, February 27\, 2022. Opening receptions are free and open to the public. A “Best of Show” award will be presented along with honors for artists in each category.
URL:https://stjomo.com/event/opening-reception-regional-high-school-exhibition/
LOCATION:Albrecht Kemper Museum of Art\, 2818 Frederick Ave\, St. Joseph\, MO\, 64506\, United States
ATTACH;FMTTYPE=image/jpeg:https://stjomo.com/wp-content/uploads/2022/01/Albrecht-Kemper-11.jpg
END:VEVENT
BEGIN:VEVENT
DTSTART;TZID=America/Chicago:20220227T140000
DTEND;TZID=America/Chicago:20220227T150000
DTSTAMP:20260421T213209
CREATED:20220218T203541Z
LAST-MODIFIED:20220218T203541Z
UID:89433-1645970400-1645974000@stjomo.com
SUMMARY:Chamber Concert III - Encores for Violin and Piano  
DESCRIPTION:The St Joseph Symphony Presents: Dr. Chun-Chien Chuang and Dr. John Villaveces performing \nEncores for Violin and Piano   \nDr. Chuang enjoys her role as First Violin and the Concertmaster of the Saint Joseph Symphony and has played with many other orchestras across the Midwest and Taiwan. We are pleased to welcome her with her husband\, an accomplished pianist\, to engage us with their playing in a more intimate setting. The couple will charm and delight the audience with their depth of musicality and technique. Come to experience the dynamic musical conversation between the two.
URL:https://stjomo.com/event/chamber-concert-iii-encores-for-violin-and-piano/
LOCATION:Ashland United Methodist Church\, 2711 Ashland Ave\, St. Joseph\, MO\, 64506\, United States
ATTACH;FMTTYPE=image/png:https://stjomo.com/wp-content/uploads/2022/02/57921_event_md.png
END:VEVENT
END:VCALENDAR