BEGIN:VCALENDAR
VERSION:2.0
PRODID:-//St. Joseph, MO Convention &amp; Visitors Bureau - ECPv6.6.4.2//NONSGML v1.0//EN
CALSCALE:GREGORIAN
METHOD:PUBLISH
X-ORIGINAL-URL:https://stjomo.com
X-WR-CALDESC:Events for St. Joseph, MO Convention &amp; Visitors Bureau
REFRESH-INTERVAL;VALUE=DURATION:PT1H
X-Robots-Tag:noindex
X-PUBLISHED-TTL:PT1H
BEGIN:VTIMEZONE
TZID:America/Chicago
BEGIN:DAYLIGHT
TZOFFSETFROM:-0600
TZOFFSETTO:-0500
TZNAME:CDT
DTSTART:20220313T080000
END:DAYLIGHT
BEGIN:STANDARD
TZOFFSETFROM:-0500
TZOFFSETTO:-0600
TZNAME:CST
DTSTART:20221106T070000
END:STANDARD
END:VTIMEZONE
BEGIN:VEVENT
DTSTART;TZID=America/Chicago:20220627T190000
DTEND;TZID=America/Chicago:20220627T220000
DTSTAMP:20260421T101749
CREATED:20220531T182459Z
LAST-MODIFIED:20220531T182634Z
UID:90159-1656356400-1656367200@stjomo.com
SUMMARY:Mustangs v. Clarinda A's
DESCRIPTION:All home games start at 7:00 p.m. unless otherwise noted. \nMonday\, June 27: Splash Day: Water-themed activities are located all around the stadium.
URL:https://stjomo.com/event/mustangs-v-joplin-outlaws/
LOCATION:Phil Welch Stadium\, 2600 SW Parkway\, St. Joseph\, MO\, 64503\, United States
ATTACH;FMTTYPE=image/jpeg:https://stjomo.com/wp-content/uploads/2018/05/Mustangs-Baseball-24.jpg
END:VEVENT
END:VCALENDAR