BEGIN:VCALENDAR
VERSION:2.0
PRODID:-//St. Joseph, MO Convention &amp; Visitors Bureau - ECPv6.6.4.2//NONSGML v1.0//EN
CALSCALE:GREGORIAN
METHOD:PUBLISH
X-ORIGINAL-URL:https://stjomo.com
X-WR-CALDESC:Events for St. Joseph, MO Convention &amp; Visitors Bureau
REFRESH-INTERVAL;VALUE=DURATION:PT1H
X-Robots-Tag:noindex
X-PUBLISHED-TTL:PT1H
BEGIN:VTIMEZONE
TZID:America/Chicago
BEGIN:DAYLIGHT
TZOFFSETFROM:-0600
TZOFFSETTO:-0500
TZNAME:CDT
DTSTART:20220313T080000
END:DAYLIGHT
BEGIN:STANDARD
TZOFFSETFROM:-0500
TZOFFSETTO:-0600
TZNAME:CST
DTSTART:20221106T070000
END:STANDARD
END:VTIMEZONE
BEGIN:VEVENT
DTSTART;TZID=America/Chicago:20220819T183000
DTEND;TZID=America/Chicago:20220819T213000
DTSTAMP:20260422T233011
CREATED:20220412T203406Z
LAST-MODIFIED:20220412T204640Z
UID:89666-1660933800-1660944600@stjomo.com
SUMMARY:Sounds of Summer featuring True North
DESCRIPTION:The St. Joseph Downtown Association invites you downtown to enjoy an evening with your family and friends listening to live music under the stars EVERY 3rd FRIDAY from MAY to OCTOBER. \nEach Free Friday night concert will feature a different band playing family friendly music. Bring a beach chair or blanket. For your convenience\, snacks and drinks will be available for purchase. No coolers or outside alcohol permitted. \nTrue North has been recording and performing together since 2002 with concert appearances throughout Middle America and opening for acts such as Miranda Lambert\, The Band Perry\, Darius Rucker and Cross Canadian Ragweed. \nBe sure to join us at Jake’s Steakhouse & Sports Bar (620 Edmond) for the official After Party! \nLocation: Coleman Hawkins Park in Felix Street Square\n713 Felix – Downtown St. Joseph\, MO\nTime: 6:30 – 9:30 PM\nFREE Admission & Open to all ages
URL:https://stjomo.com/event/sounds-of-summer-featuring-true-north/
LOCATION:Felix Street Square\, 701 Felix Street\, St. Joseph\, MO\, 64501\, United States
ATTACH;FMTTYPE=image/jpeg:https://stjomo.com/wp-content/uploads/2022/04/278183014_5225723144116904_4019609329714908899_n.jpg
END:VEVENT
BEGIN:VEVENT
DTSTART;TZID=America/Chicago:20220819T183000
DTEND;TZID=America/Chicago:20220819T213000
DTSTAMP:20260422T233011
CREATED:20220513T185013Z
LAST-MODIFIED:20220513T203827Z
UID:90027-1660933800-1660944600@stjomo.com
SUMMARY:Summer Nights Downtown
DESCRIPTION:Beat the heat by enjoying the COOLEST VIBES in downtown St. Joseph!\n\nThis summer\, Third Fridays downtown combines the dining and drinking experiences you know and love with LIVE music in the park\, and special evening shopping hours from select businesses!\n\nBands\, specials\, and a list of shops offering evening hours will vary month to month.\nSee the monthly list for details at https://downtownstjoemo.com/events/summer-nights-downtown/
URL:https://stjomo.com/event/summer-nights-downtown-4/
LOCATION:Felix Street Square\, 701 Felix Street\, St. Joseph\, MO\, 64501\, United States
ATTACH;FMTTYPE=image/jpeg:https://stjomo.com/wp-content/uploads/2022/05/280925380_524272386083551_7493952734925761299_n.jpg
END:VEVENT
END:VCALENDAR