BEGIN:VCALENDAR
VERSION:2.0
PRODID:-//St. Joseph, MO Convention &amp; Visitors Bureau - ECPv6.6.4.2//NONSGML v1.0//EN
CALSCALE:GREGORIAN
METHOD:PUBLISH
X-WR-CALNAME:St. Joseph, MO Convention &amp; Visitors Bureau
X-ORIGINAL-URL:https://stjomo.com
X-WR-CALDESC:Events for St. Joseph, MO Convention &amp; Visitors Bureau
REFRESH-INTERVAL;VALUE=DURATION:PT1H
X-Robots-Tag:noindex
X-PUBLISHED-TTL:PT1H
BEGIN:VTIMEZONE
TZID:America/Chicago
BEGIN:DAYLIGHT
TZOFFSETFROM:-0600
TZOFFSETTO:-0500
TZNAME:CDT
DTSTART:20220313T080000
END:DAYLIGHT
BEGIN:STANDARD
TZOFFSETFROM:-0500
TZOFFSETTO:-0600
TZNAME:CST
DTSTART:20221106T070000
END:STANDARD
END:VTIMEZONE
BEGIN:VEVENT
DTSTART;TZID=America/Chicago:20221008T070000
DTEND;TZID=America/Chicago:20221008T130000
DTSTAMP:20260425T075451
CREATED:20220429T185727Z
LAST-MODIFIED:20220429T185727Z
UID:89849-1665212400-1665234000@stjomo.com
SUMMARY:Pony Express Farmers Market
DESCRIPTION:The farmers’ market is open Wednesdays & Saturdays\, 7 am-1 pm\, in the East Hills Mall parking lot off Woodbine Road. \nThe Pony Express Farmers’ Market is a grower-only farmers’ market.  Vendors may be inspected prior to setting up at the market to ensure that customers are buying directly from the grower.  We strive to offer the freshest and most natural products possible whether it be from the farmer\, gardener\, baker\, beekeeper\, cook\, or artisan.  Our vendors are proud of their products and enjoy sharing them with you.
URL:https://stjomo.com/event/pony-express-farmers-market-2022-10-08/
LOCATION:East Hills Shopping Center\, 3702 Frederick Ave\, St. Joseph\, MO\, 64502\, United States
ATTACH;FMTTYPE=image/jpeg:https://stjomo.com/wp-content/uploads/2022/04/240585679_247941434005724_5375653478166001483_n.jpg
END:VEVENT
BEGIN:VEVENT
DTSTART;TZID=America/Chicago:20221008T110000
DTEND;TZID=America/Chicago:20221008T210000
DTSTAMP:20260425T075451
CREATED:20211004T204712Z
LAST-MODIFIED:20220929T161601Z
UID:91535-1665226800-1665262800@stjomo.com
SUMMARY:PumpkinFest 2022
DESCRIPTION:Save the dates of October 7\, 8 and 9 to come to the Museum and Patee Park to share the fun with the entire family!  We will light up Pumpkin Mountain on Friday and Saturday nights at 8 pm.  The annual children’s costume contest and parade will be marching on Saturday morning at 11 am.  We may add a pumpkin carving contest this year – stay tuned for details!!! \nWe’re planning some great entertainment on the main stage and at the gazebo\, both in Patee Park. \nPlease stop by and visit our many vendors during the festival\, including Up\, Up & Away Balloon Art and Evans Carnival rides. \nPlease bring the little ones on Saturday and Sunday to the Children’s Tent for free baby pumpkins and decorations or to the Pumpkin Shop where they can spend a little money to purchase gifts for family and friends.  The Pony Express Prospectors will be back again this year\, demonstrating how to pan for gold and other club activities all three days! \nBe sure to check this page regularly\, as we’ll be posting updates soon! \nhttps://www.ponyexpress.org/pumpkinfest-2022
URL:https://stjomo.com/event/pumpkinfest-2021-2022-10-08/
LOCATION:Pony Express National Museum\, 914 Penn St.\, St. Joseph\, MO\, 64503\, United States
ATTACH;FMTTYPE=image/jpeg:https://stjomo.com/wp-content/uploads/2017/09/PumpkinFest.jpg
END:VEVENT
BEGIN:VEVENT
DTSTART;TZID=America/Chicago:20221008T160000
DTEND;TZID=America/Chicago:20221008T193000
DTSTAMP:20260425T075451
CREATED:20211004T185927Z
LAST-MODIFIED:20211004T185927Z
UID:89764-1665244800-1665257400@stjomo.com
SUMMARY:Cruise-N The Village Car Show
DESCRIPTION:Free Dash plaques to show vehicles Free Registration T-shirt raffle\, music\, 50/50 pot. \nPop and water available. Bring your classic car/truck\, your lawn chair and friends and family to enjoy a nice evening. (No alcohol) Please bring canned goods to support local food bank. \nSponsored by Northwest Missouri Street Rods.
URL:https://stjomo.com/event/cruise-n-the-village-car-show-2022-05-15-2022-10-08/
LOCATION:East Ridge Villiage Shoppig Center\, 3819 Frederick Ave\, St. Joseph\, MO\, 64506\, United States
ATTACH;FMTTYPE=image/jpeg:https://stjomo.com/wp-content/uploads/2021/10/5f7d18c19f27b.image_.jpg
END:VEVENT
BEGIN:VEVENT
DTSTART;TZID=America/Chicago:20221008T183000
DTEND;TZID=America/Chicago:20221008T220000
DTSTAMP:20260425T075451
CREATED:20220825T151719Z
LAST-MODIFIED:20220929T155630Z
UID:91141-1665253800-1665266400@stjomo.com
SUMMARY:Haunted Harris-Kemper Walking Tour
DESCRIPTION:Halloween-themed tour focus on the architecture of Harris-Kemper Neighborhood with costumed tour guides\, spooky stories and refreshments. \nThis year’s theme is “Talking Porches”\, which showcases St. Joseph mid-town’s architectural gems and their ghost stories. \nTours begin at 6:30pm departing from the Whiskey Manson (1723 Francis St.) \n  \nIn addition\, St. Joseph’s acclaimed local psychics will be available for personal mind-readings. \nFor tickets and information\, please call 816-244-8211
URL:https://stjomo.com/event/haunted-harris-kemper-walking-tour/
LOCATION:MO
ATTACH;FMTTYPE=image/jpeg:https://stjomo.com/wp-content/uploads/2019/03/Harris-Kemper-neighborhood.jpg
END:VEVENT
END:VCALENDAR