BEGIN:VCALENDAR
VERSION:2.0
PRODID:-//St. Joseph, MO Convention &amp; Visitors Bureau - ECPv6.6.4.2//NONSGML v1.0//EN
CALSCALE:GREGORIAN
METHOD:PUBLISH
X-ORIGINAL-URL:https://stjomo.com
X-WR-CALDESC:Events for St. Joseph, MO Convention &amp; Visitors Bureau
REFRESH-INTERVAL;VALUE=DURATION:PT1H
X-Robots-Tag:noindex
X-PUBLISHED-TTL:PT1H
BEGIN:VTIMEZONE
TZID:America/Chicago
BEGIN:DAYLIGHT
TZOFFSETFROM:-0600
TZOFFSETTO:-0500
TZNAME:CDT
DTSTART:20220313T080000
END:DAYLIGHT
BEGIN:STANDARD
TZOFFSETFROM:-0500
TZOFFSETTO:-0600
TZNAME:CST
DTSTART:20221106T070000
END:STANDARD
END:VTIMEZONE
BEGIN:VEVENT
DTSTART;TZID=America/Chicago:20221030T150000
DTEND;TZID=America/Chicago:20221030T150000
DTSTAMP:20260422T084429
CREATED:20221028T203611Z
LAST-MODIFIED:20221028T203611Z
UID:91957-1667142000-1667142000@stjomo.com
SUMMARY:The Vincents at Magoon's Famous Delicatessen
DESCRIPTION:The Vincents are a high-energy rockabilly\, country and bluegrass inspired show band! They’ll be coming to Magoon’s at 3pm\, October 30th at the bar and music venue. The show is open to all ages!
URL:https://stjomo.com/event/the-vincents-at-magoons-famous-delicatessen/
LOCATION:Magoon’s Famous Delicatessen\, 632 S 8th St\, Saint Joseph\, MO\, 64501\, United States
ATTACH;FMTTYPE=image/png:https://stjomo.com/wp-content/uploads/2022/10/Vincents-at-Magoons.png
END:VEVENT
BEGIN:VEVENT
DTSTART;TZID=America/Chicago:20221030T150000
DTEND;TZID=America/Chicago:20221030T170000
DTSTAMP:20260422T084429
CREATED:20221028T201102Z
LAST-MODIFIED:20221028T201102Z
UID:91952-1667142000-1667149200@stjomo.com
SUMMARY:Trunk Or Treat
DESCRIPTION:Cars will be set up in the back parking lot for our Trunk or Treaters. Sunday\, October 30th from 3pm – 5pm.
URL:https://stjomo.com/event/trunk-or-treat/
LOCATION:St. Paul Luthera Church\, 4715 Frederick Ave\, Saint Joseph\, MO\, 64506\, United States
ATTACH;FMTTYPE=image/png:https://stjomo.com/wp-content/uploads/2022/10/Trunk-or-Treat-St-Paul.png
END:VEVENT
END:VCALENDAR