BEGIN:VCALENDAR
VERSION:2.0
PRODID:-//St. Joseph, MO Convention &amp; Visitors Bureau - ECPv6.6.4.2//NONSGML v1.0//EN
CALSCALE:GREGORIAN
METHOD:PUBLISH
X-WR-CALNAME:St. Joseph, MO Convention &amp; Visitors Bureau
X-ORIGINAL-URL:https://stjomo.com
X-WR-CALDESC:Events for St. Joseph, MO Convention &amp; Visitors Bureau
REFRESH-INTERVAL;VALUE=DURATION:PT1H
X-Robots-Tag:noindex
X-PUBLISHED-TTL:PT1H
BEGIN:VTIMEZONE
TZID:America/Chicago
BEGIN:DAYLIGHT
TZOFFSETFROM:-0600
TZOFFSETTO:-0500
TZNAME:CDT
DTSTART:20220313T080000
END:DAYLIGHT
BEGIN:STANDARD
TZOFFSETFROM:-0500
TZOFFSETTO:-0600
TZNAME:CST
DTSTART:20221106T070000
END:STANDARD
END:VTIMEZONE
BEGIN:VEVENT
DTSTART;VALUE=DATE:20221203
DTEND;VALUE=DATE:20221204
DTSTAMP:20260420T072313
CREATED:20211004T181453Z
LAST-MODIFIED:20220428T194439Z
UID:88591-1670025600-1670111999@stjomo.com
SUMMARY:First Saturdays Downtown
DESCRIPTION:A monthly celebration of arts\, music\, and culture in our beautiful historic downtown is held on the first Saturday of each month. Enjoy exploring our locally owned\, one-of-a-kind\, shops\, cafes\, and restaurants while discovering a new and fun side of St. Joseph. For First Saturday events and promos click below. \nhttps://www.facebook.com/events/515542870235355 
URL:https://stjomo.com/event/first-saturdays-downtown-2022-12-03/
LOCATION:MO
ATTACH;FMTTYPE=image/jpeg:https://stjomo.com/wp-content/uploads/2020/01/191020-Evenson-downtown-029.jpg
END:VEVENT
END:VCALENDAR