BEGIN:VCALENDAR
VERSION:2.0
PRODID:-//St. Joseph, MO Convention &amp; Visitors Bureau - ECPv6.6.4.2//NONSGML v1.0//EN
CALSCALE:GREGORIAN
METHOD:PUBLISH
X-WR-CALNAME:St. Joseph, MO Convention &amp; Visitors Bureau
X-ORIGINAL-URL:https://stjomo.com
X-WR-CALDESC:Events for St. Joseph, MO Convention &amp; Visitors Bureau
REFRESH-INTERVAL;VALUE=DURATION:PT1H
X-Robots-Tag:noindex
X-PUBLISHED-TTL:PT1H
BEGIN:VTIMEZONE
TZID:America/Chicago
BEGIN:DAYLIGHT
TZOFFSETFROM:-0600
TZOFFSETTO:-0500
TZNAME:CDT
DTSTART:20220313T080000
END:DAYLIGHT
BEGIN:STANDARD
TZOFFSETFROM:-0500
TZOFFSETTO:-0600
TZNAME:CST
DTSTART:20221106T070000
END:STANDARD
END:VTIMEZONE
BEGIN:VEVENT
DTSTART;TZID=America/Chicago:20221208T160000
DTEND;TZID=America/Chicago:20221208T180000
DTSTAMP:20260424T082547
CREATED:20221017T171011Z
LAST-MODIFIED:20221017T171011Z
UID:91700-1670515200-1670522400@stjomo.com
SUMMARY:Holiday Tea at the Mansion
DESCRIPTION:You are invited to enjoy a taste of European architecture and holiday decor during a Holiday Tea at the 1879 Wyeth-Tootle Mansion. Celebrate the season with a delightful buffet of finger sandwiches\, smoked salmon\, and an array of sweet treats. Tea and champagne will accompany the meal! Tour the Mansion and all the exhibits during your visit! $50 per person\, pre-paid reservations are required.
URL:https://stjomo.com/event/holiday-tea-at-the-mansion-2/
LOCATION:Wyeth Tootle Mansion\, 1100 Charles St.\, St. Joseph\, MO\, 64501\, United States
END:VEVENT
END:VCALENDAR