BEGIN:VCALENDAR
VERSION:2.0
PRODID:-//St. Joseph, MO Convention &amp; Visitors Bureau - ECPv6.6.4.2//NONSGML v1.0//EN
CALSCALE:GREGORIAN
METHOD:PUBLISH
X-WR-CALNAME:St. Joseph, MO Convention &amp; Visitors Bureau
X-ORIGINAL-URL:https://stjomo.com
X-WR-CALDESC:Events for St. Joseph, MO Convention &amp; Visitors Bureau
REFRESH-INTERVAL;VALUE=DURATION:PT1H
X-Robots-Tag:noindex
X-PUBLISHED-TTL:PT1H
BEGIN:VTIMEZONE
TZID:America/Chicago
BEGIN:DAYLIGHT
TZOFFSETFROM:-0600
TZOFFSETTO:-0500
TZNAME:CDT
DTSTART:20240310T080000
END:DAYLIGHT
BEGIN:STANDARD
TZOFFSETFROM:-0500
TZOFFSETTO:-0600
TZNAME:CST
DTSTART:20241103T070000
END:STANDARD
END:VTIMEZONE
BEGIN:VEVENT
DTSTART;TZID=America/Chicago:20240407T090000
DTEND;TZID=America/Chicago:20240407T160000
DTSTAMP:20260421T104444
CREATED:20240401T194653Z
LAST-MODIFIED:20240401T194653Z
UID:95201-1712480400-1712505600@stjomo.com
SUMMARY:Pony Express Campus Celebration
DESCRIPTION:Join us for a weekend of fun for the entire family celebrating the Pony Express Campus and the impact and legacy left by the Goetz / DeShon family. Thanks to a generous donor\, all patrons are welcome to join us free of charge to celebrate 164 years of the Pony Exress! \n​ \nFriday\, April 5  \n\n\n9am – 4pm – Western Artists Roundup \n\n\n​Pony Express Community Room​ \n\n\nArtists Displays and Presentation \n\n\n\n\n​11am – Ribbon Cutting with the St. Joseph Chamber of Commerce ​ \n\n\n914 Penn Street – At the Stable Doors​ \n\n\n\n\n​ \nSaturday\, April 6 \n\n\n9am – 4pm – Activities / Celebrations in Each Campus Buildings \n\n\n1220 S. 10th Street – Pony Express Event Center \n\n\n1222 S. 10th Street – Conference Center / Foundation Office / Library / Archive Office \n\n\n1224 S. 10th Street – Pony Bar & Goetz Museum  \n\n\n1219 S. 9th Street – Pony School (10am – 2pm) ​ \n\n\n\n\nSunday\, April 7 \n\n\n11am – 4pm – Activities / Celebrations in Most Campus Buildings (listed above) \n\n\n1220 S. 10th Street – Pony Express Event Center
URL:https://stjomo.com/event/pony-express-campus-celebration-2024-04-07/
LOCATION:Pony Express National Museum\, 914 Penn St.\, St. Joseph\, MO\, 64503\, United States
ATTACH;FMTTYPE=image/png:https://stjomo.com/wp-content/uploads/2023/01/PX-Stables.png
END:VEVENT
END:VCALENDAR