BEGIN:VCALENDAR
VERSION:2.0
PRODID:-//St. Joseph, MO Convention &amp; Visitors Bureau - ECPv6.6.4.2//NONSGML v1.0//EN
CALSCALE:GREGORIAN
METHOD:PUBLISH
X-ORIGINAL-URL:https://stjomo.com
X-WR-CALDESC:Events for St. Joseph, MO Convention &amp; Visitors Bureau
REFRESH-INTERVAL;VALUE=DURATION:PT1H
X-Robots-Tag:noindex
X-PUBLISHED-TTL:PT1H
BEGIN:VTIMEZONE
TZID:America/Chicago
BEGIN:DAYLIGHT
TZOFFSETFROM:-0600
TZOFFSETTO:-0500
TZNAME:CDT
DTSTART:20240310T080000
END:DAYLIGHT
BEGIN:STANDARD
TZOFFSETFROM:-0500
TZOFFSETTO:-0600
TZNAME:CST
DTSTART:20241103T070000
END:STANDARD
END:VTIMEZONE
BEGIN:VEVENT
DTSTART;TZID=America/Chicago:20240419T160000
DTEND;TZID=America/Chicago:20240419T190000
DTSTAMP:20260425T094050
CREATED:20240118T191834Z
LAST-MODIFIED:20240118T191834Z
UID:94824-1713542400-1713553200@stjomo.com
SUMMARY:AKMA Undergraduate Exhibition Opening Reception
DESCRIPTION: \nAn opening reception will be held to celebrate new exhibitions at the AKMA on Sunday\, February 25\, 2024 from 1:00 to 4:00 pm. Opening receptions are free and open to the public. A cash bar and light refreshments will be available.
URL:https://stjomo.com/event/akma-undergraduate-exhibition-opening-reception/
LOCATION:Albrecht Kemper Museum of Art\, 2818 Frederick Ave\, St. Joseph\, MO\, 64506\, United States
END:VEVENT
BEGIN:VEVENT
DTSTART;TZID=America/Chicago:20240419T193000
DTEND;TZID=America/Chicago:20240419T193000
DTSTAMP:20260425T094050
CREATED:20240404T201317Z
LAST-MODIFIED:20240404T201317Z
UID:95213-1713555000-1713555000@stjomo.com
SUMMARY:Big Band & Broadway in USO Style
DESCRIPTION:The St. Joseph Community Chorus presents: Big Band & Broadway in USO Style with Kathleen Holeman and the St. Joseph Big Band \n7:30pm at the East Hills Shopping Center (Center Court). \nSenior – $18 (includes dessert) \nAdults – $20 (includes dessert) \nChildren & Students – FREE ($5 for dessert – optional)
URL:https://stjomo.com/event/big-band-broadway-in-uso-style/
LOCATION:East Hills Shopping Center\, 3702 Frederick Ave\, St. Joseph\, MO\, 64502\, United States
END:VEVENT
END:VCALENDAR