BEGIN:VCALENDAR
VERSION:2.0
PRODID:-//St. Joseph, MO Convention &amp; Visitors Bureau - ECPv6.6.4.2//NONSGML v1.0//EN
CALSCALE:GREGORIAN
METHOD:PUBLISH
X-WR-CALNAME:St. Joseph, MO Convention &amp; Visitors Bureau
X-ORIGINAL-URL:https://stjomo.com
X-WR-CALDESC:Events for St. Joseph, MO Convention &amp; Visitors Bureau
REFRESH-INTERVAL;VALUE=DURATION:PT1H
X-Robots-Tag:noindex
X-PUBLISHED-TTL:PT1H
BEGIN:VTIMEZONE
TZID:America/Chicago
BEGIN:DAYLIGHT
TZOFFSETFROM:-0600
TZOFFSETTO:-0500
TZNAME:CDT
DTSTART:20240310T080000
END:DAYLIGHT
BEGIN:STANDARD
TZOFFSETFROM:-0500
TZOFFSETTO:-0600
TZNAME:CST
DTSTART:20241103T070000
END:STANDARD
END:VTIMEZONE
BEGIN:VEVENT
DTSTART;TZID=America/Chicago:20240622T100000
DTEND;TZID=America/Chicago:20240622T170000
DTSTAMP:20260422T015250
CREATED:20240621T152706Z
LAST-MODIFIED:20240621T152934Z
UID:95662-1719050400-1719075600@stjomo.com
SUMMARY:St. Joseph Area Water Garden Society: Pond Tour
DESCRIPTION:Residents will have the chance to peek into some backyard oases this weekend on the St. Joseph Area Water Garden Tour. \n\n\nThe pond tour takes place from 10 a.m. to 5 p.m. on Saturday\, June 22\, and 11 a.m. to 5 p.m. on Sunday\, June 23. Admission is $5\, with children under 11 free with a paid adult. \n\n\n\nTickets can be purchased online at www.sjwatergarden.com or at Earl May Nursery\, Mann’s Nursery\, Rogers Pharmacy and Moffet’s Nursery and Garden Shop.
URL:https://stjomo.com/event/st-joseph-area-water-garden-society-pond-tour/
LOCATION:Downtown St. Joseph\, St. Joseph\, MO\, 64501\, United States
ATTACH;FMTTYPE=image/jpeg:https://stjomo.com/wp-content/uploads/2024/06/Pond-Tour.jpg
END:VEVENT
BEGIN:VEVENT
DTSTART;TZID=America/Chicago:20240622T110000
DTEND;TZID=America/Chicago:20240622T140000
DTSTAMP:20260422T015250
CREATED:20240610T151556Z
LAST-MODIFIED:20240610T151556Z
UID:95592-1719054000-1719064800@stjomo.com
SUMMARY:PARK-A-PALOOZA
DESCRIPTION:Join us for our second year of presenting PARK-A-PALOOZA!! This Western themed event is kid-centered but open to all ages! Entry is free and there will be lots of activities for the kiddos to enjoy!\nSpecial appearance by the Mustang’s Rally Mascot!\nFree activities:Petting ZooWooden horseshoe craftPaper flowers craftSidewalk ChalkBalloon artistGamesDuckie Draw for prizes – pick your rubber duckie from the pond and get a prize!\nLow cost activities:Food vendors$5 Pony RidesFun merchandise to help support future events!\nStick Horse Contest:Get your imagination going!! Create and decorate your own stick horse and bring it to the event to enter into our contest! Most creative stick horse will win an authentic Stetson kids cowboy hat and bolo tie! Unicorns\, Dragons\, Ponies and creations of all sorts are welcome!\nBring your Buckaroos and Calamity Janes to Krug Park on June 22nd from 11-2 and have some FUN!!
URL:https://stjomo.com/event/park-a-palooza/
LOCATION:Krug Park\, 3500 St Joseph Ave\, St. Joseph\, MO\, 64505\, United States
ATTACH;FMTTYPE=image/jpeg:https://stjomo.com/wp-content/uploads/2024/06/Parkapalooza.jpg
END:VEVENT
END:VCALENDAR