BEGIN:VCALENDAR
VERSION:2.0
PRODID:-//St. Joseph, MO Convention &amp; Visitors Bureau - ECPv6.6.4.2//NONSGML v1.0//EN
CALSCALE:GREGORIAN
METHOD:PUBLISH
X-ORIGINAL-URL:https://stjomo.com
X-WR-CALDESC:Events for St. Joseph, MO Convention &amp; Visitors Bureau
REFRESH-INTERVAL;VALUE=DURATION:PT1H
X-Robots-Tag:noindex
X-PUBLISHED-TTL:PT1H
BEGIN:VTIMEZONE
TZID:America/Chicago
BEGIN:DAYLIGHT
TZOFFSETFROM:-0600
TZOFFSETTO:-0500
TZNAME:CDT
DTSTART:20240310T080000
END:DAYLIGHT
BEGIN:STANDARD
TZOFFSETFROM:-0500
TZOFFSETTO:-0600
TZNAME:CST
DTSTART:20241103T070000
END:STANDARD
END:VTIMEZONE
BEGIN:VEVENT
DTSTART;VALUE=DATE:20240907
DTEND;VALUE=DATE:20240909
DTSTAMP:20260421T140509
CREATED:20240904T191757Z
LAST-MODIFIED:20240904T191947Z
UID:96207-1725667200-1725839999@stjomo.com
SUMMARY:USTA Heart of America Tennis Tournament
DESCRIPTION:USTA HOA L6 B12-18\, G12-14 tournament\nDates: Sep 7\, 2024 – Sep 8\, 2024 \nSep 07\, 2024 – Saturday at St. Joseph Parks & Recreation – Noyes Field Complex \n08:00am R16 B 16 U Singles – Draw\nW: Sat\, Sep 7\, 11:00 AM CDT at SJP&\nL: Sat\, Sep 7\, 3:00 PM CDT at SJP&\nNidhish Padmanaban\nvs\nZachary Talbot \n08:00am R16 B 14 U Singles – Draw\nW: Sat\, Sep 7\, 11:00 AM CDT at SJP&\nL: Sat\, Sep 7\, 3:00 PM CDT at SJP&\nSiddharth Datti\nvs\nLeonardo Rivera \n09:00am Round 2 B 12 U Singles – Draw\nW: –\nL: –\nTyler Tang\nvs\nJack Poggemiller \n09:00am Round 2 B 12 U Singles – Draw\nW: –\nL: –\nTeddy Tang\nvs\nJayden Fu \n09:00am Round 1 G 12 U Singles – Draw\nW: –\nL: –\nCharlotte Horner\nvs\nAli Davis \n09:00am Round 1 G 12 U Singles – Draw\nW: –\nL: –\nMegan Sweeney\nvs\nHannah Reynolds \n11:00am QF B 18 U Singles – Draw\nW: Sat\, Sep 7\, 3:00 PM CDT at SJP&\nL: Sat\, Sep 7\, 3:00 PM CDT at SJP&\nMark Kessens [1]\nvs\nAsav Gupta \n11:00am QF B 18 U Singles – Draw\nW: Sat\, Sep 7\, 3:00 PM CDT at SJP&\nL: Sat\, Sep 7\, 3:00 PM CDT at SJP&\nIbrahim Garcia\nvs\nAndrew Byrd \n11:00am QF B 18 U Singles – Draw\nW: Sat\, Sep 7\, 3:00 PM CDT at SJP&\nL: Sat\, Sep 7\, 3:00 PM CDT at SJP&\nRudy Habiger\nvs\nJustin Janasz \n11:00am QF B 18 U Singles – Draw\nW: Sat\, Sep 7\, 3:00 PM CDT at SJP&\nL: Sat\, Sep 7\, 3:00 PM CDT at SJP&\nKevin Le\nvs\nKevin Poggemiller [2] \n11:00am QF B 16 U Singles – Draw\nW: Sat\, Sep 7\, 3:00 PM CDT at SJP&\nL: Sun\, Sep 8\, 8:00 AM CDT at SJP&\nDalton Parde [1]\nvs\nBenjamin Bautista \n11:00am QF B 16 U Singles – Draw\nW: Sat\, Sep 7\, 3:00 PM CDT at SJP&\nL: Sat\, Sep 7\, 3:00 PM CDT at SJP&\nRoberto Shepherd\nvs\nLogan Huyser \n11:00am QF B 16 U Singles – Draw\nW: Sat\, Sep 7\, 3:00 PM CDT at SJP&\nL: Sun\, Sep 8\, 8:00 AM CDT at SJP&\nIssac Talbot\nvs\nHunter Stout [2] \n11:00am QF B 16 U Singles – Draw\nW: Sat\, Sep 7\, 3:00 PM CDT at SJP&\nL: Sun\, Sep 8\, 8:00 AM CDT at SJP&\nNidhish Padmanaban or Zachary Talbot\nvs\nCarter Jellison \n11:00am QF B 14 U Singles – Draw\nW: Sat\, Sep 7\, 3:00 PM CDT at SJP&\nL: Sun\, Sep 8\, 8:00 AM CDT at SJP&\nAnthony Tabor\nvs\nChase ESLINGER \n11:00am QF B 14 U Singles – Draw\nW: Sat\, Sep 7\, 3:00 PM CDT at SJP&\nL: Sun\, Sep 8\, 8:00 AM CDT at SJP&\nWilson Yan\nvs\nLiam Rudolph \n11:00am QF B 14 U Singles – Draw\nW: Sat\, Sep 7\, 3:00 PM CDT at SJP&\nL: Sat\, Sep 7\, 3:00 PM CDT at SJP&\nBalark Sen\nvs\nAndrew Pentel [2] \n11:00am QF B 14 U Singles – Draw\nW: Sat\, Sep 7\, 3:00 PM CDT at SJP&\nL: Sun\, Sep 8\, 8:00 AM CDT at SJP&\nGAUTHAM VIGNESH SRIKANTH [1]\nvs\nSiddharth Datti or Leonardo Rivera \n01:00pm Round 3 B 12 U Singles – Draw\nW: –\nL: –\nTeddy Tang\nvs\nJack Poggemiller \n01:00pm Round 3 B 12 U Singles – Draw\nW: –\nL: –\nTyler Tang\nvs\nJayden Fu \n03:00pm C-SF B 18 U Singles – Draw\nW: Sun\, Sep 8\, 10:00 AM CDT at SJP&\nL: –\nMark Kessens or Asav Gupta\nvs\nIbrahim Garcia or Andrew Byrd \n03:00pm C-SF B 18 U Singles – Draw\nW: Sun\, Sep 8\, 10:00 AM CDT at SJP&\nL: –\nRudy Habiger or Justin Janasz\nvs\nKevin Le or Kevin Poggemiller \n03:00pm SF B 18 U Singles – Draw\nW: Sun\, Sep 8\, 10:00 AM CDT at SJP&\nL: Sun\, Sep 8\, 10:00 AM CDT at SJP&\nMark Kessens or Asav Gupta\nvs\nIbrahim Garcia or Andrew Byrd \n03:00pm SF B 18 U Singles – Draw\nW: Sun\, Sep 8\, 10:00 AM CDT at SJP&\nL: Sun\, Sep 8\, 10:00 AM CDT at SJP&\nRudy Habiger or Justin Janasz\nvs\nKevin Le or Kevin Poggemiller \n03:00pm C-QF B 16 U Singles – Draw\nW: Sun\, Sep 8\, 8:00 AM CDT at SJP&\nL: –\nRoberto Shepherd or Logan Huyser\nvs\nUnknown \n03:00pm SF B 16 U Singles – Draw\nW: Sun\, Sep 8\, 10:00 AM CDT at SJP&\nL: Sun\, Sep 8\, 10:00 AM CDT at SJP&\nDalton Parde or Benjamin Bautista\nvs\nRoberto Shepherd or Logan Huyser \n03:00pm SF B 16 U Singles – Draw\nW: Sun\, Sep 8\, 10:00 AM CDT at SJP&\nL: Sun\, Sep 8\, 10:00 AM CDT at SJP&\nIssac Talbot or Hunter Stout\nvs\nCarter Jellison or Unknown \n03:00pm C-QF B 14 U Singles – Draw\nW: Sun\, Sep 8\, 8:00 AM CDT at SJP&\nL: –\nBalark Sen or Andrew Pentel\nvs\nUnknown \n03:00pm SF B 14 U Singles – Draw\nW: Sun\, Sep 8\, 10:00 AM CDT at SJP&\nL: Sun\, Sep 8\, 10:00 AM CDT at SJP&\nAnthony Tabor or Chase ESLINGER\nvs\nGAUTHAM VIGNESH SRIKANTH or Unknown \n03:00pm SF B 14 U Singles – Draw\nW: Sun\, Sep 8\, 10:00 AM CDT at SJP&\nL: Sun\, Sep 8\, 10:00 AM CDT at SJP&\nWilson Yan or Liam Rudolph\nvs\nBalark Sen or Andrew Pentel \n04:00pm Round 1 B 12 U Singles – Draw\nW: –\nL: –\nJack Poggemiller\nvs\nJayden Fu \n  \nSep 08\, 2024 – Sunday at St. Joseph Parks & Recreation – Noyes Field Complex \n  \n08:00am C-SF B 16 U Singles – Draw\nW: Sun\, Sep 8\, 11:00 AM CDT at SJP&\nL: –\nUnknown\nvs\nUnknown \n08:00am C-SF B 16 U Singles – Draw\nW: Sun\, Sep 8\, 11:00 AM CDT at SJP&\nL: –\nUnknown\nvs\nUnknown \n08:00am Round 1 B 12 U Singles – Draw\nW: –\nL: –\nTyler Tang\nvs\nTeddy Tang \n08:00am C-SF B 14 U Singles – Draw\nW: Sun\, Sep 8\, 11:00 AM CDT at SJP&\nL: –\nUnknown\nvs\nUnknown \n08:00am C-SF B 14 U Singles – Draw\nW: Sun\, Sep 8\, 11:00 AM CDT at SJP&\nL: –\nUnknown\nvs\nUnknown \n09:00am Round 2 G 12 U Singles – Draw\nW: –\nL: –\nCharlotte Horner\nvs\nMegan Sweeney \n09:00am Round 2 G 12 U Singles – Draw\nW: –\nL: –\nAli Davis\nvs\nHannah Reynolds \n10:00am PL-F B 18 U Singles – Draw\nW: –\nL: –\nUnknown\nvs\nUnknown \n10:00am F B 18 U Singles – Draw\nW: –\nL: –\nUnknown\nvs\nUnknown \n10:00am C-F B 18 U Singles – Draw\nW: –\nL: –\nUnknown\nvs\nUnknown \n10:00am PL-F B 16 U Singles – Draw\nW: –\nL: –\nUnknown\nvs\nUnknown \n10:00am F B 16 U Singles – Draw\nW: –\nL: –\nUnknown\nvs\nUnknown \n10:00am PL-F B 14 U Singles – Draw\nW: –\nL: –\nUnknown\nvs\nUnknown \n10:00am F B 14 U Singles – Draw\nW: –\nL: –\nUnknown\nvs\nUnknown \n11:00am C-F B 16 U Singles – Draw\nW: –\nL: –\nUnknown\nvs\nUnknown \n11:00am C-F B 14 U Singles – Draw\nW: –\nL: –\nUnknown\nvs\nUnknown \n12:00pm Round 3 G 12 U Singles – Draw\nW: –\nL: –\nAli Davis\nvs\nMegan Sweeney \n12:00pm Round 3 G 12 U Singles – Draw\nW: –\nL: –\nCharlotte Horner\nvs\nHannah Reynolds
URL:https://stjomo.com/event/96207/
LOCATION:Noyes Field Complex\, 303 S Noyes Blvd\, Saint Joseph\, MO\, 64501\, United States
ATTACH;FMTTYPE=image/jpeg:https://stjomo.com/wp-content/uploads/2024/09/USTA-Logo.jpg
END:VEVENT
END:VCALENDAR