BEGIN:VCALENDAR
VERSION:2.0
PRODID:-//St. Joseph, MO Convention &amp; Visitors Bureau - ECPv6.6.4.2//NONSGML v1.0//EN
CALSCALE:GREGORIAN
METHOD:PUBLISH
X-WR-CALNAME:St. Joseph, MO Convention &amp; Visitors Bureau
X-ORIGINAL-URL:https://stjomo.com
X-WR-CALDESC:Events for St. Joseph, MO Convention &amp; Visitors Bureau
REFRESH-INTERVAL;VALUE=DURATION:PT1H
X-Robots-Tag:noindex
X-PUBLISHED-TTL:PT1H
BEGIN:VTIMEZONE
TZID:America/Chicago
BEGIN:DAYLIGHT
TZOFFSETFROM:-0600
TZOFFSETTO:-0500
TZNAME:CDT
DTSTART:20240310T080000
END:DAYLIGHT
BEGIN:STANDARD
TZOFFSETFROM:-0500
TZOFFSETTO:-0600
TZNAME:CST
DTSTART:20241103T070000
END:STANDARD
END:VTIMEZONE
BEGIN:VEVENT
DTSTART;VALUE=DATE:20241107
DTEND;VALUE=DATE:20241108
DTSTAMP:20260419T235136
CREATED:20240802T145735Z
LAST-MODIFIED:20240802T145735Z
UID:95998-1730937600-1731023999@stjomo.com
SUMMARY:Sugarplum Festival
DESCRIPTION:Everyone looks forward to the second weekend in November for the annual Sugarplum Festival at the Albrecht-Kemper Museum of Art! For over 40 years\, visitors kick off the holiday season at this St. Joseph tradition. Including unique gifts\, artisan-made crafts\, vintage goods\, 30+ small businesses\, local entrepreneurs and crafters\, live music and performances\, delicious cafe lunch and much more. \nClick here for the complete schedule and ticket options.
URL:https://stjomo.com/event/sugarplum-festival-4/
LOCATION:Albrecht Kemper Museum of Art\, 2818 Frederick Ave\, St. Joseph\, MO\, 64506\, United States
ATTACH;FMTTYPE=image/jpeg:https://stjomo.com/wp-content/uploads/2024/08/Sugarplum.jpg
END:VEVENT
BEGIN:VEVENT
DTSTART;TZID=America/Chicago:20241107T183000
DTEND;TZID=America/Chicago:20241107T210000
DTSTAMP:20260419T235136
CREATED:20241028T205149Z
LAST-MODIFIED:20241028T205149Z
UID:96385-1731004200-1731013200@stjomo.com
SUMMARY:Line Dance Lessons
DESCRIPTION:$5 per person ages 15 & upNO OUTSIDE FOOD or Drinks please. They have a concession stand available with liquid courage\, water\, soda\, slushies and much more. \nLine Dance Lessons | Facebook
URL:https://stjomo.com/event/line-dance-lessons/
LOCATION:Time Out Event Center\, 3414 S 22nd Street\, Saint Joseph\, MO\, United States
ATTACH;FMTTYPE=image/jpeg:https://stjomo.com/wp-content/uploads/2024/10/Line-Dancing-Lessons.jpg
END:VEVENT
END:VCALENDAR