BEGIN:VCALENDAR
VERSION:2.0
PRODID:-//St. Joseph, MO Convention &amp; Visitors Bureau - ECPv6.6.4.2//NONSGML v1.0//EN
CALSCALE:GREGORIAN
METHOD:PUBLISH
X-ORIGINAL-URL:https://stjomo.com
X-WR-CALDESC:Events for St. Joseph, MO Convention &amp; Visitors Bureau
REFRESH-INTERVAL;VALUE=DURATION:PT1H
X-Robots-Tag:noindex
X-PUBLISHED-TTL:PT1H
BEGIN:VTIMEZONE
TZID:America/Chicago
BEGIN:DAYLIGHT
TZOFFSETFROM:-0600
TZOFFSETTO:-0500
TZNAME:CDT
DTSTART:20240310T080000
END:DAYLIGHT
BEGIN:STANDARD
TZOFFSETFROM:-0500
TZOFFSETTO:-0600
TZNAME:CST
DTSTART:20241103T070000
END:STANDARD
END:VTIMEZONE
BEGIN:VEVENT
DTSTART;VALUE=DATE:20241108
DTEND;VALUE=DATE:20241110
DTSTAMP:20260419T205627
CREATED:20241101T150146Z
LAST-MODIFIED:20241101T150147Z
UID:96418-1731024000-1731196799@stjomo.com
SUMMARY:NCAA Division II WBB Central Region Showcase
DESCRIPTION:As St. Joseph continues to be a desired destination for college and high school events\, the St. Joseph Sports Commission is proud to announce the schedule for the Second Annual NCAA Division II Women’s Basketball Central Region Showcase November 8-9\, 2024.  The event features eight teams competing in eight games (four per day) as part of the opening weekend of the division II basketball season. \n“Once again this November\, Civic Arena will be filled with elite level tournament play in which coupled with the D2 CCA event announced in conjunction with the MIAA the weekend prior\, we’re proud to be hosting four of the last six NCAA Division II Women’s Basketball National Champions over the span of two weekends competing against teams with heavy local/regional interest.  These are can’t miss events right here in St. Joseph!” stated Brett Esely\, Executive Director of the St. Joseph Sports Commission. \nThe Central Region Showcase field is headlined by defending MIAA Champion Missouri Western\, Northwest Missouri State and also includes MIAA institutions Fort Hays State and Emporia State (ESU won the 2010 National Championship here in St. Joseph).  From the Northern Sun Intercollegiate Athletics Association\, defending National Champion Minnesota State will return to Civic Arena a little under six months after they cut the nets down in the NCAA Elite Eight this past March.  The Mavericks will be joined by Augustana\, Sioux Falls and Minnesota State-Moorhead. \n“In our continued efforts of establishing St. Joseph as a college and high school regional sports hub\, the month of November is a sweet spot time on the calendar to host tournament basketball and we are fortunate to have elite level fields that our community and traveling fans can engage in right in our own backyard!” Esely said. \nTicket information will be released in early fall\, in which all sales will be facilitated through the Civic Arena Box Office.  Sponsorship opportunities for the event are available by contacting the sports commission. \nGAME SCHEDULE: \nFriday\, November 8 \n 12:30 PM – Fort Hays State vs. Augustana \n2:45 PM – Northwest Missouri State vs. Minnesota State – Moorhead \n5:15 PM – Emporia State vs. Minnesota State \n7:30 PM – Missouri Western vs. Sioux Falls \nSaturday\, November 9 \n12:30 PM – Fort Hays State vs. Minnesota State – Moorhead \n2:45 PM – Northwest Missouri State vs. Minnesota State \n5:15 PM – Emporia State vs. Sioux Falls \n7:30 PM – Missouri Western vs. Augustana \n  \nThe St. Joseph Sports Commission is a division of the St. Joseph Convention & Visitors Bureau.
URL:https://stjomo.com/event/ncaa-division-ii-wbb-central-region-showcase/
LOCATION:Civic Arena\, 100 N 4th St\,\, St Joseph\, 64501\, United States
ATTACH;FMTTYPE=image/jpeg:https://stjomo.com/wp-content/uploads/2024/11/NCAA-Division-II-WBB-Central-Region-Showcase.jpg
ORGANIZER;CN="St. Joseph Sports Commission":MAILTO:besely@stjomo.com
END:VEVENT
BEGIN:VEVENT
DTSTART;VALUE=DATE:20241109
DTEND;VALUE=DATE:20241110
DTSTAMP:20260419T205628
CREATED:20240802T145735Z
LAST-MODIFIED:20240802T145735Z
UID:96001-1731110400-1731196799@stjomo.com
SUMMARY:Sugarplum Festival
DESCRIPTION:Everyone looks forward to the second weekend in November for the annual Sugarplum Festival at the Albrecht-Kemper Museum of Art! For over 40 years\, visitors kick off the holiday season at this St. Joseph tradition. Including unique gifts\, artisan-made crafts\, vintage goods\, 30+ small businesses\, local entrepreneurs and crafters\, live music and performances\, delicious cafe lunch and much more. \nClick here for the complete schedule and ticket options.
URL:https://stjomo.com/event/sugarplum-festival-4-2024-11-09/
LOCATION:Albrecht Kemper Museum of Art\, 2818 Frederick Ave\, St. Joseph\, MO\, 64506\, United States
ATTACH;FMTTYPE=image/jpeg:https://stjomo.com/wp-content/uploads/2024/08/Sugarplum.jpg
END:VEVENT
BEGIN:VEVENT
DTSTART;TZID=America/Chicago:20241109T110000
DTEND;TZID=America/Chicago:20241109T233000
DTSTAMP:20260419T205628
CREATED:20241024T210748Z
LAST-MODIFIED:20241024T210748Z
UID:96369-1731150000-1731195000@stjomo.com
SUMMARY:VikingFest 2024
DESCRIPTION:Welcome to VikingFest 2024 in St. Joseph\, Missouri (50 min outside of Kansas City) where history and fiction collide in an exhilarating celebration that allows attendees to make history come alive! \nVikingFest 2024 is a captivating and immersive experience that transports you to the legendary and historical world of the Viking. This thrilling event seamlessly blends historical accuracy with elements of Viking mythology and fiction\, offering a unique and unforgettable adventure for all who dare to join!
URL:https://stjomo.com/event/vikingfest-2024/
LOCATION:Castle Bridge Event Center\, 8403 B US Highway\, St. Joseph\, MO\, 64504\, United States
ATTACH;FMTTYPE=image/jpeg:https://stjomo.com/wp-content/uploads/2024/10/Viking-Fest.jpg
END:VEVENT
BEGIN:VEVENT
DTSTART;TZID=America/Chicago:20241109T180000
DTEND;TZID=America/Chicago:20241109T180000
DTSTAMP:20260419T205628
CREATED:20241028T203926Z
LAST-MODIFIED:20241028T203926Z
UID:96380-1731175200-1731175200@stjomo.com
SUMMARY:Santa's Den - A Christmas Pop Up Bar - Grand Opening
DESCRIPTION:All We Want for Christmas is YOU! Our Christmas Bar is coming back and will be even more spectacular in 2024! Come feel all the winter holiday vibes surrounded by lights\, trees\, ornaments\, gifts\, and of course\, the best Holiday Craft Cocktail menu around.\nSanta’s Den will run Tuesday through Saturdays in November and December!
URL:https://stjomo.com/event/santas-den-a-christmas-pop-up-bar-grand-opening/
LOCATION:The Den\, 519 Felix Street\, Saint Joseph\, MO\, 64501\, United States
ATTACH;FMTTYPE=image/jpeg:https://stjomo.com/wp-content/uploads/2024/10/Santas-Den.jpg
END:VEVENT
END:VCALENDAR