BEGIN:VCALENDAR
VERSION:2.0
PRODID:-//St. Joseph, MO Convention &amp; Visitors Bureau - ECPv6.6.4.2//NONSGML v1.0//EN
CALSCALE:GREGORIAN
METHOD:PUBLISH
X-ORIGINAL-URL:https://stjomo.com
X-WR-CALDESC:Events for St. Joseph, MO Convention &amp; Visitors Bureau
REFRESH-INTERVAL;VALUE=DURATION:PT1H
X-Robots-Tag:noindex
X-PUBLISHED-TTL:PT1H
BEGIN:VTIMEZONE
TZID:America/Chicago
BEGIN:DAYLIGHT
TZOFFSETFROM:-0600
TZOFFSETTO:-0500
TZNAME:CDT
DTSTART:20240310T080000
END:DAYLIGHT
BEGIN:STANDARD
TZOFFSETFROM:-0500
TZOFFSETTO:-0600
TZNAME:CST
DTSTART:20241103T070000
END:STANDARD
END:VTIMEZONE
BEGIN:VEVENT
DTSTART;VALUE=DATE:20241219
DTEND;VALUE=DATE:20241222
DTSTAMP:20260419T073937
CREATED:20241216T173345Z
LAST-MODIFIED:20241216T173345Z
UID:96685-1734566400-1734825599@stjomo.com
SUMMARY:2024 HIGH SCHOOL HOLIDAY HOOPS PRESENTED BY UNITED FIBER
DESCRIPTION:2024 ST. JOSEPH AREA SPORTS HALL OF FAME HOLIDAY HOOPS PRESENTED BY UNITED FIBER\nThursday\, December 19:\n6:00 PM – Lafayette vs. Columbia Battle (G)\n7:30 PM – Lafayette vs. Oak Park (B)\n\nFriday\, December 20:\n12:30 PM – LeBlond vs. North Andrew (G)\n2:00 PM – LeBlond vs. North Andrew (B)\n3:30 PM – Savannah vs. Macon (G)\n5 PM – Savannah vs. Macon (B)\n6:30 PM – Benton vs. Park Hill South (G)\n8 PM – Benton vs. Park Hill South (B)\n\nSaturday\, December 21:\n10:00 AM – St. Joseph Christian vs. DeKalb (G)\n11:30 AM – St. Joseph Christian vs. DeKalb (B)\n1 PM – North Platte vs. Platte Valley (G)\n2:30 PM  – North Platte vs. Platte Valley (B)\n4 PM – Mid-Buchanan vs. Maysville (G)\n5:30 PM – Mid-Buchanan vs. Maysville (B)\n7 PM – Central vs. KC Kipp (G)\n8:30 PM – Central vs. Chillicothe (B)
URL:https://stjomo.com/event/2024-high-school-holiday-hoops-presented-by-united-fiber/
LOCATION:Civic Arena\, 100 N 4th St\,\, St Joseph\, 64501\, United States
ATTACH;FMTTYPE=image/jpeg:https://stjomo.com/wp-content/uploads/2024/12/Holiday-Hoops-Classic.jpg
ORGANIZER;CN="St. Joseph Sports Commission":MAILTO:besely@stjomo.com
END:VEVENT
BEGIN:VEVENT
DTSTART;VALUE=DATE:20241221
DTEND;VALUE=DATE:20241222
DTSTAMP:20260419T073937
CREATED:20241111T192928Z
LAST-MODIFIED:20241111T192928Z
UID:96518-1734739200-1734825599@stjomo.com
SUMMARY:Holidays Downtown - December 21
DESCRIPTION:Immerse yourself in the wonders of the holiday season and create special memories with friends and family.  Enjoy an array of festive activities\, savor delicious dining spots\, and explore charming shops filled with unique gift options for everyone on your list. \n  \nDec 21st – Saturday \n\nFREE pictures with Santa Claus\nFREE kids Train Rides\nFind the Roaming Snowman\nFREE Carriage Rides\nFestive Walkable Holiday Window Displays \nNEW THIS YEAR…The Merry Market in Felix Street Square – Outdoor Holiday Market in Felix Street Square\nPop-Up Shops\nDowntown stores = promos and specials\nHoliday Cheer 2024
URL:https://stjomo.com/event/holidays-downtown-december-21/
LOCATION:Downtown St. Joseph\, St. Joseph\, MO\, 64501\, United States
ATTACH;FMTTYPE=image/jpeg:https://stjomo.com/wp-content/uploads/2024/11/Holidays-Downtown-Dec-21.jpg
END:VEVENT
BEGIN:VEVENT
DTSTART;TZID=America/Chicago:20241221T180000
DTEND;TZID=America/Chicago:20241221T180000
DTSTAMP:20260419T073937
CREATED:20241118T181346Z
LAST-MODIFIED:20241118T181346Z
UID:96543-1734804000-1734804000@stjomo.com
SUMMARY:Tuba Christmas
DESCRIPTION:It’s all about the bass at this year’s TUBACHRISTMAS concert\, right here in East Hills Center Court!\nTuba and euphonium players are again invited to participate in TUBACHRISTMAS. To participate\, visit https://tubachristmas.com and click “Participant” for important information about registration\, rehearsal\, etc. \nNot a tuba or euphonium player? Join the rest of us in listening to amazing\, majestic sounds of the holiday season!
URL:https://stjomo.com/event/tuba-christmas/
LOCATION:East Hills Shopping Center\, 3702 Frederick Ave\, St. Joseph\, MO\, 64502\, United States
END:VEVENT
BEGIN:VEVENT
DTSTART;TZID=America/Chicago:20241221T190000
DTEND;TZID=America/Chicago:20241221T190000
DTSTAMP:20260419T073937
CREATED:20241101T202514Z
LAST-MODIFIED:20241101T202514Z
UID:96433-1734807600-1734807600@stjomo.com
SUMMARY:2024 Holiday Cheer
DESCRIPTION:Celebrate the Holidays with YOUR Saint Joseph Symphony! Enjoy popular holiday favorites\, a carol sing-along\, and a special appearance by the St. Joseph Youth Chorale. \n\n\n\n\nSaturday\, December 21\, 2024\n7:00 pm9:00 pm\n\nMissouri Theater\n\n\n\nAdd To My Calendar\n\n\n\n\nSleigh Ride (guest conductor)\nHome Alone: 3 Songs\nChristmas Song\nCarol of the Drum\nYouth Chorale selection\nWinter Wonderland\nCarol Sing-a-Long\nHandel’s Messiah\nFestive Sounds of Hanukah
URL:https://stjomo.com/event/2024-holiday-cheer/
LOCATION:Missouri Theater\, 717 Edmond St.\, St. Joseph\, MO\, 64501\, United States
ATTACH;FMTTYPE=image/jpeg:https://stjomo.com/wp-content/uploads/2024/11/2024-Holiday-Cheer.jpg
END:VEVENT
END:VCALENDAR