BEGIN:VCALENDAR
VERSION:2.0
PRODID:-//St. Joseph, MO Convention &amp; Visitors Bureau - ECPv6.6.4.2//NONSGML v1.0//EN
CALSCALE:GREGORIAN
METHOD:PUBLISH
X-ORIGINAL-URL:https://stjomo.com
X-WR-CALDESC:Events for St. Joseph, MO Convention &amp; Visitors Bureau
REFRESH-INTERVAL;VALUE=DURATION:PT1H
X-Robots-Tag:noindex
X-PUBLISHED-TTL:PT1H
BEGIN:VTIMEZONE
TZID:America/Chicago
BEGIN:DAYLIGHT
TZOFFSETFROM:-0600
TZOFFSETTO:-0500
TZNAME:CDT
DTSTART:20250309T080000
END:DAYLIGHT
BEGIN:STANDARD
TZOFFSETFROM:-0500
TZOFFSETTO:-0600
TZNAME:CST
DTSTART:20251102T070000
END:STANDARD
END:VTIMEZONE
BEGIN:VEVENT
DTSTART;TZID=America/Chicago:20250114T180000
DTEND;TZID=America/Chicago:20250114T200000
DTSTAMP:20260422T231101
CREATED:20250109T204915Z
LAST-MODIFIED:20250109T205121Z
UID:96804-1736877600-1736884800@stjomo.com
SUMMARY:Tuesday Night Talk: "Barn-Find Canoe in St. Joseph"
DESCRIPTION:Tuesday Night Talks \n2025 Schedule of Events \n  \n27th Anniversary of Tuesday Night Talks \n  \nTuesday Night Talks (TNT) is a Weekly Lecture Series in January and February on \nTopics Related to the 1800’s and History of St. Joseph \n  \nDoors open at 6:00 P.M.  Speakers begin at 7:00 P.M. \n  \nAll Talks Held in the \nPony Express Museum Community Room \n914 Penn Street\, St. Joseph\, MO \n816-279-5059 \nwww.ponyexpress.org \n  \nSPONSORED BY: COMMERCE BANK \n  \n\n\n\n  \nDate \n \n  \nTopic\n  \nSpeaker*\n\n\n1-14-25 \n \n“Barn – Find Canoe in St. Joseph”\nGreg Hatten \nExplorer & Consultant\n\n\n1-21-25\n“Buell: How the Mormon Migration \nBrought the Finest Makers of Indian \nTrade Blankets to St. Joseph\, MO”\nSara Wilson\n\n\n1-28-25\n“The Pony Express – It’s History & Legacy”\nJackie Lewin &  \nSarah Elder \nPony Express Historians\n\n\n2-4-25\nMerci Train “French – Thank You”\nJoed Hill \nMO State Quester\n\n\n2-11-25 \n \n“St. Joseph’s Architectural Heritage \nin Houses of Worship” \nDavid Lewis\n\n\n2-18-25\nSons of the American Revolution\nEric Montegna \nV.P. of SAR\n\n\n\n  \n*Speakers are a partnership with St. Joseph Questers Group
URL:https://stjomo.com/event/tuesday-night-talk-barn-find-canoe-in-st-joseph/
LOCATION:Pony Express National Museum\, 914 Penn St.\, St. Joseph\, MO\, 64503\, United States
END:VEVENT
BEGIN:VEVENT
DTSTART;TZID=America/Chicago:20250114T190000
DTEND;TZID=America/Chicago:20250114T190000
DTSTAMP:20260422T231101
CREATED:20250109T195211Z
LAST-MODIFIED:20250109T221633Z
UID:96798-1736881200-1736881200@stjomo.com
SUMMARY:The Harlem Globetrotters at Civic Arena
DESCRIPTION:Don’t miss out on all the trick shots\, long shots and how-did-they-do-that shots as the Harlem Globetrotters take the court at the St. Joseph Civic Arena on January 14 at 7 pm. For tickets\, visit ticketmaster.com. Call the arena box office at (816) 271-4717 for additional information.
URL:https://stjomo.com/event/the-harlem-globetrotters-at-civic-arena/
LOCATION:Civic Arena\, 100 N 4th St\,\, St Joseph\, 64501\, United States
ATTACH;FMTTYPE=image/jpeg:https://stjomo.com/wp-content/uploads/2025/01/Harlem-Globetrotters-2025.jpg
END:VEVENT
END:VCALENDAR