BEGIN:VCALENDAR
VERSION:2.0
PRODID:-//St. Joseph, MO Convention &amp; Visitors Bureau - ECPv6.6.4.2//NONSGML v1.0//EN
CALSCALE:GREGORIAN
METHOD:PUBLISH
X-ORIGINAL-URL:https://stjomo.com
X-WR-CALDESC:Events for St. Joseph, MO Convention &amp; Visitors Bureau
REFRESH-INTERVAL;VALUE=DURATION:PT1H
X-Robots-Tag:noindex
X-PUBLISHED-TTL:PT1H
BEGIN:VTIMEZONE
TZID:America/Chicago
BEGIN:DAYLIGHT
TZOFFSETFROM:-0600
TZOFFSETTO:-0500
TZNAME:CDT
DTSTART:20250309T080000
END:DAYLIGHT
BEGIN:STANDARD
TZOFFSETFROM:-0500
TZOFFSETTO:-0600
TZNAME:CST
DTSTART:20251102T070000
END:STANDARD
END:VTIMEZONE
BEGIN:VEVENT
DTSTART;TZID=America/Chicago:20250115T100000
DTEND;TZID=America/Chicago:20250115T160000
DTSTAMP:20260420T005240
CREATED:20250109T221552Z
LAST-MODIFIED:20250109T221552Z
UID:96812-1736935200-1736956800@stjomo.com
SUMMARY:Watercolor Workshop with Candace Castle
DESCRIPTION:Take part in a watercolor workshop at the Albrecht-Kemper Museum of Art. The workshop will be led by the talented Candace Castle. Candace is a St. Joseph artist who works in both oil and watercolor. The cost of the event is $100 which includes lunch.
URL:https://stjomo.com/event/watercolor-workshop-with-candace-castle/
LOCATION:Albrecht Kemper Museum of Art\, 2818 Frederick Ave\, St. Joseph\, MO\, 64506\, United States
ATTACH;FMTTYPE=image/png:https://stjomo.com/wp-content/uploads/2025/01/Watercolor-Workshop.png
END:VEVENT
END:VCALENDAR