BEGIN:VCALENDAR
VERSION:2.0
PRODID:-//St. Joseph, MO Convention &amp; Visitors Bureau - ECPv6.6.4.2//NONSGML v1.0//EN
CALSCALE:GREGORIAN
METHOD:PUBLISH
X-ORIGINAL-URL:https://stjomo.com
X-WR-CALDESC:Events for St. Joseph, MO Convention &amp; Visitors Bureau
REFRESH-INTERVAL;VALUE=DURATION:PT1H
X-Robots-Tag:noindex
X-PUBLISHED-TTL:PT1H
BEGIN:VTIMEZONE
TZID:America/Chicago
BEGIN:DAYLIGHT
TZOFFSETFROM:-0600
TZOFFSETTO:-0500
TZNAME:CDT
DTSTART:20250309T080000
END:DAYLIGHT
BEGIN:STANDARD
TZOFFSETFROM:-0500
TZOFFSETTO:-0600
TZNAME:CST
DTSTART:20251102T070000
END:STANDARD
END:VTIMEZONE
BEGIN:VEVENT
DTSTART;VALUE=DATE:20250419
DTEND;VALUE=DATE:20250616
DTSTAMP:20260424T042411
CREATED:20250408T133340Z
LAST-MODIFIED:20250408T133340Z
UID:97806-1745020800-1750031999@stjomo.com
SUMMARY:Juried Undergraduate Exhibition
DESCRIPTION:The Albrecht-Kemper Museum of Art is proud to present the Juried Undergraduate Exhibition\, a vibrant showcase of emerging talent from undergraduate artists across the United States. Featuring 47 artworks by 31 students from 18 schools\, this exhibition represents a diverse array of styles and mediums\, highlighting innovation\, creativity\, and the artistic voices of a new generation. \nSelected from 121 submissions\, the works on display offer fresh perspectives and demonstrate the dedication and passion of artists currently enrolled in undergraduate programs during the 2024–2025 academic year. \nMore Info: albrecht-kemper.orgContact: (816) 233-7003
URL:https://stjomo.com/event/juried-undergraduate-exhibition/
LOCATION:Albrecht Kemper Museum of Art\, 2818 Frederick Ave\, St. Joseph\, MO\, 64506\, United States
ATTACH;FMTTYPE=image/jpeg:https://stjomo.com/wp-content/uploads/2025/04/Albrecht-Kemper.jpg
END:VEVENT
BEGIN:VEVENT
DTSTART;VALUE=DATE:20250531
DTEND;VALUE=DATE:20250602
DTSTAMP:20260424T042411
CREATED:20241104T174343Z
LAST-MODIFIED:20250523T204529Z
UID:96461-1748649600-1748822399@stjomo.com
SUMMARY:Bluffwoods Renaissance Festival
DESCRIPTION:Tired of the 21st century? Yearning for a time when “LOL” meant “Lots of Lute?” Then grab your friends (and your chainmail) and head to the Bluffwoods Renaissance Festival! We’re bringing back the days of knights\, knaves\, and questionable hygiene (don’t worry\, we’ve got modern sanitation).\nBut this year\, a conflict brews! The War of 2 Kings has erupted\, and you must choose your allegiance! Will you side with the noble King Aiden\, or the bold tyrant King Von Jon?\nExpect to see sword fights\, hear tales of daring\, and eat food that’s definitely not on your diet- all while the fate of the realm hangs in the balance. Come for the shows\, stay for the questionable fashion choices\, and leave with memories that’ll last until your next quest for mead!\nDon’t miss out on the most historically inaccurate (but undeniably fun) event of the year! Declare your loyalty upon arrival\, and help shape the destiny of Bluffwoods!
URL:https://stjomo.com/event/bluffwoods-renaissance-festival-3/
LOCATION:Castle Bridge Event Center\, 8403 B US Highway\, St. Joseph\, MO\, 64504\, United States
ATTACH;FMTTYPE=image/jpeg:https://stjomo.com/wp-content/uploads/2024/11/Renaissance-Festival.jpg
END:VEVENT
BEGIN:VEVENT
DTSTART;TZID=America/Chicago:20250531T120000
DTEND;TZID=America/Chicago:20250531T120000
DTSTAMP:20260424T042411
CREATED:20250529T201345Z
LAST-MODIFIED:20250529T201345Z
UID:98246-1748692800-1748692800@stjomo.com
SUMMARY:Annual Morel Mushroom Fest by the Mushroom King
DESCRIPTION:Get ready for a flavorful afternoon of Music & Morels at the Annual Mushroom Fest hosted by none other than the Mushroom King! Join fellow fungi fans at Magoon’s Famous Delicatessen for a celebration of the mighty morel. Enjoy live music and the signature deli menu we all know and love.
URL:https://stjomo.com/event/annual-morel-mushroom-fest-by-the-mushroom-king/
LOCATION:Magoon’s Famous Delicatessen\, 632 S 8th St\, Saint Joseph\, MO\, 64501\, United States
ATTACH;FMTTYPE=image/jpeg:https://stjomo.com/wp-content/uploads/2025/05/Mushroom.jpg
END:VEVENT
BEGIN:VEVENT
DTSTART;TZID=America/Chicago:20250531T193000
DTEND;TZID=America/Chicago:20250531T193000
DTSTAMP:20260424T042412
CREATED:20250519T160220Z
LAST-MODIFIED:20250519T160220Z
UID:98139-1748719800-1748719800@stjomo.com
SUMMARY:Elisabeth Wykert Live on Tour
DESCRIPTION:Elisabeth’s Viral Tour swept the country and is now being filmed in front of a live audience (that’s you!)Prepare for a night of laughs\, dancing\, music\, and mayhem in a comedy show like no other.Show starts at 7:30pm; Doors open at 6:30pmAlcohol will be available (I know\, finally!)18+\nTickets are to be purchased via EventBritehttps://www.eventbrite.com/…/fupa-on-fleek-tour-special…orIn-Person at Pop’s Place on the south end (10:30am-1am)816-721-1123$25 single tickets or $250 for a private table (includes 10 tickets)Seats are limited
URL:https://stjomo.com/event/elisabeth-wykert-live-on-tour/
LOCATION:Southern Roots Event Center\, 239 Illinois Avenue\, Saint Joseph\, MO\, 64504\, United States
ATTACH;FMTTYPE=image/png:https://stjomo.com/wp-content/uploads/2025/05/Elisabeth-Wykert.png
ORGANIZER;CN="Elisabeth Wykert":MAILTO:hello@thegoldstudios.com
END:VEVENT
END:VCALENDAR