BEGIN:VCALENDAR
VERSION:2.0
PRODID:-//St. Joseph, MO Convention &amp; Visitors Bureau - ECPv6.6.4.2//NONSGML v1.0//EN
CALSCALE:GREGORIAN
METHOD:PUBLISH
X-WR-CALNAME:St. Joseph, MO Convention &amp; Visitors Bureau
X-ORIGINAL-URL:https://stjomo.com
X-WR-CALDESC:Events for St. Joseph, MO Convention &amp; Visitors Bureau
REFRESH-INTERVAL;VALUE=DURATION:PT1H
X-Robots-Tag:noindex
X-PUBLISHED-TTL:PT1H
BEGIN:VTIMEZONE
TZID:America/Chicago
BEGIN:DAYLIGHT
TZOFFSETFROM:-0600
TZOFFSETTO:-0500
TZNAME:CDT
DTSTART:20260308T080000
END:DAYLIGHT
BEGIN:STANDARD
TZOFFSETFROM:-0500
TZOFFSETTO:-0600
TZNAME:CST
DTSTART:20261101T070000
END:STANDARD
END:VTIMEZONE
BEGIN:VEVENT
DTSTART;VALUE=DATE:20260313
DTEND;VALUE=DATE:20260405
DTSTAMP:20260421T085031
CREATED:20260303T153152Z
LAST-MODIFIED:20260326T173504Z
UID:100841-1773360000-1775347199@stjomo.com
SUMMARY:Downtown Bunny Hunt
DESCRIPTION:Main Street Saint Joseph invites you to explore Downtown St. Joseph and hunt for hidden bunnies from March 13 to April 3. Pick up a Bunny Hunt form at your favorite downtown merchant\, then search downtown and record each bunny location next to its matching number on the form. After you find all the bunnies\, turn in your completed form at Longboards\, 106 S. 7th Street\, by 7:00 PM on Friday\, April 3. \nFour winners will be drawn. Each winner receives a $50 gift card to a downtown business or restaurant of their choice.
URL:https://stjomo.com/event/downtown-bunny-hunt/
LOCATION:Downtown St. Joseph\, St. Joseph\, MO\, 64501\, United States
CATEGORIES:Downtown
ATTACH;FMTTYPE=image/png:https://stjomo.com/wp-content/uploads/2026/03/Downtown-Bunny-Hunt.png
END:VEVENT
BEGIN:VEVENT
DTSTART;TZID=America/Chicago:20260324T160000
DTEND;TZID=America/Chicago:20260324T190000
DTSTAMP:20260421T085031
CREATED:20260323T160636Z
LAST-MODIFIED:20260323T160636Z
UID:101232-1774368000-1774378800@stjomo.com
SUMMARY:Free Museum After Hours
DESCRIPTION:Enjoy Free Museum After Hours at the Albrecht-Kemper Museum of Art\, featuring free admission\, creative activities\, dinner\, drinks\, and a fun evening of art and community in St. Joseph.
URL:https://stjomo.com/event/free-museum-after-hours-2/
LOCATION:Albrecht Kemper Museum of Art\, 2818 Frederick Ave\, St. Joseph\, MO\, 64506\, United States
ATTACH;FMTTYPE=image/jpeg:https://stjomo.com/wp-content/uploads/2026/03/2.jpg
END:VEVENT
BEGIN:VEVENT
DTSTART;TZID=America/Chicago:20260324T180000
DTEND;TZID=America/Chicago:20260324T180000
DTSTAMP:20260421T085031
CREATED:20260317T155509Z
LAST-MODIFIED:20260319T152248Z
UID:101091-1774375200-1774375200@stjomo.com
SUMMARY:Cemetery BINGO at Castle Bridge
DESCRIPTION:Join Mount Mora Cemetery Preservation and Restoration Association for a fun evening of Bingo at Castle Bridge Event Center on Tuesday\, March 24\, 2026. Doors open at 6:00 PM and Bingo begins at 7:00 PM. Enjoy food from Vogel’s Burgers\, Pizza and More while playing for prizes and supporting a great cause. Proceeds from the evening help fund the preservation\, restoration\, and maintenance of historic gravestones\, monuments\, and mausoleums at Mount Mora Cemetery.
URL:https://stjomo.com/event/mount-mora-cemetery-bingo-night/
LOCATION:Castle Bridge Event Center\, 8403 B US Highway\, St. Joseph\, MO\, 64504\, United States
ATTACH;FMTTYPE=image/png:https://stjomo.com/wp-content/uploads/2026/03/Bingo-Hosted-by-Mount-Mora-Cemetery.png
END:VEVENT
END:VCALENDAR