BEGIN:VCALENDAR
VERSION:2.0
PRODID:-//St. Joseph, MO Convention &amp; Visitors Bureau - ECPv6.6.4.2//NONSGML v1.0//EN
CALSCALE:GREGORIAN
METHOD:PUBLISH
X-WR-CALNAME:St. Joseph, MO Convention &amp; Visitors Bureau
X-ORIGINAL-URL:https://stjomo.com
X-WR-CALDESC:Events for St. Joseph, MO Convention &amp; Visitors Bureau
REFRESH-INTERVAL;VALUE=DURATION:PT1H
X-Robots-Tag:noindex
X-PUBLISHED-TTL:PT1H
BEGIN:VTIMEZONE
TZID:America/Chicago
BEGIN:DAYLIGHT
TZOFFSETFROM:-0600
TZOFFSETTO:-0500
TZNAME:CDT
DTSTART:20260308T080000
END:DAYLIGHT
BEGIN:STANDARD
TZOFFSETFROM:-0500
TZOFFSETTO:-0600
TZNAME:CST
DTSTART:20261101T070000
END:STANDARD
END:VTIMEZONE
BEGIN:VEVENT
DTSTART;TZID=America/Chicago:20260507T173000
DTEND;TZID=America/Chicago:20260507T193000
DTSTAMP:20260423T070010
CREATED:20260327T155900Z
LAST-MODIFIED:20260327T155900Z
UID:101381-1778175000-1778182200@stjomo.com
SUMMARY:Colored Pencil Happy Hour with Wanda Taylor
DESCRIPTION:Join Wanda Taylor for Colored Pencil Happy Hour\, a relaxed and engaging evening class designed for artists of all skill levels. With more than 20 years of colored pencil experience\, Wanda will guide participants through composition\, complementary color\, texture\, blending\, and personal style. Follow along with guided instruction or bring your own reference materials for personalized support. Each session offers step by step\, layer by layer instruction to help you build confidence and sharpen your colored pencil techniques.
URL:https://stjomo.com/event/colored-pencil-happy-hour-wanda-taylor-4/
LOCATION:Albrecht Kemper Museum of Art\, 2818 Frederick Ave\, St. Joseph\, MO\, 64506\, United States
ATTACH;FMTTYPE=image/jpeg:https://stjomo.com/wp-content/uploads/2026/03/Colored-Pencil-Happy-Hour-2.jpg
END:VEVENT
BEGIN:VEVENT
DTSTART;TZID=America/Chicago:20260507T190000
DTEND;TZID=America/Chicago:20260507T190000
DTSTAMP:20260423T070010
CREATED:20260410T150028Z
LAST-MODIFIED:20260410T150028Z
UID:101693-1778180400-1778180400@stjomo.com
SUMMARY:Game Night WARHAMMER!
DESCRIPTION:Join us for Game Night WARHAMMER on Thursday\, May 7\, 2026 at 7:00 PM. Whether you are a longtime Warhammer fan or just curious about the hobby\, this event is a great chance to connect with others who enjoy the game\, painting\, and lore. Bring your armies to play\, bring models to paint\, or come learn what Warhammer is all about. Our host will have armies and painting supplies available and will be happy to answer questions about gameplay\, painting techniques\, and the world of Warhammer. Since this is our first Warhammer event\, we are keeping things relaxed and focused on painting\, conversation\, and getting to know fellow fans\, but you are welcome to bring a friend and play as well.
URL:https://stjomo.com/event/game-night-warhammer/
LOCATION:1st Barrel Brewing\, 510 B Edmond\, Saint Joseph\, MO\, 64501\, United States
CATEGORIES:Downtown
ATTACH;FMTTYPE=image/jpeg:https://stjomo.com/wp-content/uploads/2026/04/Warhammer.jpg
END:VEVENT
END:VCALENDAR