BEGIN:VCALENDAR
VERSION:2.0
PRODID:-//St. Joseph, MO Convention &amp; Visitors Bureau - ECPv6.6.4.2//NONSGML v1.0//EN
CALSCALE:GREGORIAN
METHOD:PUBLISH
X-ORIGINAL-URL:https://stjomo.com
X-WR-CALDESC:Events for St. Joseph, MO Convention &amp; Visitors Bureau
REFRESH-INTERVAL;VALUE=DURATION:PT1H
X-Robots-Tag:noindex
X-PUBLISHED-TTL:PT1H
BEGIN:VTIMEZONE
TZID:America/Chicago
BEGIN:DAYLIGHT
TZOFFSETFROM:-0600
TZOFFSETTO:-0500
TZNAME:CDT
DTSTART:20250309T080000
END:DAYLIGHT
BEGIN:STANDARD
TZOFFSETFROM:-0500
TZOFFSETTO:-0600
TZNAME:CST
DTSTART:20251102T070000
END:STANDARD
END:VTIMEZONE
BEGIN:VEVENT
DTSTART;TZID=America/Chicago:20250802T190000
DTEND;TZID=America/Chicago:20250802T190000
DTSTAMP:20260423T053008
CREATED:20250725T193830Z
LAST-MODIFIED:20250725T193830Z
UID:98746-1754161200-1754161200@stjomo.com
SUMMARY:2025 Homecoming Concert - "Find the Way"
DESCRIPTION:Join us for the 2025 Homecoming Concert\, Find the Way\, presented by the NGSingers!This unforgettable evening of choral music and community spirit takes place Saturday\, August 2\, 2025 at the historic Missouri Theater in St. Joseph\, Missouri. \nConcert begins at 7:00 PMDoors open at 4:00 PM
URL:https://stjomo.com/event/ngsingers-homecoming-2025/
LOCATION:Missouri Theater\, 717 Edmond St.\, St. Joseph\, MO\, 64501\, United States
CATEGORIES:Downtown
ATTACH;FMTTYPE=image/png:https://stjomo.com/wp-content/uploads/2025/07/2025-Homecoming-Concert-Find-the-Way.png
ORGANIZER;CN="NGSingers":MAILTO:info@ngsingers.com
END:VEVENT
BEGIN:VEVENT
DTSTART;TZID=America/Chicago:20250802T200000
DTEND;TZID=America/Chicago:20250802T200000
DTSTAMP:20260423T053008
CREATED:20250728T195719Z
LAST-MODIFIED:20250728T195719Z
UID:98772-1754164800-1754164800@stjomo.com
SUMMARY:Live Music with Pooki - At The Den
DESCRIPTION:Expect a fun\, free evening of live tunes from Pooki in an upbeat\, intimate setting at The Den.\nA chill\, local‑style night out in St. Joe—reliable\, relaxed\, and full of good vibes.\n\nNO COVER21+ after 8\nGet there early to secure seating
URL:https://stjomo.com/event/live-music-with-pooki-at-the-den/
LOCATION:The Den\, 519 Felix Street\, Saint Joseph\, MO\, 64501\, United States
CATEGORIES:Downtown
ATTACH;FMTTYPE=image/png:https://stjomo.com/wp-content/uploads/2025/07/Live-Music-with-Pooki-At-The-Den.png
END:VEVENT
BEGIN:VEVENT
DTSTART;TZID=America/Chicago:20250808T200000
DTEND;TZID=America/Chicago:20250808T200000
DTSTAMP:20260423T053008
CREATED:20250728T191443Z
LAST-MODIFIED:20250728T191443Z
UID:98766-1754683200-1754683200@stjomo.com
SUMMARY:Live Music with Jason Riley - At The Den
DESCRIPTION:Live music with Jason Riley at THE DEN! Enjoy a night of great guitar playing and good vibes. Don’t miss this talented local musician in a fun\, relaxed setting.\n\n8 PMNo Cover
URL:https://stjomo.com/event/live-music-with-jason-riley-at-the-den/
LOCATION:The Den\, 519 Felix Street\, Saint Joseph\, MO\, 64501\, United States
CATEGORIES:Downtown
ATTACH;FMTTYPE=image/png:https://stjomo.com/wp-content/uploads/2025/07/Jason-Riley-The-Den.png
END:VEVENT
BEGIN:VEVENT
DTSTART;VALUE=DATE:20250809
DTEND;VALUE=DATE:20250811
DTSTAMP:20260423T053008
CREATED:20250805T212839Z
LAST-MODIFIED:20250805T212839Z
UID:98845-1754697600-1754870399@stjomo.com
SUMMARY:Walt Disney's Robin Hood
DESCRIPTION:Walt Disney’s Robin Hood brings the legendary outlaw to life as a clever\, bow-wielding fox who steals from the rich to give to the poor. Filled with catchy songs\, lovable characters\, and swashbuckling adventure\, it’s a timeless animated tale of courage and heart.\nShowtimes: Sat\, 8/9 1pm & 4pm. Sun\, 8/10 1pm.
URL:https://stjomo.com/event/disneys-robin-hood-trial-theatre/
LOCATION:The Trail Theatre\, 111 North Ninth Street\, Saint Joseph\, MO\, 64501\, United States
CATEGORIES:Downtown
ATTACH;FMTTYPE=image/png:https://stjomo.com/wp-content/uploads/2025/08/Walt-Disneys-Robin-Hood.png
END:VEVENT
BEGIN:VEVENT
DTSTART;TZID=America/Chicago:20250809T100000
DTEND;TZID=America/Chicago:20250809T170000
DTSTAMP:20260423T053008
CREATED:20250805T211734Z
LAST-MODIFIED:20250805T211809Z
UID:98841-1754733600-1754758800@stjomo.com
SUMMARY:Bohemian Summer-August Second Saturday
DESCRIPTION:Build Your Own Bouquet or Flower Crown with Homeplace Fields from 11a-3p. Make your bouquet as small or large as you like because you pay by the stem OR make a flower crown!\nFeatured Artist of the Month: Moth Necklaces. Buy her amazing handmade moth necklaces with moving wings!\nEvents are happening all over downtown Saint Joseph\, Missouri\, so don’t forget to make a day of it and visit our neighbors\, too!
URL:https://stjomo.com/event/bohemian-summer-august-second-saturday/
LOCATION:Nesting Goods\, 615 Felix Street\, Saint Joseph\, MO\, 64501\, United States
CATEGORIES:Downtown
ATTACH;FMTTYPE=image/jpeg:https://stjomo.com/wp-content/uploads/2025/08/Bohemian-Summer-August-Second-Saturday.jpg
ORGANIZER;CN="Homeplace Fields":MAILTO:homeplacefields@gmail.com
END:VEVENT
BEGIN:VEVENT
DTSTART;TZID=America/Chicago:20250809T110000
DTEND;TZID=America/Chicago:20250809T110000
DTSTAMP:20260423T053008
CREATED:20250806T210316Z
LAST-MODIFIED:20250806T210316Z
UID:98856-1754737200-1754737200@stjomo.com
SUMMARY:Chicken n Waffles Brunch - At The Den!
DESCRIPTION:Second Saturday’s BRUNCH is BACK at The Den! Come enjoy chicken and waffles from D&G and Sweet Emotions\, plus a fruit charcuterie. They’ll have bottomless mimosas with a variety of mixers\, espresso martinis and even a special chocolate “milk” concoction for those with a sweet tooth. Your ticket includes brunch buffet\, welcome cocktail/mocktail and 10% off any additional purchases. Minors must have a ticket purchased and be accompanied by a ticketed adult. Must be 21+ for alcohol purchases. For more information and to purchase tickets\, see here.
URL:https://stjomo.com/event/chicken-waffles-brunch-den/
LOCATION:The Den\, 519 Felix Street\, Saint Joseph\, MO\, 64501\, United States
CATEGORIES:Downtown
ATTACH;FMTTYPE=image/png:https://stjomo.com/wp-content/uploads/2025/08/Chicken-n-Waffles-Brunch.png
END:VEVENT
BEGIN:VEVENT
DTSTART;TZID=America/Chicago:20250809T160000
DTEND;TZID=America/Chicago:20250809T190000
DTSTAMP:20260423T053008
CREATED:20250805T205328Z
LAST-MODIFIED:20250805T205517Z
UID:98838-1754755200-1754766000@stjomo.com
SUMMARY:inspireU Back to School Back Family Event
DESCRIPTION:Wrap up summer with laughter\, memory-making\, and one last big adventure for the whole family before the school bell rings! All activities and food included with ticket purchase. Fuel up with a classic cookout dinner of hot dogs\, chips\, cookies and water\, then explore exciting activities happening all across our exhibits.\nCreate giant bubbles on the rooftop\, experiment in a colorful foamy science lab\, show off your best dance moves in Club 521\, and so much more! MEGA gymnastics will also join the fun\, inviting everyone to get moving with a fun activity.Mad Science Shaving Cream Lab- Mix\, swirl\, and experiment with colorful shaving cream in this hands-on science lab! We will explore color mixing and texture while creating foamy art.Enormous Bubbles on the Rooftop- Make magic in the sky with giant bubble wands! Create huge bubbles and 3D shapes for bubbly fun on the rooftop!Club 521 Dance Party- Step into Club 521 for a kid-friendly dance floor packed with music\, lights\, glow gear\, and non-stop fun! Bring your best moves!Backpack buttons- start school with style! Create your own buttons for your backpack.Other activities include: Straw Rockets\, friendship bracelet making\, and Make Your Own Sticker with our sticker-making machine. \ninspireU Children’s Discovery Center\, located at 521 Felix St. St. Joseph\, MO 64501\, is a 35\,000 square foot facility\, featuring over 20 core exhibits\, a rooftop exploratorium\, interactive play areas\, and educational spaces for children ages birth to 10 and their families.\nAll ages welcome. Children 18 and under must be accompanied by an adult. Children 1 and under are free.\nRegister today! Purchase tickets now\, $20 per person online\, or $25 per person at the door.inspireU Members can purchase discounted tickets\, $10 per person online or $15 per person at the door.\nCaregivers can purchase discounted tickets\, $10 per person online or $15 per person at the door. (You will be asked to show employee ID upon entrance).\nTo learn more and purchase tickets go to inspireU.com.\nAdmission to this special event must be purchased separately from general admission. inspireU will be closing at 2 p.m. on August 9 inpreparation for the big event!
URL:https://stjomo.com/event/back-to-school-bash-st-joseph/
LOCATION:inspireU Children’s Discovery Center\, 521 Felix St.\, St. Joseph\, MO\, 64501\, United States
CATEGORIES:Downtown
ATTACH;FMTTYPE=image/png:https://stjomo.com/wp-content/uploads/2025/08/inspireU-Back-to-School-Bash-Family-Event.png
END:VEVENT
BEGIN:VEVENT
DTSTART;TZID=America/Chicago:20250815T183000
DTEND;TZID=America/Chicago:20250815T213000
DTSTAMP:20260423T053008
CREATED:20250728T205430Z
LAST-MODIFIED:20250728T205430Z
UID:98777-1755282600-1755293400@stjomo.com
SUMMARY:Sounds of Summer Concert Series - The Weasels
DESCRIPTION:Get ready for an explosive night as The Weasels heat up the stage!The night will be packed with good tunes and good people!Enjoy amazing live music under the summer sky in the heart of downtown! Our beer tent will be open for refreshing beverages (available for purchase).Please note: Per state and city regulations\, no coolers or outside beverages are permitted. \nFREE ADMISSION
URL:https://stjomo.com/event/sounds-of-summer-concert-series-the-weasels/
LOCATION:Coleman Hawkins Park\, 701 Felix St\, St Joseph\, MO\, 64501\, United States
CATEGORIES:Downtown
ATTACH;FMTTYPE=image/png:https://stjomo.com/wp-content/uploads/2025/07/Sounds-of-Summer-Concert-Series-The-Weasels.png
ORGANIZER;CN="Downtown Association":MAILTO:st.josephdowntown@yahoo.com
END:VEVENT
BEGIN:VEVENT
DTSTART;TZID=America/Chicago:20250821T183000
DTEND;TZID=America/Chicago:20250821T183000
DTSTAMP:20260423T053008
CREATED:20250818T202822Z
LAST-MODIFIED:20250818T202822Z
UID:98936-1755801000-1755801000@stjomo.com
SUMMARY:Music Trivia - At The Den
DESCRIPTION:Think you know your music? Prove it at Music Trivia Night at THE DEN\, hosted by Bob Shultz! From classic rock anthems to today’s top hits\, you’ll test your knowledge across decades and genres in a fun\, laid-back atmosphere. \nBring your friends\, grab a drink\, and get ready for plenty of laughs and a little friendly competition. It’s free to play\, and the top teams walk away with prizes. Whether you’re a trivia veteran or just love music\, this is the perfect night out in St. Joseph. \n21+ after 8 PM. Gather your crew and join us for a night of music\, memories\, and maybe even bragging rights!
URL:https://stjomo.com/event/music-trivia-the-den/
LOCATION:The Den\, 519 Felix Street\, Saint Joseph\, MO\, 64501\, United States
CATEGORIES:Downtown
ATTACH;FMTTYPE=image/png:https://stjomo.com/wp-content/uploads/2025/08/Music-Trivia-At-The-Den.png
END:VEVENT
BEGIN:VEVENT
DTSTART;TZID=America/Chicago:20250822T190000
DTEND;TZID=America/Chicago:20250822T210000
DTSTAMP:20260423T053008
CREATED:20250818T213753Z
LAST-MODIFIED:20250818T213753Z
UID:98956-1755889200-1755896400@stjomo.com
SUMMARY:13th Anniversary Cabaret
DESCRIPTION:Join us as we celebrate 13 years of music and community in St. Joseph! This special evening will feature a variety of talented individuals and small groups sharing their gifts of song and entertainment. Admission is free with a free-will donation encouraged. Come enjoy an uplifting night of music\, fellowship\, and celebration with our singing community.
URL:https://stjomo.com/event/stjoseph-singing-celebration-2025/
LOCATION:Center for Joy\, 1202 Felix Street\, Saint Joseph\, MO\, 64501\, United States
CATEGORIES:Downtown
ATTACH;FMTTYPE=image/png:https://stjomo.com/wp-content/uploads/2025/08/Something-Else-Cabaret.png
END:VEVENT
BEGIN:VEVENT
DTSTART;TZID=America/Chicago:20250823T150000
DTEND;TZID=America/Chicago:20250823T150000
DTSTAMP:20260423T053008
CREATED:20250818T204255Z
LAST-MODIFIED:20250818T204255Z
UID:98938-1755961200-1755961200@stjomo.com
SUMMARY:Market Days St. Joseph 2025 | Shops\, Arts & Eats
DESCRIPTION:Join us for Market Days of St. Joseph\, Missouri on August 23–24\, 2025. Explore more than 100 vendors showcasing unique goods\, handmade wares\, vintage finds\, antiques\, and local specialties. \nEnjoy a wide selection of food trucks and specialty food vendors offering delicious meals\, sweets\, and treats throughout the weekend. \nMark your calendars and make plans to attend Market Days of St. Joseph\, a two-day celebration of shopping\, food\, and community. Discounted weekend passes are available online. For vendor information and applications\, visit MarketDays.com.
URL:https://stjomo.com/event/market-days-st-joseph-2025-shops-arts-eats/
LOCATION:Civic Arena\, 100 N 4th St\,\, St Joseph\, 64501\, United States
CATEGORIES:Downtown
ATTACH;FMTTYPE=image/png:https://stjomo.com/wp-content/uploads/2025/08/Market-Days-at-Civic-Arena.png
ORGANIZER;CN="Market Days":MAILTO:Hello@marketdays.com
END:VEVENT
END:VCALENDAR