BEGIN:VCALENDAR
VERSION:2.0
PRODID:-//St. Joseph, MO Convention &amp; Visitors Bureau - ECPv6.6.4.2//NONSGML v1.0//EN
CALSCALE:GREGORIAN
METHOD:PUBLISH
X-WR-CALNAME:St. Joseph, MO Convention &amp; Visitors Bureau
X-ORIGINAL-URL:https://stjomo.com
X-WR-CALDESC:Events for St. Joseph, MO Convention &amp; Visitors Bureau
REFRESH-INTERVAL;VALUE=DURATION:PT1H
X-Robots-Tag:noindex
X-PUBLISHED-TTL:PT1H
BEGIN:VTIMEZONE
TZID:America/Chicago
BEGIN:DAYLIGHT
TZOFFSETFROM:-0600
TZOFFSETTO:-0500
TZNAME:CDT
DTSTART:20260308T080000
END:DAYLIGHT
BEGIN:STANDARD
TZOFFSETFROM:-0500
TZOFFSETTO:-0600
TZNAME:CST
DTSTART:20261101T070000
END:STANDARD
END:VTIMEZONE
BEGIN:VEVENT
DTSTART;TZID=America/Chicago:20260601T180000
DTEND;TZID=America/Chicago:20260601T210000
DTSTAMP:20260423T155744
CREATED:20260410T141444Z
LAST-MODIFIED:20260410T141444Z
UID:101675-1780336800-1780347600@stjomo.com
SUMMARY:Jake's Acoustic Jam
DESCRIPTION:Jake’s Acoustic Jam returns to Jake’s Steakhouse & Sports Bar on Monday\, June 1\, 2026\, from 6 to 9 PM. Hosted by Phil Vandel\, Jeff Hofmeister\, and Charles Stone\, this acoustic guitar based jam session welcomes singers\, players\, and music fans for an evening of live local music. Performers can sign up to play\, sing\, or jam along. No guitar amps. Just plug in direct and enjoy a relaxed\, all ages acoustic music experience in St. Joseph.
URL:https://stjomo.com/event/jakes-acoustic-jam-7/
LOCATION:Jake’s Steakhouse & Sports Bar\, 620 Edmond Street\, Saint Joseph\, MO\, 64501\, United States
CATEGORIES:Downtown
ATTACH;FMTTYPE=image/png:https://stjomo.com/wp-content/uploads/2026/03/Jakes-Acoustic-Jam.png
ORGANIZER;CN="Phil Vandel":MAILTO:info@vandelproductions.com
END:VEVENT
BEGIN:VEVENT
DTSTART;TZID=America/Chicago:20260604T183000
DTEND;TZID=America/Chicago:20260604T213000
DTSTAMP:20260423T155744
CREATED:20260309T153926Z
LAST-MODIFIED:20260309T153926Z
UID:101010-1780597800-1780608600@stjomo.com
SUMMARY:Fun & Free Trivia with Bob Shultz
DESCRIPTION:Join us every Thursday at The Den for Fun & Free Trivia with host Bob Shultz. Enjoy a variety of categories\, compete for prizes\, and bring a team or play solo. Sign ups begin at 6:30 p.m. and trivia starts at 7 p.m. 21+ after 8 p.m.
URL:https://stjomo.com/event/fun-free-trivia-with-bob-shultz/
LOCATION:The Den\, 519 Felix Street\, Saint Joseph\, MO\, 64501\, United States
CATEGORIES:Downtown
ATTACH;FMTTYPE=image/jpeg:https://stjomo.com/wp-content/uploads/2026/03/Fun-Free-Trivia-with-Bob-Shultz-At-The-Den.jpg
END:VEVENT
BEGIN:VEVENT
DTSTART;TZID=America/Chicago:20260617T100000
DTEND;TZID=America/Chicago:20260617T160000
DTSTAMP:20260423T155744
CREATED:20260319T153716Z
LAST-MODIFIED:20260319T153716Z
UID:101160-1781690400-1781712000@stjomo.com
SUMMARY:Sketch Inside the Historic Missouri Theater
DESCRIPTION:Step inside one of St. Joseph’s most treasured landmarks for a special sketching experience inside the historic Missouri Theater. As the theater approaches its 100-year anniversary in 2027\, this unique field trip offers artists of all levels the chance to explore and sketch its stunning interior up close. \nThe day begins with a brief presentation from Lori McAlister\, who will share the history of the theater\, the sculptural work of Waylande Gregory\, and key architectural features throughout the building. Participants will then enjoy a relaxed\, self-guided sketch session inside this iconic downtown space\, with time to break for lunch before returning for an afternoon of continued sketching. \nClean\, dry media suitable for use over carpet is required\, including pencils\, pens\, or watercolor. Pre-registration is required. Admission is $20\, and proceeds benefit the Albrecht-Kemper Museum of Art and the Missouri Theater.
URL:https://stjomo.com/event/sketch-inside-the-historic-missouri-theater/
LOCATION:Missouri Theater\, 717 Edmond St.\, St. Joseph\, MO\, 64501\, United States
CATEGORIES:Downtown
ATTACH;FMTTYPE=image/jpeg:https://stjomo.com/wp-content/uploads/2026/03/Sketch-Inside-the-Historic-Missouri-Theater.jpg
END:VEVENT
END:VCALENDAR