BEGIN:VCALENDAR
VERSION:2.0
PRODID:-//St. Joseph, MO Convention &amp; Visitors Bureau - ECPv6.6.4.2//NONSGML v1.0//EN
CALSCALE:GREGORIAN
METHOD:PUBLISH
X-ORIGINAL-URL:https://stjomo.com
X-WR-CALDESC:Events for St. Joseph, MO Convention &amp; Visitors Bureau
REFRESH-INTERVAL;VALUE=DURATION:PT1H
X-Robots-Tag:noindex
X-PUBLISHED-TTL:PT1H
BEGIN:VTIMEZONE
TZID:America/Chicago
BEGIN:DAYLIGHT
TZOFFSETFROM:-0600
TZOFFSETTO:-0500
TZNAME:CDT
DTSTART:20260308T080000
END:DAYLIGHT
BEGIN:STANDARD
TZOFFSETFROM:-0500
TZOFFSETTO:-0600
TZNAME:CST
DTSTART:20261101T070000
END:STANDARD
END:VTIMEZONE
BEGIN:VEVENT
DTSTART;VALUE=DATE:20260306
DTEND;VALUE=DATE:20260309
DTSTAMP:20260420T194252
CREATED:20260223T162529Z
LAST-MODIFIED:20260223T162529Z
UID:100570-1772755200-1773014399@stjomo.com
SUMMARY:Moila Shrine Circus
DESCRIPTION:Come one\, come all! Experience the wonder of the 71st Annual Moila Shrine Circus\, March 6-8\, at the St. Joseph Civic Arena\, 100 N. 4th St. Bring the whole family for a weekend of magic\, featuring death-defying acts\, hilarious clowns and jaw-dropping performances. Tickets are $25 for one adult AND one child/$12 for one child. Multiple show times available. For more information and to purchase tickets online\, see here. Don’t miss the fun!
URL:https://stjomo.com/event/moila-shrine-circus-3/
LOCATION:Civic Arena\, 100 N 4th St\,\, St Joseph\, 64501\, United States
CATEGORIES:Downtown
ATTACH;FMTTYPE=image/jpeg:https://stjomo.com/wp-content/uploads/2026/02/71st-Annual-Moila-Shrine-Circus.jpg
ORGANIZER;CN="Moila Shriners":MAILTO:brenda@moila.org
END:VEVENT
BEGIN:VEVENT
DTSTART;TZID=America/Chicago:20260306T180000
DTEND;TZID=America/Chicago:20260306T210000
DTSTAMP:20260420T194252
CREATED:20260225T171252Z
LAST-MODIFIED:20260225T171252Z
UID:100641-1772820000-1772830800@stjomo.com
SUMMARY:Drag Bingo
DESCRIPTION:Join St. Joe Pride for a fun night of Drag Bingo with games\, prizes\, and live entertainment hosted by Heather Fellas. Doors open at 6:00 PM and bingo begins at 7:00 PM on Friday\, March 6\, 2026. Bingo cards are $1 each\, with concessions available for purchase. The event takes place at 927 Faraon St in St. Joseph\, Missouri\, and everyone is welcome.
URL:https://stjomo.com/event/drag-bingo-st-joe-pride/
LOCATION:First Christian Church\, 927 Faraon St.\, St. Joseph\, MO\, 64501\, United States
CATEGORIES:Downtown
ATTACH;FMTTYPE=image/png:https://stjomo.com/wp-content/uploads/2026/02/Drag-Bingo.png
ORGANIZER;CN="St Joe Pride":MAILTO:midlandequality@gmail.com
END:VEVENT
BEGIN:VEVENT
DTSTART;TZID=America/Chicago:20260306T193000
DTEND;TZID=America/Chicago:20260306T193000
DTSTAMP:20260420T194252
CREATED:20260223T155721Z
LAST-MODIFIED:20260223T155721Z
UID:100559-1772825400-1772825400@stjomo.com
SUMMARY:Live Performance of ANNIE
DESCRIPTION:Robidoux Resident Theatre presents the classic musical Annie live at the Missouri Theater in St. Joseph\, Missouri. Follow little orphan Annie on a big hearted adventure through 1930s New York City featuring unforgettable songs like “Tomorrow.” Performances are March 6 and 7 at 7:30 p.m. and March 8 at 2 p.m. Tickets range from $29 to $49 for adults and $21 to $41 for children 12 and under. The Missouri Theater is located at 717 Edmond St. For tickets and details\, call (816) 232-1778.
URL:https://stjomo.com/event/annie-robidoux-resident-theatre/
LOCATION:Missouri Theater\, 717 Edmond St.\, St. Joseph\, MO\, 64501\, United States
CATEGORIES:Downtown
ATTACH;FMTTYPE=image/jpeg:https://stjomo.com/wp-content/uploads/2026/02/Live-Performance-of-ANNIE.jpg
END:VEVENT
END:VCALENDAR