BEGIN:VCALENDAR
VERSION:2.0
PRODID:-//St. Joseph, MO Convention &amp; Visitors Bureau - ECPv6.6.4.2//NONSGML v1.0//EN
CALSCALE:GREGORIAN
METHOD:PUBLISH
X-WR-CALNAME:St. Joseph, MO Convention &amp; Visitors Bureau
X-ORIGINAL-URL:https://stjomo.com
X-WR-CALDESC:Events for St. Joseph, MO Convention &amp; Visitors Bureau
REFRESH-INTERVAL;VALUE=DURATION:PT1H
X-Robots-Tag:noindex
X-PUBLISHED-TTL:PT1H
BEGIN:VTIMEZONE
TZID:America/Chicago
BEGIN:DAYLIGHT
TZOFFSETFROM:-0600
TZOFFSETTO:-0500
TZNAME:CDT
DTSTART:20260308T080000
END:DAYLIGHT
BEGIN:STANDARD
TZOFFSETFROM:-0500
TZOFFSETTO:-0600
TZNAME:CST
DTSTART:20261101T070000
END:STANDARD
END:VTIMEZONE
BEGIN:VEVENT
DTSTART;VALUE=DATE:20260313
DTEND;VALUE=DATE:20260405
DTSTAMP:20260421T001335
CREATED:20260303T153152Z
LAST-MODIFIED:20260326T173504Z
UID:100841-1773360000-1775347199@stjomo.com
SUMMARY:Downtown Bunny Hunt
DESCRIPTION:Main Street Saint Joseph invites you to explore Downtown St. Joseph and hunt for hidden bunnies from March 13 to April 3. Pick up a Bunny Hunt form at your favorite downtown merchant\, then search downtown and record each bunny location next to its matching number on the form. After you find all the bunnies\, turn in your completed form at Longboards\, 106 S. 7th Street\, by 7:00 PM on Friday\, April 3. \nFour winners will be drawn. Each winner receives a $50 gift card to a downtown business or restaurant of their choice.
URL:https://stjomo.com/event/downtown-bunny-hunt/
LOCATION:Downtown St. Joseph\, St. Joseph\, MO\, 64501\, United States
CATEGORIES:Downtown
ATTACH;FMTTYPE=image/png:https://stjomo.com/wp-content/uploads/2026/03/Downtown-Bunny-Hunt.png
END:VEVENT
BEGIN:VEVENT
DTSTART;TZID=America/Chicago:20260315T150000
DTEND;TZID=America/Chicago:20260315T150000
DTSTAMP:20260421T001335
CREATED:20260305T145656Z
LAST-MODIFIED:20260305T145656Z
UID:100913-1773586800-1773586800@stjomo.com
SUMMARY:Téada - St Patrick's Celebration
DESCRIPTION:Celebrate St. Patrick’s season with Téada\, one of Ireland’s leading traditional music groups\, live at The United in St. Joseph\, Missouri. Known for driving tunes\, expressive melodies\, and world class musicianship\, Téada brings nearly 25 years of international touring to this special afternoon concert. The show begins Sunday\, March 15\, 2026 at 3:00 PM. A pre show Irish whiskey tasting reception is available as a Premium Ticket add on at 2:00 PM for ages 21 and up.
URL:https://stjomo.com/event/teada-st-patricks-celebration/
LOCATION:The United\, 602 Felix Street\, Saint Joseph\, MO\, 64501\, United States
CATEGORIES:Downtown
ATTACH;FMTTYPE=image/jpeg:https://stjomo.com/wp-content/uploads/2026/03/teada.jpg
ORGANIZER;CN="Oisin Mac Diarmada & Samantha Harvey":MAILTO:oisin@ceolproductions.com
END:VEVENT
BEGIN:VEVENT
DTSTART;TZID=America/Chicago:20260315T150000
DTEND;TZID=America/Chicago:20260315T150000
DTSTAMP:20260421T001335
CREATED:20260310T160058Z
LAST-MODIFIED:20260310T160058Z
UID:101024-1773586800-1773586800@stjomo.com
SUMMARY:TriLemma LIVE at Magoon's Famous Delicatessen
DESCRIPTION:Join us Sunday at 3 PM for a special matinee performance by TriLemma. Enjoy an afternoon of live music\, great atmosphere\, and a perfect way to spend your Sunday.
URL:https://stjomo.com/event/trilemma-live-at-magoons-famous-delicatessen/
LOCATION:Magoon’s Famous Delicatessen\, 632 S 8th St\, Saint Joseph\, MO\, 64501\, United States
CATEGORIES:Downtown
ATTACH;FMTTYPE=image/jpeg:https://stjomo.com/wp-content/uploads/2026/03/TriLemma.jpg
END:VEVENT
END:VCALENDAR