BEGIN:VCALENDAR
VERSION:2.0
PRODID:-//St. Joseph, MO Convention &amp; Visitors Bureau - ECPv6.6.4.2//NONSGML v1.0//EN
CALSCALE:GREGORIAN
METHOD:PUBLISH
X-ORIGINAL-URL:https://stjomo.com
X-WR-CALDESC:Events for St. Joseph, MO Convention &amp; Visitors Bureau
REFRESH-INTERVAL;VALUE=DURATION:PT1H
X-Robots-Tag:noindex
X-PUBLISHED-TTL:PT1H
BEGIN:VTIMEZONE
TZID:America/Chicago
BEGIN:DAYLIGHT
TZOFFSETFROM:-0600
TZOFFSETTO:-0500
TZNAME:CDT
DTSTART:20260308T080000
END:DAYLIGHT
BEGIN:STANDARD
TZOFFSETFROM:-0500
TZOFFSETTO:-0600
TZNAME:CST
DTSTART:20261101T070000
END:STANDARD
END:VTIMEZONE
BEGIN:VEVENT
DTSTART;VALUE=DATE:20260313
DTEND;VALUE=DATE:20260405
DTSTAMP:20260420T091847
CREATED:20260303T153152Z
LAST-MODIFIED:20260326T173504Z
UID:100841-1773360000-1775347199@stjomo.com
SUMMARY:Downtown Bunny Hunt
DESCRIPTION:Main Street Saint Joseph invites you to explore Downtown St. Joseph and hunt for hidden bunnies from March 13 to April 3. Pick up a Bunny Hunt form at your favorite downtown merchant\, then search downtown and record each bunny location next to its matching number on the form. After you find all the bunnies\, turn in your completed form at Longboards\, 106 S. 7th Street\, by 7:00 PM on Friday\, April 3. \nFour winners will be drawn. Each winner receives a $50 gift card to a downtown business or restaurant of their choice.
URL:https://stjomo.com/event/downtown-bunny-hunt/
LOCATION:Downtown St. Joseph\, St. Joseph\, MO\, 64501\, United States
CATEGORIES:Downtown
ATTACH;FMTTYPE=image/png:https://stjomo.com/wp-content/uploads/2026/03/Downtown-Bunny-Hunt.png
END:VEVENT
BEGIN:VEVENT
DTSTART;TZID=America/Chicago:20260404T190000
DTEND;TZID=America/Chicago:20260404T190000
DTSTAMP:20260420T091847
CREATED:20260304T164940Z
LAST-MODIFIED:20260304T164940Z
UID:100892-1775329200-1775329200@stjomo.com
SUMMARY:80's Karaoke/Dance Party - At The Den
DESCRIPTION:Step back in time and party like it is 1985 at The Den. Join Sharp Tunes for an 80s themed night of karaoke and dancing\, plus fun photo ops\, party decor and favors\, and a themed drink menu. This event is free to attend and is open to ages 21 and up.
URL:https://stjomo.com/event/80s-karaoke-dance-party-den/
LOCATION:The Den\, 519 Felix Street\, Saint Joseph\, MO\, 64501\, United States
CATEGORIES:Downtown
ATTACH;FMTTYPE=image/png:https://stjomo.com/wp-content/uploads/2026/03/80s-Karaoke-Dance-Party-At-The-Den.png
END:VEVENT
BEGIN:VEVENT
DTSTART;TZID=America/Chicago:20260404T190000
DTEND;TZID=America/Chicago:20260404T190000
DTSTAMP:20260420T091847
CREATED:20260402T143610Z
LAST-MODIFIED:20260402T143610Z
UID:101575-1775329200-1775329200@stjomo.com
SUMMARY:Tad Hopkins LIVE
DESCRIPTION:Join us this Saturday at 7 PM for an evening of live music with Tad Hopkins at Mokaska in St. Joseph\, Missouri. A favorite among local music lovers\, Tad Hopkins brings his singer-songwriter style to the Mokaska stage for a relaxed and memorable night of live entertainment.
URL:https://stjomo.com/event/tad-hopkins-mokaska-st-joseph-mo-april-4-2026/
LOCATION:Mokaska Coffee\, 705 Edmond Street\, Saint Joseph\, MO\, 64501\, United States
CATEGORIES:Downtown
ATTACH;FMTTYPE=image/png:https://stjomo.com/wp-content/uploads/2026/04/Tad-Hopkins.png
END:VEVENT
BEGIN:VEVENT
DTSTART;TZID=America/Chicago:20260404T190000
DTEND;TZID=America/Chicago:20260404T220000
DTSTAMP:20260420T091847
CREATED:20260317T161828Z
LAST-MODIFIED:20260317T161828Z
UID:101098-1775329200-1775340000@stjomo.com
SUMMARY:Hammer Toe and the Fun Guys LIVE at Jake's Steakhouse & Sports Bar
DESCRIPTION:Hammertoe & The Fun Guys take the stage on Saturday\, April 4\, 2026\, from 7 to 10 PM for a live performance featuring First Era classic rock. Join us for a fun evening of timeless favorites\, great music\, and an energetic atmosphere.
URL:https://stjomo.com/event/hammer-toe-and-the-fun-guys-live-at-jakes-steakhouse-sports-bar/
LOCATION:Jake’s Steakhouse & Sports Bar\, 620 Edmond Street\, Saint Joseph\, MO\, 64501\, United States
CATEGORIES:Downtown
ATTACH;FMTTYPE=image/jpeg:https://stjomo.com/wp-content/uploads/2026/03/Hammer-Toe-and-the-Fun-Guys.jpg
END:VEVENT
BEGIN:VEVENT
DTSTART;TZID=America/Chicago:20260404T200000
DTEND;TZID=America/Chicago:20260404T200000
DTSTAMP:20260420T091847
CREATED:20260330T144302Z
LAST-MODIFIED:20260330T144302Z
UID:101430-1775332800-1775332800@stjomo.com
SUMMARY:Kurt Allen Band LIVE
DESCRIPTION:Join us Saturday at 8 PM for a live performance by the Kurt Allen Band at Magoon’s. Get ready for a killer night of great music\, high energy\, and a fun Saturday night atmosphere. Come out\, grab a bite\, and enjoy an evening of live entertainment. A possible opening performance by The Pastaschio’s may also be part of the night.
URL:https://stjomo.com/event/kurt-allen-band-live-saturday-8pm/
LOCATION:Magoon’s Famous Delicatessen\, 632 S 8th St\, Saint Joseph\, MO\, 64501\, United States
CATEGORIES:Downtown
ATTACH;FMTTYPE=image/png:https://stjomo.com/wp-content/uploads/2026/03/Kurt-Allen-LIVE.png
ORGANIZER;CN="Kurt Allen Band":MAILTO:titaniumbluekc@gmail.com
END:VEVENT
END:VCALENDAR