BEGIN:VCALENDAR
VERSION:2.0
PRODID:-//St. Joseph, MO Convention &amp; Visitors Bureau - ECPv6.6.4.2//NONSGML v1.0//EN
CALSCALE:GREGORIAN
METHOD:PUBLISH
X-WR-CALNAME:St. Joseph, MO Convention &amp; Visitors Bureau
X-ORIGINAL-URL:https://stjomo.com
X-WR-CALDESC:Events for St. Joseph, MO Convention &amp; Visitors Bureau
REFRESH-INTERVAL;VALUE=DURATION:PT1H
X-Robots-Tag:noindex
X-PUBLISHED-TTL:PT1H
BEGIN:VTIMEZONE
TZID:America/Chicago
BEGIN:DAYLIGHT
TZOFFSETFROM:-0600
TZOFFSETTO:-0500
TZNAME:CDT
DTSTART:20210314T080000
END:DAYLIGHT
BEGIN:STANDARD
TZOFFSETFROM:-0500
TZOFFSETTO:-0600
TZNAME:CST
DTSTART:20211107T070000
END:STANDARD
BEGIN:DAYLIGHT
TZOFFSETFROM:-0600
TZOFFSETTO:-0500
TZNAME:CDT
DTSTART:20220313T080000
END:DAYLIGHT
BEGIN:STANDARD
TZOFFSETFROM:-0500
TZOFFSETTO:-0600
TZNAME:CST
DTSTART:20221106T070000
END:STANDARD
END:VTIMEZONE
BEGIN:VEVENT
DTSTART;VALUE=DATE:20210609
DTEND;VALUE=DATE:20220516
DTSTAMP:20260423T102034
CREATED:20211004T154838Z
LAST-MODIFIED:20211004T154939Z
UID:88442-1623196800-1652659199@stjomo.com
SUMMARY:St. Joseph Sculpture Walk
DESCRIPTION:The Sculpture Walk is a program of the Allied Arts Council that introduces contemporary outdoor public art and sculptures to our community. The Walk is a year-long exhibit of national\, juried\, outdoor sculptures displayed in Downtown St. Joseph and includes an eclectic mix of sculptures from artists nationwide. In 2021-22 there will be 21 sculptures on display. \nBROCHURE AND MAP HERE \nThe sculptures are owned by the artists and loaned to the Allied Arts Council for one year. Visitors are invited to vote for their favorite sculpture each year to determine the recipient of the People’s Choice Award. Brochures are available at various downtown businesses and in ballot boxes located near 8thand Felix\, 7th and Felix\, Edmond between 7th and 6th\, and the 500 block of Francis. To submit your vote\, simply tear off the voting panel and place it in one of the ballot boxes or bring it to the Allied Arts Council office\, or drop it through the mail slot at 118 S. 8th St.\, St. Joseph\, MO. \nThe program is made possible through a partnership with the City of St. Joseph and financial support from the Downtown Community Improvement District\, business sponsors\, and individual sponsors through the Friends of the Sculpture Walk. \nAll of the artwork on display is available for purchase. For more information\, or to purchase a sculpture\, please call the Allied Arts Council at 816-233-0231.
URL:https://stjomo.com/event/st-joseph-sculpture-walk/
LOCATION:Downtown St. Joseph\, St. Joseph\, MO\, 64501\, United States
ATTACH;FMTTYPE=image/jpeg:https://stjomo.com/wp-content/uploads/2021/10/210609-AAC-Sculpture-Walk-0111-scaled.jpg
END:VEVENT
BEGIN:VEVENT
DTSTART;VALUE=DATE:20211202
DTEND;VALUE=DATE:20211204
DTSTAMP:20260423T102034
CREATED:20211117T175650Z
LAST-MODIFIED:20211117T175650Z
UID:88991-1638403200-1638575999@stjomo.com
SUMMARY:Painting a Still Life with Larry DeGraff
DESCRIPTION:Painting a Still Life with Larry DeGraff\nDecember 2 – 3\, 2021\n9:30 am – 4:00 pm\n$220 for both days\, $130 per day\nIn this two-day workshop we will stay warm and cozy indoors by learning how to set up a small still life to paint. These still life miniatures contain 1-3 items of your choice and can make great gifts! Don’t forget to bring you subject matter. This class will include live demos\, discussions\, and one-on-one instruction. Larry teaches in oil\, but all mediums are welcome.
URL:https://stjomo.com/event/painting-a-still-life-with-larry-degraff/
LOCATION:Albrecht Kemper Museum of Art\, 2818 Frederick Ave\, St. Joseph\, MO\, 64506\, United States
ATTACH;FMTTYPE=image/png:https://stjomo.com/wp-content/uploads/2021/11/painting-still-life.png
END:VEVENT
BEGIN:VEVENT
DTSTART;TZID=America/Chicago:20211202T160000
DTEND;TZID=America/Chicago:20211202T180000
DTSTAMP:20260423T102034
CREATED:20211026T181219Z
LAST-MODIFIED:20211026T181219Z
UID:88829-1638460800-1638468000@stjomo.com
SUMMARY:Holiday Tea at the Mansion
DESCRIPTION:Join us for a traditional high tea at the Wyeth-Tootle mansion complete with champange\, delectable treats\, smoked salmon and much more! Tickets are $40 per person and available for purchase at http://www.stjosephmuseum.org. \n  \n 
URL:https://stjomo.com/event/holiday-tea-at-the-mansion/
LOCATION:Wyeth Tootle Mansion\, 1100 Charles St.\, St. Joseph\, MO\, 64501\, United States
ATTACH;FMTTYPE=image/jpeg:https://stjomo.com/wp-content/uploads/2021/10/69a2b2_4d0167b8f7004d98866435fbc77abcfd_mv2.jpg
ORGANIZER;CN="St. Joseph Museums":MAILTO:sjm@stjosephmuseum.org
END:VEVENT
BEGIN:VEVENT
DTSTART;TZID=America/Chicago:20211203T090000
DTEND;TZID=America/Chicago:20211203T120000
DTSTAMP:20260423T102034
CREATED:20220112T215527Z
LAST-MODIFIED:20220929T165553Z
UID:89198-1638522000-1638532800@stjomo.com
SUMMARY:Breakfast with Santa & Gingerbread Workshop
DESCRIPTION:Ring in December with Santa Claus at the Albrecht-Kemper Museum of Art! Santa’s pancakes are served hot off the griddle with sausage\, juice\, coffee\, and a special treat for the kids. After dining with Jolly Old Saint Nick\, participate in a special Gingerbread House-decorating workshop in the museum classroom. Reservations are required for both breakfast and the workshop. Breakfast: 9:00 – 11:30 am; Workshops: 10:00 am session & 11:00 am session. $10 per person for breakfast\, $10 per person for the workshop (an adult may participate with a child in the workshop at no additional cost).
URL:https://stjomo.com/event/breakfast-with-santa-gingerbread-workshop-2/
LOCATION:Albrecht Kemper Museum of Art\, 2818 Frederick Ave\, St. Joseph\, MO\, 64506\, United States
ATTACH;FMTTYPE=image/jpeg:https://stjomo.com/wp-content/uploads/2021/11/SantaBreakfast.jpg
END:VEVENT
BEGIN:VEVENT
DTSTART;TZID=America/Chicago:20211204T100000
DTEND;TZID=America/Chicago:20211204T120000
DTSTAMP:20260423T102034
CREATED:20211117T175153Z
LAST-MODIFIED:20211117T175153Z
UID:88988-1638612000-1638619200@stjomo.com
SUMMARY:Breakfast with Santa & Gingerbread Workshop
DESCRIPTION:$10 for breakfast\, $10 for the workshop \nRing in December with Santa Claus at the Albrecht-Kemper Museum of Art! Santa’s pancakes are served hot off the griddle with sausage\, juice\, coffee\, and a special treat for the kids. After dining with Jolly Old Saint Nick\, participate in a special Gingerbread House-decorating workshop in the museum classroom. Reservations are required for both breakfast and the workshop. An adult may participate with a child in the workshop at no additional cost.
URL:https://stjomo.com/event/breakfast-with-santa-gingerbread-workshop/
LOCATION:Albrecht Kemper Museum of Art\, 2818 Frederick Ave\, St. Joseph\, MO\, 64506\, United States
ATTACH;FMTTYPE=image/jpeg:https://stjomo.com/wp-content/uploads/2021/11/SantaBreakfast.jpg
END:VEVENT
BEGIN:VEVENT
DTSTART;TZID=America/Chicago:20211204T100000
DTEND;TZID=America/Chicago:20211204T200000
DTSTAMP:20260423T102034
CREATED:20211103T211741Z
LAST-MODIFIED:20211103T211741Z
UID:88903-1638612000-1638648000@stjomo.com
SUMMARY:Experience the Holidays Downtown
DESCRIPTION: \nSafely enjoy the magic of the holiday season downtown this year. We invite you to bring your friends and family downtown to experience all the fun activities\, great places to eat and unique shops with specialty gift options for everyone on your list. There will be activities and special events every Saturday. Carriage rides will take visitors through our city streets\, showcasing our historic architecture and marvelous holiday window displays.\nThis year we are providing a uniquely safe experience for families with our Santa Claus (Dec. 4th & 18th)\, Winter Princess (Dec. 11th)\, and their elves and helpers able to interact with kids in a safe\, outdoors\, and socially distanced manner. \nDec 4th – Saturday\n• Santa Claus (in our outdoor park gazebo with social distancing with kids) – 3 pm to 6 pm\n• Carriage Rides – 5:00 pm thru 8:00 pm\n• Holiday Pop Up Market\n• Festive Walkable Holiday Window Displays\n• First Saturday Downtown Stores Promos and Specials \nSponsors: Downtown Association\, Downtown Community Improvement District\, Gray Manufacturing\, Hillyard\, Missouri Western State University\, Mosaic Life Care\, St. Joseph Chamber of Commerce\, Convention & Visitors Bureau\, and Buchanan County
URL:https://stjomo.com/event/experience-the-holidays-downtown-5/
LOCATION:Felix Street Square\, 701 Felix Street\, St. Joseph\, MO\, 64501\, United States
ATTACH;FMTTYPE=image/jpeg:https://stjomo.com/wp-content/uploads/2019/11/181222-Christmas-in-the-Square-Evenson297.jpg
END:VEVENT
BEGIN:VEVENT
DTSTART;VALUE=DATE:20211210
DTEND;VALUE=DATE:20211213
DTSTAMP:20260423T102034
CREATED:20211004T190838Z
LAST-MODIFIED:20211004T190838Z
UID:88616-1639094400-1639353599@stjomo.com
SUMMARY:Irving Berlin's Holiday Inn
DESCRIPTION:MAINSTAGE SERIES | LIVE BROADWAY-STYLE MUSICAL THEATRE \nIrving Berlin’s Holiday Inn tells the story of Jim\, who leaves the bright lights of show business behind to settle down on his farmhouse in Connecticut… but life just isn’t the same without a bit of song and dance. Jim’s luck takes a spectacular turn when he meets Linda\, a spirited schoolteacher with talent to spare. Together they turn the farmhouse into a fabulous inn with dazzling performances to celebrate each holiday\, from Thanksgiving to the Fourth of July. But when Jim’s best friend Ted tries to lure Linda to Hollywood to be his new dance partner\, will Jim be able to salvage his latest chance at love? \nBased on the classic film\, this joyous musical features thrilling dance numbers\, laugh-out-loud comedy and a parade of hit Irving Berlin songs\, including “Blue Skies\,” “Easter Parade\,” “Steppin’ Out With My Baby\,” “Heat Wave\,” “White Christmas\,” “Be Careful\, It’s My Heart\,” “Cheek to Cheek\,” “Shaking the Blues Away” and many more! \nhttps://rrtstjoe.org/holiday-inn
URL:https://stjomo.com/event/irving-berlins-holiday-inn/
LOCATION:Missouri Theater\, 717 Edmond St.\, St. Joseph\, MO\, 64501\, United States
ATTACH;FMTTYPE=image/png:https://stjomo.com/wp-content/uploads/2021/10/holiday_inn_web.png
END:VEVENT
BEGIN:VEVENT
DTSTART;TZID=America/Chicago:20211211T100000
DTEND;TZID=America/Chicago:20211211T120000
DTSTAMP:20260423T102034
CREATED:20211026T181649Z
LAST-MODIFIED:20220929T165314Z
UID:88833-1639216800-1639224000@stjomo.com
SUMMARY:Mayor's Children's Christmas Party
DESCRIPTION:Join the fun with free ice skating\, goodies\, food\, Santa\, and so much more at the Mayor’s Children’s Christmas Party!
URL:https://stjomo.com/event/mayors-childrens-christmas-party/
LOCATION:Bode Ice Arena\, 2500 Southwest Pkwy\, St. Joseph\, MO\, 64503\, United States
ATTACH;FMTTYPE=image/jpeg:https://stjomo.com/wp-content/uploads/2021/10/566cb7981e34e.image_.jpg
END:VEVENT
BEGIN:VEVENT
DTSTART;TZID=America/Chicago:20211211T100000
DTEND;TZID=America/Chicago:20211211T200000
DTSTAMP:20260423T102034
CREATED:20211103T211330Z
LAST-MODIFIED:20211103T211330Z
UID:88899-1639216800-1639252800@stjomo.com
SUMMARY:Experience the Holidays Downtown
DESCRIPTION:Safely enjoy the magic of the holiday season downtown this year. We invite you to bring your friends and family downtown to experience all the fun activities\, great places to eat and unique shops with specialty gift options for everyone on your list. There will be activities and special events every Saturday. Carriage rides will take visitors through our city streets\, showcasing our historic architecture and marvelous holiday window displays.\nThis year we are providing a uniquely safe experience for families with our Santa Claus (Dec. 4th & 18th)\, Winter Princess (Dec. 11th)\, and their elves and helpers able to interact with kids in a safe\, outdoors\, and socially distanced manner. \nDec 11th – Saturday\n• Winter Princess (in our outdoor park gazebo with social distancing with kids) – 3 pm to 6 pm\n• Carriage Rides – 5:00 pm thru 8:00 pm\n• Holiday Pop Up Market\n• Festive Walkable Holiday Window Displays\n• Downtown Stores Promos and Specials \nSponsors: Downtown Association\, Downtown Community Improvement District\, Gray Manufacturing\, Hillyard\, Missouri Western State University\, Mosaic Life Care\, St. Joseph Chamber of Commerce\, Convention & Visitors Bureau\, and Buchanan County
URL:https://stjomo.com/event/experience-the-holidays-downtown-3/
LOCATION:Felix Street Square\, 701 Felix Street\, St. Joseph\, MO\, 64501\, United States
ATTACH;FMTTYPE=image/jpeg:https://stjomo.com/wp-content/uploads/2019/11/181222-Christmas-in-the-Square-Evenson297.jpg
END:VEVENT
BEGIN:VEVENT
DTSTART;TZID=America/Chicago:20211212T150000
DTEND;TZID=America/Chicago:20211212T160000
DTSTAMP:20260423T102034
CREATED:20211122T203322Z
LAST-MODIFIED:20211122T203322Z
UID:89002-1639321200-1639324800@stjomo.com
SUMMARY:Christmas at the Cathedral - Heaven Full of Stars
DESCRIPTION:Join the St. Joseph Community Chorus and Chamber Choir for “Christmas at the Cathedral\,” at the historic Cathedral of St. Joseph.
URL:https://stjomo.com/event/christmas-at-the-cathedral-heaven-full-of-stars/
LOCATION:Cathedral of St. Joseph\, 519 North 10th St\, St. Joseph\, MO\, 64501\, United States
ATTACH;FMTTYPE=image/jpeg:https://stjomo.com/wp-content/uploads/2021/11/https___cdn.evbuc_.com_images_189445319_263197014094_1_original.jpg
END:VEVENT
BEGIN:VEVENT
DTSTART;TZID=America/Chicago:20211218T100000
DTEND;TZID=America/Chicago:20211218T170000
DTSTAMP:20260423T102034
CREATED:20211103T211538Z
LAST-MODIFIED:20211103T211538Z
UID:88901-1639821600-1639846800@stjomo.com
SUMMARY:Experience the Holidays Downtown
DESCRIPTION:Safely enjoy the magic of the holiday season downtown this year. We invite you to bring your friends and family downtown to experience all the fun activities\, great places to eat and unique shops with specialty gift options for everyone on your list. There will be activities and special events every Saturday. Carriage rides will take visitors through our city streets\, showcasing our historic architecture and marvelous holiday window displays.\nThis year we are providing a uniquely safe experience for families with our Santa Claus (Dec. 4th & 18th)\, Winter Princess (Dec. 11th)\, and their elves and helpers able to interact with kids in a safe\, outdoors\, and socially distanced manner. \nDec 18th – Saturday\n• Santa Claus (in our outdoor park gazebo with social distancing with kids) – 3 pm to 6 pm\n• Carriage Rides – 5:00 pm thru 8:00 pm\n• Holiday Pop Up Market\n• Festive Walkable Holiday Window Displays\n• Downtown Stores Promos and Specials \nSponsors: Downtown Association\, Downtown Community Improvement District\, Gray Manufacturing\, Hillyard\, Missouri Western State University\, Mosaic Life Care\, St. Joseph Chamber of Commerce\, Convention & Visitors Bureau\, and Buchanan County
URL:https://stjomo.com/event/experience-the-holidays-downtown-4/
LOCATION:Felix Street Square\, 701 Felix Street\, St. Joseph\, MO\, 64501\, United States
ATTACH;FMTTYPE=image/jpeg:https://stjomo.com/wp-content/uploads/2019/11/181222-Christmas-in-the-Square-Evenson286.jpg
END:VEVENT
BEGIN:VEVENT
DTSTART;TZID=America/Chicago:20211218T120000
DTEND;TZID=America/Chicago:20211218T140000
DTSTAMP:20260423T102034
CREATED:20211117T174815Z
LAST-MODIFIED:20211117T174815Z
UID:88986-1639828800-1639836000@stjomo.com
SUMMARY:Arts on the Move: Six O'Clock Swing
DESCRIPTION:On December 18th\, from noon to 2 PM\, PAA will be at the East Hills Mall for what is known as the busiest shopping day of the year. Our guest artist will be Six O’Clock Swing\, a local jazz ensemble.
URL:https://stjomo.com/event/arts-on-the-move-six-oclock-swing/
LOCATION:East Hills Shopping Center\, 3702 Frederick Ave\, St. Joseph\, MO\, 64502\, United States
ATTACH;FMTTYPE=image/jpeg:https://stjomo.com/wp-content/uploads/2021/11/250869771_10159698845228485_6157355418272679130_n.jpg
END:VEVENT
BEGIN:VEVENT
DTSTART;TZID=America/Chicago:20211218T130000
DTEND;TZID=America/Chicago:20211218T150000
DTSTAMP:20260423T102034
CREATED:20211207T195710Z
LAST-MODIFIED:20211207T195710Z
UID:89057-1639832400-1639839600@stjomo.com
SUMMARY:Make & Take Craft
DESCRIPTION:Just in time for Christmas! Create your own ornament on these pre-painted wooden ornaments! Perfect for your family Christmas tree or as a gift for someone special! \nCost is just the admission to get in the building\, no extra charge for the craft.
URL:https://stjomo.com/event/make-take-craft-2/
LOCATION:Remington Nature Center\, 1502 McArthur Dr.\, St. Joseph\, MO\, 64505\, United States
ATTACH;FMTTYPE=image/jpeg:https://stjomo.com/wp-content/uploads/2021/12/264369858_4761069850620769_3100893142431372297_n.jpg
END:VEVENT
BEGIN:VEVENT
DTSTART;TZID=America/Chicago:20211218T190000
DTEND;TZID=America/Chicago:20211218T210000
DTSTAMP:20260423T102034
CREATED:20211004T191058Z
LAST-MODIFIED:20211004T191058Z
UID:88619-1639854000-1639861200@stjomo.com
SUMMARY:Holiday Cheer - Saint Joseph Symphony
DESCRIPTION:No holiday season is complete without hearing the Saint Joseph Symphony’s season concert – Holiday Cheer! Festive songs of the Christmas holiday paired with season favorites and Chanukah tunes; this concert promises to put you\, your friends and family in a cheerful mood. This year’s concert will feature soloist from the Robidoux Resident Theatre and their production of Irving Berlin’s Holiday Inn. Of course\, not holiday concert would be complete without our communal sing-a-long. Reserve your tickets today – open seats will not last – everyone needs some Holiday Cheer! \nTickets: http://saintjosephsymphony.org/tickets/single-tickets/
URL:https://stjomo.com/event/holiday-cheer-saint-joseph-symphony/
LOCATION:Missouri Theater\, 717 Edmond St.\, St. Joseph\, MO\, 64501\, United States
ATTACH;FMTTYPE=image/png:https://stjomo.com/wp-content/uploads/2021/10/57818_event_md.png
END:VEVENT
BEGIN:VEVENT
DTSTART;TZID=America/Chicago:20211218T193000
DTEND;TZID=America/Chicago:20211218T213000
DTSTAMP:20260423T102034
CREATED:20211202T155154Z
LAST-MODIFIED:20211202T155154Z
UID:89040-1639855800-1639863000@stjomo.com
SUMMARY:Polar Express Pajama Party
DESCRIPTION:Everybody in their pajamas (you too\, grownups) as The Polar Express steams off on a journey to the North Pole.  Entering the Ruby\, you’ll be greeted by our train conductors\, and receive your special train ticket. The dining car servers will welcome you to the preshow cocoa party\, where our young travelers will enjoy some hot cocoa before embarking on their journey\, a special screening of the film The Polar Express. \nhttps://jomotickets.com/event/the-polar-express-pajama-party
URL:https://stjomo.com/event/polar-express-pajama-party/
LOCATION:Ruby Theatre\, 615 S. 10th\, St. Joseph\, MO\, 64501\, United States
ATTACH;FMTTYPE=image/jpeg:https://stjomo.com/wp-content/uploads/2021/12/polar-express-11.jpg
END:VEVENT
BEGIN:VEVENT
DTSTART;TZID=America/Chicago:20211219T130000
DTEND;TZID=America/Chicago:20211219T160000
DTSTAMP:20260423T102034
CREATED:20211108T155925Z
LAST-MODIFIED:20211108T155925Z
UID:88939-1639918800-1639929600@stjomo.com
SUMMARY:Snow Day
DESCRIPTION:Explore the people and animals of the Arctic and Antarctica. Do you think you could live in these cold weather climates? Limit 12 children. Parents are welcome to stay or drop off their children for the event. Face masks are subject to city ordinance at the time of the event. Activities are geared towards grades K-6\, but other students are welcome. Admission: $8 per child or $6 for museum members\, which includes the program\, craft session\, and snack. Reservations are required\, for more information call 816-232-8471.
URL:https://stjomo.com/event/snow-day/
LOCATION:St. Joseph Museums\, 3406 Frederick Ave\, St. Joseph\, MO\, 64506\, United States
ATTACH;FMTTYPE=image/jpeg:https://stjomo.com/wp-content/uploads/2021/11/69a2b2_1ac53e76fd144d78b79dca6a975ae2ba_mv2.jpg
ORGANIZER;CN="St. Joseph Museums":MAILTO:sjm@stjosephmuseum.org
END:VEVENT
END:VCALENDAR