BEGIN:VCALENDAR
VERSION:2.0
PRODID:-//St. Joseph, MO Convention &amp; Visitors Bureau - ECPv6.6.4.2//NONSGML v1.0//EN
CALSCALE:GREGORIAN
METHOD:PUBLISH
X-ORIGINAL-URL:https://stjomo.com
X-WR-CALDESC:Events for St. Joseph, MO Convention &amp; Visitors Bureau
REFRESH-INTERVAL;VALUE=DURATION:PT1H
X-Robots-Tag:noindex
X-PUBLISHED-TTL:PT1H
BEGIN:VTIMEZONE
TZID:America/Chicago
BEGIN:DAYLIGHT
TZOFFSETFROM:-0600
TZOFFSETTO:-0500
TZNAME:CDT
DTSTART:20240310T080000
END:DAYLIGHT
BEGIN:STANDARD
TZOFFSETFROM:-0500
TZOFFSETTO:-0600
TZNAME:CST
DTSTART:20241103T070000
END:STANDARD
END:VTIMEZONE
BEGIN:VEVENT
DTSTART;TZID=America/Chicago:20240116T190000
DTEND;TZID=America/Chicago:20240116T190000
DTSTAMP:20260422T231121
CREATED:20240108T150603Z
LAST-MODIFIED:20240117T172413Z
UID:94764-1705431600-1705431600@stjomo.com
SUMMARY:Tuesday Night Talk: Research Into the Harry L. George Ethnographic Collection
DESCRIPTION:Tuesday Night Talks (TNT) is a weekly lecture series\, taking place in January and February\, covering all facets of 1800’s life and the history of St. Joseph\, MO.  Doors open at 6:15pm – Speakers begin at 7pm – All talks held at Pony Express Museum Community Room.  \n2024 TNT SCHEDULE \n1-16-24 – “Research into the Harry L. George Ethnographic Collection” by Robert Coder \n1-23-24 – “Master Builders and St. Joseph’s Early Architecture” by Ron Auxier\, Retired Principal Architect \n1-30-24 – “National Parks in a Wooden Boat” by Greg Hatten\, Explorer & Consultant \n2-6-24 – “Dinosaurs\, Mammoths & Hominids…Oh My!” by Sarah Elder\, Executive Director\, Remington Nature Center \n2-13-24  – “Apple Blossom: Our Annual Rate of Spring for 100 Years” by Ken Rosenauer\, President\, Apple Blossom \n2-20-24 – “Reminiscent Stories of the Pony Express” by Joseph K. Houts\, Jr.\, Pony Express Board of Directors \n2-29-24 – “Research into the Harry L. George Ethnographic Collection” by Robert Coder
URL:https://stjomo.com/event/tuesday-night-talk-research-into-the-harry-l-george-ethnographic-collection/
LOCATION:Pony Express National Museum\, 914 Penn St.\, St. Joseph\, MO\, 64503\, United States
END:VEVENT
BEGIN:VEVENT
DTSTART;TZID=America/Chicago:20240119T160000
DTEND;TZID=America/Chicago:20240119T190000
DTSTAMP:20260422T231121
CREATED:20240111T204718Z
LAST-MODIFIED:20240111T204718Z
UID:94783-1705680000-1705690800@stjomo.com
SUMMARY:50th Annual Membership Exhibition Opening
DESCRIPTION:An opening reception will be held to celebrate a new exhibition at the AKMA: the 50th Annual Membership Exhibition. An awards ceremony will take place at 6:00 pm to announce winners in each category of the Membership Exhibition as well as Best in Show. \n  \n  \nWe will also be opening the exhibition\, Stillness and Life in Colored Pencil: Wanda Taylor. \n  \n  \nOpening receptions are free and open to the public. A cash bar and light refreshments will be available.
URL:https://stjomo.com/event/50th-annual-membership-exhibition-opening/
LOCATION:Albrecht Kemper Museum of Art\, 2818 Frederick Ave\, St. Joseph\, MO\, 64506\, United States
END:VEVENT
BEGIN:VEVENT
DTSTART;TZID=America/Chicago:20240125T190000
DTEND;TZID=America/Chicago:20240125T190000
DTSTAMP:20260422T231121
CREATED:20240108T152133Z
LAST-MODIFIED:20240124T173815Z
UID:94765-1706209200-1706209200@stjomo.com
SUMMARY:Tuesday Night Talk: Master Builders and St. Joseph's Early Architecture
DESCRIPTION:*This event was originally slated for January 23\, but moved to January 25 because of weather.* \nTuesday Night Talks (TNT) is a weekly lecture series\, taking place in January and February\, covering all facets of 1800’s life and the history of St. Joseph\, MO.  Doors open at 6:15pm – Speakers begin at 7pm – All talks held at Pony Express Museum Community Room.  \n2024 TNT SCHEDULE \n1-23-24 – “Master Builders and St. Joseph’s Early Architecture” by Ron Auxier\, Retired Principal Architect \n1-30-24 – “National Parks in a Wooden Boat” by Greg Hatten\, Explorer & Consultant \n2-6-24 – “Dinosaurs\, Mammoths & Hominids…Oh My!” by Sarah Elder\, Executive Director\, Remington Nature Center \n2-13-24  – “Apple Blossom: Our Annual Rite of Spring for 100 Years” by Ken Rosenauer\, President\, Apple Blossom \n2-20-24 – “Reminiscent Stories of the Pony Express” by Joseph K. Houts\, Jr.\, Pony Express Board of Directors \n2-29-24 – “Research into the Harry L. George Ethnographic Collection” by Dr. Robert Corder
URL:https://stjomo.com/event/tuesday-night-talk-master-builders-and-st-josephs-early-architecture/
LOCATION:Pony Express National Museum\, 914 Penn St.\, St. Joseph\, MO\, 64503\, United States
END:VEVENT
BEGIN:VEVENT
DTSTART;TZID=America/Chicago:20240128T150000
DTEND;TZID=America/Chicago:20240128T160000
DTSTAMP:20260422T231121
CREATED:20230830T195929Z
LAST-MODIFIED:20230830T195929Z
UID:94275-1706454000-1706457600@stjomo.com
SUMMARY:Symphony Mini 2
DESCRIPTION:Eman Chalshotori (cello) and Melody Smith (piano) \nSunday\, January 28\, 2024 from 3-4pm \nAshland United Methodist Church – 2711 Ashland Ave.\, St. Joseph\, MO 64506 \nTickets – $30 \nStudent Rate – $15
URL:https://stjomo.com/event/symphony-mini-2/
LOCATION:Ashland United Methodist Church\, 2711 Ashland Ave\, St. Joseph\, MO\, 64506\, United States
END:VEVENT
BEGIN:VEVENT
DTSTART;TZID=America/Chicago:20240130T190000
DTEND;TZID=America/Chicago:20240130T190000
DTSTAMP:20260422T231121
CREATED:20240108T152309Z
LAST-MODIFIED:20240117T171821Z
UID:94766-1706641200-1706641200@stjomo.com
SUMMARY:Tuesday Night Talk: National Parks in a Wooden Boat
DESCRIPTION:Tuesday Night Talks (TNT) is a weekly lecture series\, taking place in January and February\, covering all facets of 1800’s life and the history of St. Joseph\, MO.  Doors open at 6:15pm – Speakers begin at 7pm – All talks held at Pony Express Museum Community Room. \n2024 TNT SCHEDULE \n1-23-24 – “Master Builders and St. Joseph’s Early Architecture” by Ron Auxier\, Retired Principal Architect \n1-30-24 – “National Parks in a Wooden Boat” by Greg Hatten\, Explorer & Consultant \n2-6-24 – “Dinosaurs\, Mammoths & Hominids…Oh My!” by Sarah Elder\, Executive Director\, Remington Nature Center \n2-13-24  – “Apple Blossom: Our Annual Rate of Spring for 100 Years” by Ken Rosenauer\, President\, Apple Blossom \n2-20-24 – “Reminiscent Stories of the Pony Express” by Joseph K. Houts\, Jr.\, Pony Express Board of Directors \n2-29-24 – “Research into the Harry L. George Ethnographic Collection” by Robert Coder
URL:https://stjomo.com/event/tuesday-night-talk-national-parks-in-a-wooden-boat/
LOCATION:Pony Express National Museum\, 914 Penn St.\, St. Joseph\, MO\, 64503\, United States
END:VEVENT
END:VCALENDAR