BEGIN:VCALENDAR
VERSION:2.0
PRODID:-//St. Joseph, MO Convention &amp; Visitors Bureau - ECPv6.6.4.2//NONSGML v1.0//EN
CALSCALE:GREGORIAN
METHOD:PUBLISH
X-WR-CALNAME:St. Joseph, MO Convention &amp; Visitors Bureau
X-ORIGINAL-URL:https://stjomo.com
X-WR-CALDESC:Events for St. Joseph, MO Convention &amp; Visitors Bureau
REFRESH-INTERVAL;VALUE=DURATION:PT1H
X-Robots-Tag:noindex
X-PUBLISHED-TTL:PT1H
BEGIN:VTIMEZONE
TZID:America/Chicago
BEGIN:DAYLIGHT
TZOFFSETFROM:-0600
TZOFFSETTO:-0500
TZNAME:CDT
DTSTART:20260308T080000
END:DAYLIGHT
BEGIN:STANDARD
TZOFFSETFROM:-0500
TZOFFSETTO:-0600
TZNAME:CST
DTSTART:20261101T070000
END:STANDARD
END:VTIMEZONE
BEGIN:VEVENT
DTSTART;TZID=America/Chicago:20260322T130000
DTEND;TZID=America/Chicago:20260322T130000
DTSTAMP:20260421T121317
CREATED:20260318T152652Z
LAST-MODIFIED:20260318T160101Z
UID:101132-1774184400-1774184400@stjomo.com
SUMMARY:Photos with the Easter Bunny
DESCRIPTION:Come to inspireU for Photos with the Easter Bunny on Sunday from 1:00 to 4:00 PM. Families are invited to stop by on March 22 and March 29 to take their own photos with the Easter Bunny. This event is free with admission. Please note that photos are self-taken\, and professional photography will not be provided.
URL:https://stjomo.com/event/photos-with-the-easter-bunny/
LOCATION:inspireU Children’s Discovery Center\, 521 Felix St.\, St. Joseph\, MO\, 64501\, United States
CATEGORIES:Downtown
ATTACH;FMTTYPE=image/png:https://stjomo.com/wp-content/uploads/2026/03/Photos-with-the-Easter-Bunny-1.png
END:VEVENT
BEGIN:VEVENT
DTSTART;TZID=America/Chicago:20260328T160000
DTEND;TZID=America/Chicago:20260328T190000
DTSTAMP:20260421T121317
CREATED:20260323T150251Z
LAST-MODIFIED:20260323T150251Z
UID:101212-1774713600-1774724400@stjomo.com
SUMMARY:Easter Eggstravaganza Family Event
DESCRIPTION:Join inspireU for the first annual Easter Eggstravaganza Family Event on Saturday from 4 to 7 p.m. Families can enjoy photos with the Easter Bunny\, spring-themed crafts\, egg collecting for prizes\, and a live performance by Reggie Regg\, the Magic Man. This special event offers an evening of fun\, entertainment\, and hands-on activities for children and families. Tickets are $20 online or $25 at the door. inspireU members and caregivers receive discounted admission at $15 online or $20 at the door. General admission is sold separately\, and inspireU will close at 2 p.m. that day to prepare for the event.
URL:https://stjomo.com/event/easter-eggstravaganza-family-event-2/
LOCATION:inspireU Children’s Discovery Center\, 521 Felix St.\, St. Joseph\, MO\, 64501\, United States
CATEGORIES:Downtown
ATTACH;FMTTYPE=image/png:https://stjomo.com/wp-content/uploads/2026/03/Easter-Eggstravaganza-Family-Event-1.png
END:VEVENT
BEGIN:VEVENT
DTSTART;TZID=America/Chicago:20260329T130000
DTEND;TZID=America/Chicago:20260329T160000
DTSTAMP:20260421T121317
CREATED:20260323T142151Z
LAST-MODIFIED:20260323T142357Z
UID:101206-1774789200-1774800000@stjomo.com
SUMMARY:Photos with the Easter Bunny
DESCRIPTION:Come to inspireU for Photos with the Easter Bunny on March 22 and 29 from 1 to 4 PM. Guests can take their own photos with the Easter Bunny during this fun seasonal event. This activity is free with general admission. Please note that no professional photographer will be provided.
URL:https://stjomo.com/event/photos-with-the-easter-bunny-2/
LOCATION:inspireU Children’s Discovery Center\, 521 Felix St.\, St. Joseph\, MO\, 64501\, United States
CATEGORIES:Downtown
ATTACH;FMTTYPE=image/png:https://stjomo.com/wp-content/uploads/2026/03/Photos-with-the-Easter-Bunny.png
END:VEVENT
END:VCALENDAR