BEGIN:VCALENDAR
VERSION:2.0
PRODID:-//St. Joseph, MO Convention &amp; Visitors Bureau - ECPv6.6.4.2//NONSGML v1.0//EN
CALSCALE:GREGORIAN
METHOD:PUBLISH
X-WR-CALNAME:St. Joseph, MO Convention &amp; Visitors Bureau
X-ORIGINAL-URL:https://stjomo.com
X-WR-CALDESC:Events for St. Joseph, MO Convention &amp; Visitors Bureau
REFRESH-INTERVAL;VALUE=DURATION:PT1H
X-Robots-Tag:noindex
X-PUBLISHED-TTL:PT1H
BEGIN:VTIMEZONE
TZID:America/Chicago
BEGIN:DAYLIGHT
TZOFFSETFROM:-0600
TZOFFSETTO:-0500
TZNAME:CDT
DTSTART:20250309T080000
END:DAYLIGHT
BEGIN:STANDARD
TZOFFSETFROM:-0500
TZOFFSETTO:-0600
TZNAME:CST
DTSTART:20251102T070000
END:STANDARD
END:VTIMEZONE
BEGIN:VEVENT
DTSTART;TZID=America/Chicago:20250802T190000
DTEND;TZID=America/Chicago:20250802T190000
DTSTAMP:20260421T023303
CREATED:20250725T193830Z
LAST-MODIFIED:20250725T193830Z
UID:98746-1754161200-1754161200@stjomo.com
SUMMARY:2025 Homecoming Concert - "Find the Way"
DESCRIPTION:Join us for the 2025 Homecoming Concert\, Find the Way\, presented by the NGSingers!This unforgettable evening of choral music and community spirit takes place Saturday\, August 2\, 2025 at the historic Missouri Theater in St. Joseph\, Missouri. \nConcert begins at 7:00 PMDoors open at 4:00 PM
URL:https://stjomo.com/event/ngsingers-homecoming-2025/
LOCATION:Missouri Theater\, 717 Edmond St.\, St. Joseph\, MO\, 64501\, United States
CATEGORIES:Downtown
ATTACH;FMTTYPE=image/png:https://stjomo.com/wp-content/uploads/2025/07/2025-Homecoming-Concert-Find-the-Way.png
ORGANIZER;CN="NGSingers":MAILTO:info@ngsingers.com
END:VEVENT
BEGIN:VEVENT
DTSTART;TZID=America/Chicago:20250802T200000
DTEND;TZID=America/Chicago:20250802T200000
DTSTAMP:20260421T023303
CREATED:20250728T195719Z
LAST-MODIFIED:20250728T195719Z
UID:98772-1754164800-1754164800@stjomo.com
SUMMARY:Live Music with Pooki - At The Den
DESCRIPTION:Expect a fun\, free evening of live tunes from Pooki in an upbeat\, intimate setting at The Den.\nA chill\, local‑style night out in St. Joe—reliable\, relaxed\, and full of good vibes.\n\nNO COVER21+ after 8\nGet there early to secure seating
URL:https://stjomo.com/event/live-music-with-pooki-at-the-den/
LOCATION:The Den\, 519 Felix Street\, Saint Joseph\, MO\, 64501\, United States
CATEGORIES:Downtown
ATTACH;FMTTYPE=image/png:https://stjomo.com/wp-content/uploads/2025/07/Live-Music-with-Pooki-At-The-Den.png
END:VEVENT
BEGIN:VEVENT
DTSTART;TZID=America/Chicago:20250803T140000
DTEND;TZID=America/Chicago:20250803T140000
DTSTAMP:20260421T023303
CREATED:20250725T194907Z
LAST-MODIFIED:20250725T194907Z
UID:98749-1754229600-1754229600@stjomo.com
SUMMARY:Magoon's Famous Delicatessen
DESCRIPTION:Get ready for an unforgettable afternoon of live music in downtown St. Joseph!Join us on Sunday\, August 3\, 2025\, at 2 PM as 2 Miles Deep brings their signature sound to Magoon’s Famous Delicatessen. Weather permitting\, this high-energy outdoor performance will take place on the big stage — perfect for soaking up some summer sun while enjoying great music\, food\, and vibes.
URL:https://stjomo.com/event/2-miles-deep-live-st-joseph/
LOCATION:Magoon’s Famous Delicatessen\, 632 S 8th St\, Saint Joseph\, MO\, 64501\, United States
ATTACH;FMTTYPE=image/jpeg:https://stjomo.com/wp-content/uploads/2025/07/2-Miles-Deep.jpg
ORGANIZER;CN="2 Miles Deep":MAILTO:bradstreeby@yahoo.com
END:VEVENT
BEGIN:VEVENT
DTSTART;TZID=America/Chicago:20250806T153000
DTEND;TZID=America/Chicago:20250806T230000
DTSTAMP:20260421T023303
CREATED:20250805T214232Z
LAST-MODIFIED:20250805T214232Z
UID:98848-1754494200-1754521200@stjomo.com
SUMMARY:Eats & Jams
DESCRIPTION:Join us on Wednesday for live entertainment by Retro Grade School with dinner served by Meatheads. \nNO COVER CHARGE \nFAMILY FRIENDLY
URL:https://stjomo.com/event/eats-and-jams-august-6/
LOCATION:Castle Bridge Event Center\, 8403 B US Highway\, St. Joseph\, MO\, 64504\, United States
ATTACH;FMTTYPE=image/png:https://stjomo.com/wp-content/uploads/2025/03/Retro-Grade-School.png
END:VEVENT
BEGIN:VEVENT
DTSTART;TZID=America/Chicago:20250808T200000
DTEND;TZID=America/Chicago:20250808T200000
DTSTAMP:20260421T023303
CREATED:20250728T191443Z
LAST-MODIFIED:20250728T191443Z
UID:98766-1754683200-1754683200@stjomo.com
SUMMARY:Live Music with Jason Riley - At The Den
DESCRIPTION:Live music with Jason Riley at THE DEN! Enjoy a night of great guitar playing and good vibes. Don’t miss this talented local musician in a fun\, relaxed setting.\n\n8 PMNo Cover
URL:https://stjomo.com/event/live-music-with-jason-riley-at-the-den/
LOCATION:The Den\, 519 Felix Street\, Saint Joseph\, MO\, 64501\, United States
CATEGORIES:Downtown
ATTACH;FMTTYPE=image/png:https://stjomo.com/wp-content/uploads/2025/07/Jason-Riley-The-Den.png
END:VEVENT
BEGIN:VEVENT
DTSTART;TZID=America/Chicago:20250814T170000
DTEND;TZID=America/Chicago:20250814T200000
DTSTAMP:20260421T023303
CREATED:20250425T202701Z
LAST-MODIFIED:20250425T202702Z
UID:97937-1755190800-1755201600@stjomo.com
SUMMARY:Parties on the Parkway Featuring St. Joseph Symphony
DESCRIPTION:Each year\, thousands of residents attend the summer concert series at various locations along St. Joseph’s parkway system. Admission is free but some food and beverage vendors are cash only. \nThe August 21st session will be at Corby Pond beginning at 5 PM.
URL:https://stjomo.com/event/parties-on-the-parkway-featuring-st-joseph-symphony/
LOCATION:MO
ATTACH;FMTTYPE=image/png:https://stjomo.com/wp-content/uploads/2025/04/Parties-on-the-Parkway-2025.png
ORGANIZER;CN="St. Joseph Chamber of Commerce":MAILTO:bailey@saintjoseph.com
END:VEVENT
BEGIN:VEVENT
DTSTART;TZID=America/Chicago:20250816T090000
DTEND;TZID=America/Chicago:20250816T160000
DTSTAMP:20260421T023303
CREATED:20250728T210559Z
LAST-MODIFIED:20250728T210643Z
UID:98779-1755334800-1755360000@stjomo.com
SUMMARY:Throttle & Thunder Bike & Car Show
DESCRIPTION:Rev your engines and get ready for a full day of horsepower and high-octane fun at the Throttle & Thunder Bike & Car Show\, hosted by St. Joe Harley-Davidson! \nWhether you ride on two wheels or cruise on four\, this is the event for gearheads\, collectors\, families\, and anyone who loves a great time. Check out an impressive lineup of bikes\, classic cars\, custom rides\, and hot rods — all in one location. \nEvent Highlights Include: \nTrophies & Prizes for top entries \n50/50 Raffle with big winnings \nLive Music all day long \nFood Trucks serving local eats \nVendor Booths with gear\, merch\, and more \nWant to show off your ride? Register here to enter your vehicle and compete for bragging rights. \nThis event is free to attend and open to all ages — bring your friends\, bring the family\, and let’s make some noise!
URL:https://stjomo.com/event/throttle-thunder-bike-car-show/
LOCATION:St Joe Harley-Davidson\, 4020 S US HWY 169\, Saint Joseph\, MO\, 64503\, United States
ATTACH;FMTTYPE=image/png:https://stjomo.com/wp-content/uploads/2025/07/Throttle-Thunder-Bike-Car-Show.png
END:VEVENT
BEGIN:VEVENT
DTSTART;TZID=America/Chicago:20250821T173000
DTEND;TZID=America/Chicago:20250821T203000
DTSTAMP:20260421T023303
CREATED:20250808T135246Z
LAST-MODIFIED:20250808T135246Z
UID:98880-1755797400-1755808200@stjomo.com
SUMMARY:Live Music by Tad Hopkins & Dinner on the Patio at Murphy's
DESCRIPTION:Savor a summer evening of great food and live music at Murphy’s!Join us Thursday\, August 21\, 2025\, from 5:30 to 8:30 PM for an unforgettable night featuring live music by local favorite Tad Hopkins. Relax on the patio while enjoying your choice of 12 oz smoked prime rib ($30.95) or 8 oz smoked Norwegian salmon ($22.95)\, each served with a house salad and two sides of your choice (baked potato\, twice-baked potato casserole\, fries\, savory green beans\, jalapeño cheddar corn\, or coleslaw). \nReservations are encouraged! Send us a message on Facebook with the number of guests\, your preferred time\, and your dinner choice. Sides can be selected when you arrive. \nCome hungry\, bring friends\, and make it a night to remember at Murphy’s!
URL:https://stjomo.com/event/live-music-tad-hopkins-dinner-murphys-aug-21-2025/
LOCATION:Murphy’s Smokin Meats & Catering\, 1930 Commercial Street\, Saint Joseph\, MO\, 64503\, United States
ATTACH;FMTTYPE=image/png:https://stjomo.com/wp-content/uploads/2025/08/Live-Music-by-Tom-Hopkins.png
END:VEVENT
BEGIN:VEVENT
DTSTART;TZID=America/Chicago:20250822T190000
DTEND;TZID=America/Chicago:20250822T210000
DTSTAMP:20260421T023303
CREATED:20250818T213753Z
LAST-MODIFIED:20250818T213753Z
UID:98956-1755889200-1755896400@stjomo.com
SUMMARY:13th Anniversary Cabaret
DESCRIPTION:Join us as we celebrate 13 years of music and community in St. Joseph! This special evening will feature a variety of talented individuals and small groups sharing their gifts of song and entertainment. Admission is free with a free-will donation encouraged. Come enjoy an uplifting night of music\, fellowship\, and celebration with our singing community.
URL:https://stjomo.com/event/stjoseph-singing-celebration-2025/
LOCATION:Center for Joy\, 1202 Felix Street\, Saint Joseph\, MO\, 64501\, United States
CATEGORIES:Downtown
ATTACH;FMTTYPE=image/png:https://stjomo.com/wp-content/uploads/2025/08/Something-Else-Cabaret.png
END:VEVENT
BEGIN:VEVENT
DTSTART;VALUE=DATE:20250829
DTEND;VALUE=DATE:20250901
DTSTAMP:20260421T023303
CREATED:20250818T212842Z
LAST-MODIFIED:20250818T212842Z
UID:98953-1756425600-1756684799@stjomo.com
SUMMARY:AugustFest
DESCRIPTION:AugustFest returns for its 2nd year on August 29\, 30\, and 31 at 3414 S. 22nd Street in St. Joseph. Enjoy a full weekend of family fun both indoors and outdoors. Inside\, explore local vendors and live music. Outside\, you’ll find food\, performers\, bounce houses\, games\, attractions\, and more. \nSeventy percent of all proceeds benefit the Youth Alliance and their Youth Volunteer Program. Volunteers\, vendors\, and performers are welcome—contact 816-262-1574 for details. The full schedule and performer lineup will be announced soon.
URL:https://stjomo.com/event/augustfest-stjoseph/
LOCATION:Good Times Event Center\, 3414 South 22nd Street\, Saint Joseph\, MO\, 64503\, United States
ATTACH;FMTTYPE=image/png:https://stjomo.com/wp-content/uploads/2025/08/2025-August-Fest.png
ORGANIZER;CN="AugustFest":MAILTO:augustfest.sjmo@gmail.com
END:VEVENT
BEGIN:VEVENT
DTSTART;TZID=America/Chicago:20250831T150000
DTEND;TZID=America/Chicago:20250831T180000
DTSTAMP:20260421T023304
CREATED:20250725T200038Z
LAST-MODIFIED:20250725T200038Z
UID:98752-1756652400-1756663200@stjomo.com
SUMMARY:Docs 100 Proof at The Brown Bear Tavern
DESCRIPTION:Docs 100 Proof is bringing the funk\, soul\, and R&B heat to The Brown Bear! Get ready for a high-energy set of classic 70s grooves\, bluesy beats\, and dance floor favorites. Whether you’re a longtime fan or hearing us for the first time\, come vibe with the band that brings 100% soul and good times.
URL:https://stjomo.com/event/docs-100-proof-at-the-brown-bear-tavern/
LOCATION:Brown Bear Tavern\, 2028 Saint Joseph Avenue\, Saint Joseph\, MO\, 64505\, United States
ATTACH;FMTTYPE=image/png:https://stjomo.com/wp-content/uploads/2025/07/Docs-100-Proof-at-The-Brown-Bear-Tavern.png
ORGANIZER;CN="Docs 100 Proof":MAILTO:timarnold@docs100proof.com
END:VEVENT
END:VCALENDAR