BEGIN:VCALENDAR
VERSION:2.0
PRODID:-//St. Joseph, MO Convention &amp; Visitors Bureau - ECPv6.6.4.2//NONSGML v1.0//EN
CALSCALE:GREGORIAN
METHOD:PUBLISH
X-WR-CALNAME:St. Joseph, MO Convention &amp; Visitors Bureau
X-ORIGINAL-URL:https://stjomo.com
X-WR-CALDESC:Events for St. Joseph, MO Convention &amp; Visitors Bureau
REFRESH-INTERVAL;VALUE=DURATION:PT1H
X-Robots-Tag:noindex
X-PUBLISHED-TTL:PT1H
BEGIN:VTIMEZONE
TZID:America/Chicago
BEGIN:DAYLIGHT
TZOFFSETFROM:-0600
TZOFFSETTO:-0500
TZNAME:CDT
DTSTART:20250309T080000
END:DAYLIGHT
BEGIN:STANDARD
TZOFFSETFROM:-0500
TZOFFSETTO:-0600
TZNAME:CST
DTSTART:20251102T070000
END:STANDARD
END:VTIMEZONE
BEGIN:VEVENT
DTSTART;TZID=America/Chicago:20250906T130000
DTEND;TZID=America/Chicago:20250906T210000
DTSTAMP:20260421T022344
CREATED:20250902T183013Z
LAST-MODIFIED:20250902T183013Z
UID:99004-1757163600-1757192400@stjomo.com
SUMMARY:StroudStock 2025 at Civic Center Park
DESCRIPTION:StroudStock returns to Civic Center Park in St. Joseph on Saturday\, September 6\, 2025\, for a full day of free\, family-friendly fun. Enjoy live music with a headlining band\, a kids’ zone packed with inflatables and face painting\, and a vendor fair featuring local talent and flavors. Children will love climbing through fire trucks and emergency vehicles at the Touch-a-Truck experience\, while the entire community joins together to honor our first responders during a special tribute. \nBring your family\, invite your friends\, and celebrate community spirit at this one-of-a-kind festival. Admission is free\, so all you need to bring is your energy and excitement!
URL:https://stjomo.com/event/stroudstock-2025/
LOCATION:Civic Center Park\, 1100 Frederick Ave\, St. Joseph\, MO\, 64506\, United States
ATTACH;FMTTYPE=image/jpeg:https://stjomo.com/wp-content/uploads/2025/09/2025-StroudStock.jpg
END:VEVENT
BEGIN:VEVENT
DTSTART;TZID=America/Chicago:20250906T200000
DTEND;TZID=America/Chicago:20250906T200000
DTSTAMP:20260421T022344
CREATED:20250903T142759Z
LAST-MODIFIED:20250903T142759Z
UID:99018-1757188800-1757188800@stjomo.com
SUMMARY:Live Music with Pooki – At The Den
DESCRIPTION:Get ready for a night of great vibes and live music as Pooki takes the stage at THE DEN – A Modern Speakeasy in downtown St. Joseph! \nEnjoy an evening filled with soulful sounds\, craft cocktails\, and the laid-back speakeasy atmosphere you love. Whether you’re out with friends or just looking for something new in St. Joe’s nightlife\, this is the perfect spot to unwind and enjoy local talent.
URL:https://stjomo.com/event/pooki-live-st-joseph/
LOCATION:The Den\, 519 Felix Street\, Saint Joseph\, MO\, 64501\, United States
CATEGORIES:Downtown
ATTACH;FMTTYPE=image/png:https://stjomo.com/wp-content/uploads/2025/09/pooki.png
END:VEVENT
END:VCALENDAR