BEGIN:VCALENDAR
VERSION:2.0
PRODID:-//St. Joseph, MO Convention &amp; Visitors Bureau - ECPv6.6.4.2//NONSGML v1.0//EN
CALSCALE:GREGORIAN
METHOD:PUBLISH
X-WR-CALNAME:St. Joseph, MO Convention &amp; Visitors Bureau
X-ORIGINAL-URL:https://stjomo.com
X-WR-CALDESC:Events for St. Joseph, MO Convention &amp; Visitors Bureau
REFRESH-INTERVAL;VALUE=DURATION:PT1H
X-Robots-Tag:noindex
X-PUBLISHED-TTL:PT1H
BEGIN:VTIMEZONE
TZID:America/Chicago
BEGIN:DAYLIGHT
TZOFFSETFROM:-0600
TZOFFSETTO:-0500
TZNAME:CDT
DTSTART:20250309T080000
END:DAYLIGHT
BEGIN:STANDARD
TZOFFSETFROM:-0500
TZOFFSETTO:-0600
TZNAME:CST
DTSTART:20251102T070000
END:STANDARD
END:VTIMEZONE
BEGIN:VEVENT
DTSTART;VALUE=DATE:20250919
DTEND;VALUE=DATE:20250922
DTSTAMP:20260420T161002
CREATED:20241104T175749Z
LAST-MODIFIED:20250911T160400Z
UID:96469-1758240000-1758499199@stjomo.com
SUMMARY:Southside Fall Festival
DESCRIPTION:The 36th Annual Southside Fall Festival returns to St. Joseph\, Missouri\, September 19–21\, 2025. Held at 402 East Hyde Park Avenue\, this family-friendly celebration features a wide variety of local food\, live entertainment\, craft and retail vendors\, and activities for all ages. Visitors can explore the South Side community\, enjoy festival traditions\, and experience the 2025 theme\, “Roaring 20’s.
URL:https://stjomo.com/event/southside-fall-festival/
LOCATION:Hyde Park\, 402 E Hyde Park Ave\, St. Joseph\, MO\, 64504\, United States
ATTACH;FMTTYPE=image/png:https://stjomo.com/wp-content/uploads/2024/11/Southside-Fall-Festival.png
END:VEVENT
BEGIN:VEVENT
DTSTART;TZID=America/Chicago:20250919T211500
DTEND;TZID=America/Chicago:20250919T211500
DTSTAMP:20260420T161002
CREATED:20250912T143209Z
LAST-MODIFIED:20250912T143209Z
UID:99112-1758316500-1758316500@stjomo.com
SUMMARY:Southside Fall Festival Fireworks by Aerial FX
DESCRIPTION:Join us for the annual Southside Fall Festival Fireworks\, presented by Aerial FX\, on Friday\, September 19\, 2025. The show will begin around 9:15 PM at Hyde Park in St. Joseph\, MO. This spectacular display is the perfect way to wrap up the first night of the festival. Bring your family and friends\, find a good spot to watch\, and enjoy a breathtaking fireworks show lighting up the night sky.
URL:https://stjomo.com/event/southside-fall-festival-fireworks-2025/
LOCATION:Hyde Park\, 402 E Hyde Park Ave\, St. Joseph\, MO\, 64504\, United States
ATTACH;FMTTYPE=image/jpeg:https://stjomo.com/wp-content/uploads/2025/09/Southside-Fall-Festival-Fireworks.jpg
ORGANIZER;CN="Southside Fall Festival":MAILTO:ssffinfo@yahoo.com
END:VEVENT
BEGIN:VEVENT
DTSTART;TZID=America/Chicago:20250920T100000
DTEND;TZID=America/Chicago:20250920T100000
DTSTAMP:20260420T161002
CREATED:20250911T162507Z
LAST-MODIFIED:20250911T162507Z
UID:99095-1758362400-1758362400@stjomo.com
SUMMARY:36th Annual Southside Fall Festival Parade
DESCRIPTION:Celebrate community pride at the 36th Annual Southside Fall Festival Parade in St. Joseph on Saturday\, September 20\, 2025. The parade begins at 10 AM\, starting at Green Hills Grocery and traveling along King Hill Avenue to Missouri Avenue. \nThis family-friendly tradition will feature marching bands\, colorful floats\, and local organizations showcasing their creativity and spirit. Rain or shine\, the parade will go on\, with trophies awarded to the top three themed floats. \nAll participants must register in advance by emailing ssffparade@yahoo.com or in person at Vibe Nutrition\, 3003 S Belt Hwy. Don’t miss this opportunity to enjoy one of St. Joseph’s most beloved fall festival traditions.
URL:https://stjomo.com/event/36th-annual-southside-fall-festival-parade/
LOCATION:King Hill Plaza\, 7014 King Hill Ave\, Saint Joseph\, MO\, 64504\, United States
ATTACH;FMTTYPE=image/png:https://stjomo.com/wp-content/uploads/2025/09/36th-Annual-Southside-Fall-Festival-Parade.png
ORGANIZER;CN="Southside Fall Festival":MAILTO:ssffinfo@yahoo.com
END:VEVENT
END:VCALENDAR