BEGIN:VCALENDAR
VERSION:2.0
PRODID:-//St. Joseph, MO Convention &amp; Visitors Bureau - ECPv6.6.4.2//NONSGML v1.0//EN
CALSCALE:GREGORIAN
METHOD:PUBLISH
X-WR-CALNAME:St. Joseph, MO Convention &amp; Visitors Bureau
X-ORIGINAL-URL:https://stjomo.com
X-WR-CALDESC:Events for St. Joseph, MO Convention &amp; Visitors Bureau
REFRESH-INTERVAL;VALUE=DURATION:PT1H
X-Robots-Tag:noindex
X-PUBLISHED-TTL:PT1H
BEGIN:VTIMEZONE
TZID:America/Chicago
BEGIN:DAYLIGHT
TZOFFSETFROM:-0600
TZOFFSETTO:-0500
TZNAME:CDT
DTSTART:20250309T080000
END:DAYLIGHT
BEGIN:STANDARD
TZOFFSETFROM:-0500
TZOFFSETTO:-0600
TZNAME:CST
DTSTART:20251102T070000
END:STANDARD
END:VTIMEZONE
BEGIN:VEVENT
DTSTART;TZID=America/Chicago:20250705T190000
DTEND;TZID=America/Chicago:20250705T220000
DTSTAMP:20260419T115737
CREATED:20250630T134250Z
LAST-MODIFIED:20250630T134250Z
UID:98543-1751742000-1751752800@stjomo.com
SUMMARY:Hammertoe and the Fun Guys
DESCRIPTION:Join us on Saturday\, July 5\, 20025 at Jake’s Steakhouse & Sports Bar for a night of powerhouse live music with Hammertoe and the Fun Guys\, specializing in First Era Classic Rock\, the golden age of rock from the ’60s and early ’70s.
URL:https://stjomo.com/event/hammertoe-and-the-fun-guys-2/
LOCATION:Jake’s Steakhouse & Sports Bar\, 620 Edmond Street\, Saint Joseph\, MO\, 64501\, United States
CATEGORIES:Downtown
END:VEVENT
BEGIN:VEVENT
DTSTART;VALUE=DATE:20250708
DTEND;VALUE=DATE:20250712
DTSTAMP:20260419T115737
CREATED:20250609T205846Z
LAST-MODIFIED:20250609T210405Z
UID:98314-1751932800-1752278399@stjomo.com
SUMMARY:Kids Summer Art Camp
DESCRIPTION:Let your child explore art-making\, the creative process\, special techniques\, and new ways of looking at art. We will make hands-on activities directly inspired by the AKMA permanent collection. \n\n\nWith 3 sessions of different art projects in July and August\, children will create art over the course of 4 days\, Tuesday-Friday. Morning or afternoon time slots are available for the same week’s program. \n\nThis year’s summer camp will take place in the new Education Center and the sessions will be nature-themed! Recommended for ages 6-13.\nHOW TO PARTICIPATE\nJuly 8-11\, July 22-25 or August 5-8\n9 am-noon or 2-5 pm\n$150 non-members\n$125 for members with family membership or higher\n\n\nPARKINGPlease park in the regular museum parking lot and follow the sidewalk east of the museum to the education center. \n\n\nTo join the waitlist\, please email aasher@albrecht-kemper.org or call us at 816-233-7003
URL:https://stjomo.com/event/kids-summer-art-camp-2/
LOCATION:Albrecht Kemper Museum of Art\, 2818 Frederick Ave\, St. Joseph\, MO\, 64506\, United States
ATTACH;FMTTYPE=image/jpeg:https://stjomo.com/wp-content/uploads/2025/06/Albrecht-Kemper-Museum-of-Art.jpg
END:VEVENT
BEGIN:VEVENT
DTSTART;TZID=America/Chicago:20250716T173000
DTEND;TZID=America/Chicago:20250716T193000
DTSTAMP:20260419T115737
CREATED:20250625T150906Z
LAST-MODIFIED:20250625T151039Z
UID:98490-1752687000-1752694200@stjomo.com
SUMMARY:Wicked Wednesday Nights Gargoyles with Pat Benedict
DESCRIPTION:Pat is a full-time miniature artist and has been teaching in the St. Joseph community for over 30 years. Each student will make a unique Gargoyle to take home. Students will start from scratch with clay and wire and build a scale miniature.\n\n\nWednesday\, July 16th5:30-7:30 pm$50 (includes supplies) \nTickets: Click this Link
URL:https://stjomo.com/event/wicked-wednesday-nights-gargoyles-with-pat-benedict/
LOCATION:Albrecht Kemper Museum of Art\, 2818 Frederick Ave\, St. Joseph\, MO\, 64506\, United States
ATTACH;FMTTYPE=image/png:https://stjomo.com/wp-content/uploads/2025/06/Wicked-Wednesday-Nights.png
END:VEVENT
BEGIN:VEVENT
DTSTART;VALUE=DATE:20250722
DTEND;VALUE=DATE:20250726
DTSTAMP:20260419T115737
CREATED:20250609T210538Z
LAST-MODIFIED:20250609T210938Z
UID:98315-1753142400-1753487999@stjomo.com
SUMMARY:Kids Summer Art Camp
DESCRIPTION:Let your child explore art-making\, the creative process\, special techniques\, and new ways of looking at art. We will make hands-on activities directly inspired by the AKMA permanent collection. \n\n\nWith 2 sessions of different art projects in July and August\, children will create art over the course of 4 days\, Tuesday-Friday. Morning or afternoon time slots are available for the same week’s program. \n\nThis year’s summer camp will take place in the new Education Center and the sessions will be nature-themed! Recommended for ages 6-13.\nHOW TO PARTICIPATE\nJuly 22-25 or August 5-8\n9 am-noon or 2-5 pm\n$150 non-members\n$125 for members with family membership or higher\n\n\nPARKINGPlease park in the regular museum parking lot and follow the sidewalk east of the museum to the education center. \n\n\nTo join the waitlist\, please email aasher@albrecht-kemper.org or call us at 816-233-7003
URL:https://stjomo.com/event/kids-summer-art-camp-3/
LOCATION:Albrecht Kemper Museum of Art\, 2818 Frederick Ave\, St. Joseph\, MO\, 64506\, United States
ATTACH;FMTTYPE=image/jpeg:https://stjomo.com/wp-content/uploads/2025/06/Albrecht-Kemper-Museum-of-Art.jpg
END:VEVENT
BEGIN:VEVENT
DTSTART;TZID=America/Chicago:20250725T170000
DTEND;TZID=America/Chicago:20250725T170000
DTSTAMP:20260419T115737
CREATED:20250716T180831Z
LAST-MODIFIED:20250716T180831Z
UID:98669-1753462800-1753462800@stjomo.com
SUMMARY:Jeepers Creepers It's July - Murder at the Asylum
DESCRIPTION:Join us at the Glore Psychiatric Museum on Friday\, July 25 at 6 PM for Jeepers Creepers: It’s July—an immersive Murder at the Asylum Clue-style game night! Search the historic halls\, follow chilling clues\, and see if you can solve the mystery that haunts these walls. It’s interactive. It’s eerie. And it’s all happening after hours.\nLight refreshments will be provided. Tickets are limited and will sell out fast! $35 per person or $60 per couple (any 2 people registering together).\nDon’t miss your chance to come play Murder at the Asylum! https://stjosephmuseum.networkforgood.com/…/88990…
URL:https://stjomo.com/event/jeepers-creepers-its-july-murder-at-the-asylum/
LOCATION:Glore Psychiatric Museum\, 3406 Frederick Avenue\, St Joseph\, MO\, 64506\, United States
ATTACH;FMTTYPE=image/png:https://stjomo.com/wp-content/uploads/2025/07/Jeepers-Creepers-Murder-at-the-Asylum.png
END:VEVENT
BEGIN:VEVENT
DTSTART;TZID=America/Chicago:20250725T173000
DTEND;TZID=America/Chicago:20250725T173000
DTSTAMP:20260419T115737
CREATED:20250723T183237Z
LAST-MODIFIED:20250723T183237Z
UID:98721-1753464600-1753464600@stjomo.com
SUMMARY:MINK League Championship Game 2
DESCRIPTION:The Mustangs are in the MINK League Championship! It’s a Best of 3 series. Game 1 will be away\, and Game 2 (and Game 3 if needed on Saturday) will be at Phil Welch Stadium.\n$5 GA\, and the Mustangs are going for MINK League Championship Number 10!\nGates Open at 5:30\, First Pitch at 7. For advance tickets\, please call 816.279.STJO (7856) or stjoemustangs.com
URL:https://stjomo.com/event/mink-league-championship-game-2/
LOCATION:Phil Welch Stadium\, 2600 SW Parkway\, St. Joseph\, MO\, 64503\, United States
ATTACH;FMTTYPE=image/png:https://stjomo.com/wp-content/uploads/2025/07/Mink-League-Championship-Series-Game-2.png
END:VEVENT
END:VCALENDAR