BEGIN:VCALENDAR
VERSION:2.0
PRODID:-//St. Joseph, MO Convention &amp; Visitors Bureau - ECPv6.6.4.2//NONSGML v1.0//EN
CALSCALE:GREGORIAN
METHOD:PUBLISH
X-WR-CALNAME:St. Joseph, MO Convention &amp; Visitors Bureau
X-ORIGINAL-URL:https://stjomo.com
X-WR-CALDESC:Events for St. Joseph, MO Convention &amp; Visitors Bureau
REFRESH-INTERVAL;VALUE=DURATION:PT1H
X-Robots-Tag:noindex
X-PUBLISHED-TTL:PT1H
BEGIN:VTIMEZONE
TZID:America/Chicago
BEGIN:DAYLIGHT
TZOFFSETFROM:-0600
TZOFFSETTO:-0500
TZNAME:CDT
DTSTART:20260308T080000
END:DAYLIGHT
BEGIN:STANDARD
TZOFFSETFROM:-0500
TZOFFSETTO:-0600
TZNAME:CST
DTSTART:20261101T070000
END:STANDARD
END:VTIMEZONE
BEGIN:VEVENT
DTSTART;TZID=America/Chicago:20260206T180000
DTEND;TZID=America/Chicago:20260206T210000
DTSTAMP:20260419T093905
CREATED:20260113T155633Z
LAST-MODIFIED:20260113T155855Z
UID:100092-1770400800-1770411600@stjomo.com
SUMMARY:Friends Boozy Book Fair at The Den
DESCRIPTION:Treat yourself to two nights of books\, classic book fair goodies\, and great drinks at the Friends Boozy Book Fair. Hosted by The Den and sponsored by the Friends of the St. Joseph Public Library\, this event features cocktails and mocktails alongside plenty of bookish finds.
URL:https://stjomo.com/event/friends-boozy-book-fair-2026/
LOCATION:The Den\, 519 Felix Street\, Saint Joseph\, MO\, 64501\, United States
CATEGORIES:Downtown
ATTACH;FMTTYPE=image/jpeg:https://stjomo.com/wp-content/uploads/2026/01/Boozy-Book-Fair.jpg
END:VEVENT
END:VCALENDAR