BEGIN:VCALENDAR
VERSION:2.0
PRODID:-//St. Joseph, MO Convention &amp; Visitors Bureau - ECPv6.6.4.2//NONSGML v1.0//EN
CALSCALE:GREGORIAN
METHOD:PUBLISH
X-WR-CALNAME:St. Joseph, MO Convention &amp; Visitors Bureau
X-ORIGINAL-URL:https://stjomo.com
X-WR-CALDESC:Events for St. Joseph, MO Convention &amp; Visitors Bureau
REFRESH-INTERVAL;VALUE=DURATION:PT1H
X-Robots-Tag:noindex
X-PUBLISHED-TTL:PT1H
BEGIN:VTIMEZONE
TZID:America/Chicago
BEGIN:DAYLIGHT
TZOFFSETFROM:-0600
TZOFFSETTO:-0500
TZNAME:CDT
DTSTART:20250309T080000
END:DAYLIGHT
BEGIN:STANDARD
TZOFFSETFROM:-0500
TZOFFSETTO:-0600
TZNAME:CST
DTSTART:20251102T070000
END:STANDARD
END:VTIMEZONE
BEGIN:VEVENT
DTSTART;TZID=America/Chicago:20250718T173000
DTEND;TZID=America/Chicago:20250718T173000
DTSTAMP:20260421T220327
CREATED:20250716T184906Z
LAST-MODIFIED:20250716T184906Z
UID:98674-1752859800-1752859800@stjomo.com
SUMMARY:Tenderloins T-Shirt Giveaway\, Friday Night Lights\, Jurassic Night
DESCRIPTION:This is the second to last game of the regular season at Phil Welch Stadium!\nWe have a surprise Tenderloins T-Shirt Giveaway for the first 200 guests\, courtesy of MoWest.\nIt’s the final St. Joseph Tenderloins night\, courtesy of Triumph Foods- all bids on the jersey auction will be winners. We’ll also have delicious tenderloins from Adam’s Bar and Grill available at the concession stand.\nIt’s Jurassic Night- we’ll have a few prehistoric dinosaurs roaming the stands.\nGates open at 5:30\, First Pitch at 7. For advance tickets\, please call 816.279.STJO (7856) or stjoemustangs.com
URL:https://stjomo.com/event/tenderloins-t-shirt-giveaway-friday-night-lights-jurassic-night/
LOCATION:Phil Welch Stadium\, 2600 SW Parkway\, St. Joseph\, MO\, 64503\, United States
ATTACH;FMTTYPE=image/png:https://stjomo.com/wp-content/uploads/2025/07/Tenderlins-T-Shirt-Giveaway.png
END:VEVENT
END:VCALENDAR