BEGIN:VCALENDAR
VERSION:2.0
PRODID:-//St. Joseph, MO Convention &amp; Visitors Bureau - ECPv6.6.4.2//NONSGML v1.0//EN
CALSCALE:GREGORIAN
METHOD:PUBLISH
X-WR-CALNAME:St. Joseph, MO Convention &amp; Visitors Bureau
X-ORIGINAL-URL:https://stjomo.com
X-WR-CALDESC:Events for St. Joseph, MO Convention &amp; Visitors Bureau
REFRESH-INTERVAL;VALUE=DURATION:PT1H
X-Robots-Tag:noindex
X-PUBLISHED-TTL:PT1H
BEGIN:VTIMEZONE
TZID:America/Chicago
BEGIN:DAYLIGHT
TZOFFSETFROM:-0600
TZOFFSETTO:-0500
TZNAME:CDT
DTSTART:20260308T080000
END:DAYLIGHT
BEGIN:STANDARD
TZOFFSETFROM:-0500
TZOFFSETTO:-0600
TZNAME:CST
DTSTART:20261101T070000
END:STANDARD
END:VTIMEZONE
BEGIN:VEVENT
DTSTART;TZID=America/Chicago:20260425T200000
DTEND;TZID=America/Chicago:20260425T200000
DTSTAMP:20260425T230829
CREATED:20260414T171709Z
LAST-MODIFIED:20260414T171709Z
UID:101742-1777147200-1777147200@stjomo.com
SUMMARY:Live Music with Myles - At The Den
DESCRIPTION:Join us at The Den for a live performance by Myles on Saturday\, April 25\, 2026 at 8 PM. Enjoy a night of country rock\, 90s hits\, and crowd favorite songs in an intimate solo acoustic show. Admission is free\, so arrive early to grab a seat and enjoy the music.
URL:https://stjomo.com/event/live-music-with-myles-the-den-april-25-2026/
LOCATION:The Den\, 519 Felix Street\, Saint Joseph\, MO\, 64501\, United States
CATEGORIES:Downtown
ATTACH;FMTTYPE=image/png:https://stjomo.com/wp-content/uploads/2026/04/Live-Music-with-Myles-At-The-Den.png
END:VEVENT
END:VCALENDAR