BEGIN:VCALENDAR
VERSION:2.0
PRODID:-//St. Joseph, MO Convention &amp; Visitors Bureau - ECPv6.6.4.2//NONSGML v1.0//EN
CALSCALE:GREGORIAN
METHOD:PUBLISH
X-ORIGINAL-URL:https://stjomo.com
X-WR-CALDESC:Events for St. Joseph, MO Convention &amp; Visitors Bureau
REFRESH-INTERVAL;VALUE=DURATION:PT1H
X-Robots-Tag:noindex
X-PUBLISHED-TTL:PT1H
BEGIN:VTIMEZONE
TZID:America/Chicago
BEGIN:DAYLIGHT
TZOFFSETFROM:-0600
TZOFFSETTO:-0500
TZNAME:CDT
DTSTART:20250309T080000
END:DAYLIGHT
BEGIN:STANDARD
TZOFFSETFROM:-0500
TZOFFSETTO:-0600
TZNAME:CST
DTSTART:20251102T070000
END:STANDARD
END:VTIMEZONE
BEGIN:VEVENT
DTSTART;VALUE=DATE:20251004
DTEND;VALUE=DATE:20251006
DTSTAMP:20260422T185617
CREATED:20250926T144429Z
LAST-MODIFIED:20250926T144429Z
UID:99359-1759536000-1759708799@stjomo.com
SUMMARY:Bode Ice Arena's 50th Celebration
DESCRIPTION:Celebrate a half century on ice at Bode Ice Arena. Join us for a weekend of skate time and hometown nostalgia. On Saturday\, Oct 4\, enjoy public skating from 1:00 PM to 6:00 PM for 5 dollars per person. Come back Sunday\, Oct 5\, for free public skating from 3:30 PM to 5:30 PM. Bring friends\, lace up\, and help us kick off the next 50 years of frozen memories. Hosted by St. Joseph Missouri Parks\, Recreation\, and Civic Facilities at Bode Ice Arena within the Bode Sports Complex.
URL:https://stjomo.com/event/bode-ice-arena-50th-celebration/
LOCATION:Bode Ice Arena\, 2500 Southwest Pkwy\, St. Joseph\, MO\, 64503\, United States
ATTACH;FMTTYPE=image/png:https://stjomo.com/wp-content/uploads/2025/09/Bode-Ice-Arenas-50th-Celebration.png
ORGANIZER;CN="St. Joseph Missouri Parks%2C Recreation and Civic Facilities":MAILTO:joshel@stjosephmo.gov
END:VEVENT
BEGIN:VEVENT
DTSTART;TZID=America/Chicago:20251005T140000
DTEND;TZID=America/Chicago:20251005T140000
DTSTAMP:20260422T185617
CREATED:20250930T171745Z
LAST-MODIFIED:20250930T171745Z
UID:99447-1759672800-1759672800@stjomo.com
SUMMARY:12 Angry Men
DESCRIPTION:Join us at Trail Theatre in St. Joseph for a live readers theater presentation of “12 Angry Men.” One performance only\, Sunday\, October 5 at 2 PM. All proceeds benefit the New Generation Singers. Tickets are 10 dollars. Purchase in advance at Eventbrite or buy at the door. Presented in partnership with the New Generation Singers and Trail Theatre. \nTickets and details: https://www.eventbrite.com/e/12-angry-men-live-readers-theater-presentation-tickets-1748544416419
URL:https://stjomo.com/event/12-angry-men-trail-theatre-st-joseph-2025-10-05/
LOCATION:The Trail Theatre\, 111 North Ninth Street\, Saint Joseph\, MO\, 64501\, United States
CATEGORIES:Downtown
ATTACH;FMTTYPE=image/png:https://stjomo.com/wp-content/uploads/2025/09/12-Angry-Men.png
ORGANIZER;CN="NGSingers":MAILTO:info@ngsingers.com
END:VEVENT
BEGIN:VEVENT
DTSTART;TZID=America/Chicago:20251005T190000
DTEND;TZID=America/Chicago:20251005T190000
DTSTAMP:20260422T185617
CREATED:20250923T180755Z
LAST-MODIFIED:20250923T180755Z
UID:99292-1759690800-1759690800@stjomo.com
SUMMARY:Chonda Pierce Live
DESCRIPTION:Chonda Pierce Live comes to St. Joseph for a night of guilt free laughter\, real talk\, and stories that feel like they were lifted from your group text. With her trademark Southern wit\, Chonda turns life’s hardest moments into something you can laugh about. You may know her hit specials Laughing in the Dark and Enough\, and this show brings that same honest\, hopeful humor to the stage. Featuring Karyn Williams. Sunday\, October 5\, 2025 at 7 PM at Wyatt Park Baptist Church. Tickets on sale July 18\, 2025.
URL:https://stjomo.com/event/chonda-pierce-live-st-joseph-2025-10-05/
LOCATION:Wyatt Park Baptist Church\, 2902 North Leonard Road\, Saint Joseph\, MO\, 64506\, United States
ATTACH;FMTTYPE=image/jpeg:https://stjomo.com/wp-content/uploads/2025/09/Chonda-Pierce-Live.jpg
ORGANIZER;CN="Awakening Events":MAILTO:info@awakeningevents.com
END:VEVENT
END:VCALENDAR