BEGIN:VCALENDAR
VERSION:2.0
PRODID:-//St. Joseph, MO Convention &amp; Visitors Bureau - ECPv6.6.4.2//NONSGML v1.0//EN
CALSCALE:GREGORIAN
METHOD:PUBLISH
X-WR-CALNAME:St. Joseph, MO Convention &amp; Visitors Bureau
X-ORIGINAL-URL:https://stjomo.com
X-WR-CALDESC:Events for St. Joseph, MO Convention &amp; Visitors Bureau
REFRESH-INTERVAL;VALUE=DURATION:PT1H
X-Robots-Tag:noindex
X-PUBLISHED-TTL:PT1H
BEGIN:VTIMEZONE
TZID:America/Chicago
BEGIN:DAYLIGHT
TZOFFSETFROM:-0600
TZOFFSETTO:-0500
TZNAME:CDT
DTSTART:20260308T080000
END:DAYLIGHT
BEGIN:STANDARD
TZOFFSETFROM:-0500
TZOFFSETTO:-0600
TZNAME:CST
DTSTART:20261101T070000
END:STANDARD
END:VTIMEZONE
BEGIN:VEVENT
DTSTART;TZID=America/Chicago:20260328T170000
DTEND;TZID=America/Chicago:20260328T170000
DTSTAMP:20260420T094624
CREATED:20260226T222521Z
LAST-MODIFIED:20260226T222521Z
UID:100765-1774717200-1774717200@stjomo.com
SUMMARY:Pony Express Chapter Big Game Banquet
DESCRIPTION:Join us for the Pony Express Chapter Big Game Banquet on Saturday\, March 28\, 2026 at 5:00 PM at Stoney Creek Hotel in Saint Joseph\, Missouri. Enjoy dinner\, great company\, and an exciting evening featuring exclusive prizes\, raffles\, and live and silent auctions. Proceeds support elk country conservation and help protect our hunting heritage. Seats sell out every year\, so purchase tickets early.
URL:https://stjomo.com/event/pony-express-big-game-banquet-2026/
LOCATION:Stoney Creek Hotel\, 1201 N Woodbine Rd\, Saint Joseph\, MO\, 64506\, United States
ATTACH;FMTTYPE=image/jpeg:https://stjomo.com/wp-content/uploads/2026/02/Pony-Express-chapter-Big-Game-Banquet.jpg
END:VEVENT
BEGIN:VEVENT
DTSTART;TZID=America/Chicago:20260328T183000
DTEND;TZID=America/Chicago:20260328T200000
DTSTAMP:20260420T094624
CREATED:20260319T202702Z
LAST-MODIFIED:20260319T202702Z
UID:101167-1774722600-1774728000@stjomo.com
SUMMARY:Cockarue Comedy Presents: 2026 Stand-up Comedy Competition
DESCRIPTION:Join CockaRue Comedy Presents for the 2026 Stand-up Comedy Competition\, Western Regionals Round 1\, on Saturday\, March 28\, 2026\, at Weston’s Garage in St. Joseph\, Missouri. Enjoy a night of live stand-up comedy as performers compete for a chance to advance in this regional competition. Audience members will have the opportunity to vote for their favorite comedian.
URL:https://stjomo.com/event/cockarue-comedy-competition-western-regionals-round-1/
LOCATION:Westons Garage Bar & Grill\, 3618 Charles Street\, Saint Joseph\, MO\, 64506\, United States
ATTACH;FMTTYPE=image/png:https://stjomo.com/wp-content/uploads/2026/03/CockaRue-Comedy-Presents-Western-Regionals.png
ORGANIZER;CN="CockaRue Comedy":MAILTO:boneythecockarue@gmail.com
END:VEVENT
BEGIN:VEVENT
DTSTART;TZID=America/Chicago:20260328T200000
DTEND;TZID=America/Chicago:20260328T200000
DTSTAMP:20260420T094624
CREATED:20260226T173026Z
LAST-MODIFIED:20260226T173026Z
UID:100690-1774728000-1774728000@stjomo.com
SUMMARY:Explore The Haunted Glore Psychiatric Museum
DESCRIPTION:Join us for a spooky night at the Glore Psychiatric Museum in St. Joseph\, Missouri. This after-hours experience invites you to explore the museum once the doors are closed to the public\, including the hallways\, tunnels\, and morgue. Guests will take part in a guided paranormal investigation using professional equipment\, learn basic investigation techniques\, and have time for free-roam exploration throughout the building. \nThis event is designed for both first-time guests and experienced investigators who want a unique\, hands-on experience inside one of Missouri’s most talked-about locations. Tickets are limited to 24 participants and attendees must be 18 or older. \nEvent details: Saturday\, March 28\, 2026. Doors lock promptly at 8:00 PM. The investigation runs until 12:45 AM\, and all guests must be off the property by 1:00 AM. No refunds. A valid government-issued ID is required. No alcohol or illegal substances are permitted\, and disrespectful behavior will not be tolerated. The venue has heat and air conditioning and includes elevator access.
URL:https://stjomo.com/event/explore-haunted-glore-psychiatric-museum/
LOCATION:Glore Psychiatric Museum\, 3406 Frederick Avenue\, St Joseph\, MO\, 64506\, United States
ATTACH;FMTTYPE=image/png:https://stjomo.com/wp-content/uploads/2026/02/Explore-The-Haunted-Glore-Psychiatric-Museum.png
ORGANIZER;CN="EPIC VIP Events%2C LLC with The Mysterious Mike & Sam":MAILTO:mysterious.mike.sam@gmail.com
END:VEVENT
END:VCALENDAR