BEGIN:VCALENDAR
VERSION:2.0
PRODID:-//St. Joseph, MO Convention &amp; Visitors Bureau - ECPv6.6.4.2//NONSGML v1.0//EN
CALSCALE:GREGORIAN
METHOD:PUBLISH
X-WR-CALNAME:St. Joseph, MO Convention &amp; Visitors Bureau
X-ORIGINAL-URL:https://stjomo.com
X-WR-CALDESC:Events for St. Joseph, MO Convention &amp; Visitors Bureau
REFRESH-INTERVAL;VALUE=DURATION:PT1H
X-Robots-Tag:noindex
X-PUBLISHED-TTL:PT1H
BEGIN:VTIMEZONE
TZID:America/Chicago
BEGIN:DAYLIGHT
TZOFFSETFROM:-0600
TZOFFSETTO:-0500
TZNAME:CDT
DTSTART:20260308T080000
END:DAYLIGHT
BEGIN:STANDARD
TZOFFSETFROM:-0500
TZOFFSETTO:-0600
TZNAME:CST
DTSTART:20261101T070000
END:STANDARD
END:VTIMEZONE
BEGIN:VEVENT
DTSTART;TZID=America/Chicago:20260411T190000
DTEND;TZID=America/Chicago:20260411T220000
DTSTAMP:20260425T220634
CREATED:20260330T195432Z
LAST-MODIFIED:20260330T195432Z
UID:101485-1775934000-1775944800@stjomo.com
SUMMARY:Tim Leland LIVE
DESCRIPTION:Join us at River Bluff Brewing on Saturday\, April 11\, 2026\, for an evening of live music with Tim Leland. The show starts at 7:00 PM and runs until 10:00 PM. Admission is free\, so come enjoy great local music\, cold drinks\, and a fun night out in St. Joseph.
URL:https://stjomo.com/event/tim-leland-live-river-bluff-brewing-st-joseph-mo-april-2026tim-leland-live-river-bluff-brewing-st-joseph-mo-april-2026/
LOCATION:River Bluff Brewing\, 1224 Frederick Ave.\, Saint Joseph\, MO\, 64501\, United States
ATTACH;FMTTYPE=image/jpeg:https://stjomo.com/wp-content/uploads/2026/03/Tim-Leland-Live.jpg
END:VEVENT
END:VCALENDAR