BEGIN:VCALENDAR
VERSION:2.0
PRODID:-//St. Joseph, MO Convention &amp; Visitors Bureau - ECPv6.6.4.2//NONSGML v1.0//EN
CALSCALE:GREGORIAN
METHOD:PUBLISH
X-WR-CALNAME:St. Joseph, MO Convention &amp; Visitors Bureau
X-ORIGINAL-URL:https://stjomo.com
X-WR-CALDESC:Events for St. Joseph, MO Convention &amp; Visitors Bureau
REFRESH-INTERVAL;VALUE=DURATION:PT1H
X-Robots-Tag:noindex
X-PUBLISHED-TTL:PT1H
BEGIN:VTIMEZONE
TZID:America/Chicago
BEGIN:DAYLIGHT
TZOFFSETFROM:-0600
TZOFFSETTO:-0500
TZNAME:CDT
DTSTART:20260308T080000
END:DAYLIGHT
BEGIN:STANDARD
TZOFFSETFROM:-0500
TZOFFSETTO:-0600
TZNAME:CST
DTSTART:20261101T070000
END:STANDARD
END:VTIMEZONE
BEGIN:VEVENT
DTSTART;VALUE=DATE:20260424
DTEND;VALUE=DATE:20260426
DTSTAMP:20260422T221043
CREATED:20260409T152401Z
LAST-MODIFIED:20260409T152401Z
UID:101655-1776988800-1777161599@stjomo.com
SUMMARY:Circle the Wagons - New Exhibit Displays
DESCRIPTION:Explore new exhibit displays at the Pony Express Stables on April 24 and 25 from 9 AM to 5 PM. Join Huston and Megan Wyeth as they share a rare 1915 Wyeth Annual Catalog\, Saddle Edition No. 112\, from the Wyeth Hardware and Manufacturing Company of St. Joseph\, Missouri. The catalog will be displayed near the horses in the stalls following the Moment in Time. Guests can also experience an expanded Stormy Dodger wooden horse exhibit featuring Louis Killackey’s story about his wooden horse. Admission is free both days. Sponsored as part of the United States 250th anniversary celebration\, this special event invites visitors to revisit key Pony Express moments\, including the record setting delivery of Abraham Lincoln’s inaugural address and a historic letter urging California not to secede from the Union.
URL:https://stjomo.com/event/circle-the-wagons-new-exhibit-displays/
LOCATION:Pony Express National Museum\, 914 Penn St.\, St. Joseph\, MO\, 64503\, United States
ATTACH;FMTTYPE=image/jpeg:https://stjomo.com/wp-content/uploads/2026/04/Circle-the-Wagons.jpg
END:VEVENT
END:VCALENDAR